BEGIN:VCALENDAR
VERSION:2.0
PRODID:-//Vaccine Choice Canada - ECPv6.12.0.1//NONSGML v1.0//EN
CALSCALE:GREGORIAN
METHOD:PUBLISH
X-ORIGINAL-URL:https://vaccinechoicecanada.com
X-WR-CALDESC:Events for Vaccine Choice Canada
REFRESH-INTERVAL;VALUE=DURATION:PT1H
X-Robots-Tag:noindex
X-PUBLISHED-TTL:PT1H
BEGIN:VTIMEZONE
TZID:America/Toronto
BEGIN:DAYLIGHT
TZOFFSETFROM:-0500
TZOFFSETTO:-0400
TZNAME:EDT
DTSTART:20220313T070000
END:DAYLIGHT
BEGIN:STANDARD
TZOFFSETFROM:-0400
TZOFFSETTO:-0500
TZNAME:EST
DTSTART:20221106T060000
END:STANDARD
END:VTIMEZONE
BEGIN:VEVENT
DTSTART;TZID=America/Toronto:20221109T203000
DTEND;TZID=America/Toronto:20221109T213000
DTSTAMP:20260419T204244
CREATED:20221108T063318Z
LAST-MODIFIED:20221206T082028Z
UID:22454-1668025800-1668029400@vaccinechoicecanada.com
SUMMARY:VCC Live Wed - Guest: Tish Conlin
DESCRIPTION:How You Can Detox and Live a Better Life\n \nDon’t miss this critical interview with TISH CONLIN\, speaker\, politician\, Reiki practitioner\, Registered Holistic Nutritionist and Author of THE ABCs of FOOD. Tish will be talking about how we can detox from our environment\, our food and what is being put into our veins. You need to know this! Alan Brough will be hosting this interview. \nBio:\nTish Conlin is a Business Owner\, Author and Speaker. She is a Registered Holistic Nutritionist and Author of ABCs of FOOD: Boost your energy\, confidence and success with the power of Nutrition. Tish was the first woman in Canada to get her black belt in Shoot Wrestling. She is a Certified Emotional Intelligence Trainer\, Reiki and Rife Practitioner and Professional Speaker on health and resilience.. Tish was called to step into the Freedom fight in early 2021 and has dedicated her time for the past 2 years helping to educate people on the agenda\, working for political accountability and stopping the clot shot\, and helping people detox from the toxins in our environment and food. She ran for PPC in the federal election in 2021 and is currently the PPC Candidate for Durham. She supports farmers and regenerative farming\, freedom gardens and self-reliance. She runs a small detox clinic in Port Perry and speaks regularly at events and rallies. She is the host of a Podcast called TishTalk and her channels which can be found on Spotify\, Apple Podcasts\, Rumble\, Bitchute and Brighteon channels. \nhttps://www.tishconlin.com/coaching
URL:https://vaccinechoicecanada.com/event/how-you-can-detox-and-live-a-better-life-guest-tish-conlin/
CATEGORIES:Live Guests,Vaccine Choice Canada
ORGANIZER;CN="Vaccine Choice Canada":MAILTO:info@vaccinechoicecanada.com
END:VEVENT
END:VCALENDAR