BEGIN:VCALENDAR
VERSION:2.0
PRODID:-//Vaccine Choice Canada - ECPv6.12.0.1//NONSGML v1.0//EN
CALSCALE:GREGORIAN
METHOD:PUBLISH
X-WR-CALNAME:Vaccine Choice Canada
X-ORIGINAL-URL:https://vaccinechoicecanada.com
X-WR-CALDESC:Events for Vaccine Choice Canada
REFRESH-INTERVAL;VALUE=DURATION:PT1H
X-Robots-Tag:noindex
X-PUBLISHED-TTL:PT1H
BEGIN:VTIMEZONE
TZID:America/Toronto
BEGIN:DAYLIGHT
TZOFFSETFROM:-0500
TZOFFSETTO:-0400
TZNAME:EDT
DTSTART:20250309T070000
END:DAYLIGHT
BEGIN:STANDARD
TZOFFSETFROM:-0400
TZOFFSETTO:-0500
TZNAME:EST
DTSTART:20251102T060000
END:STANDARD
END:VTIMEZONE
BEGIN:VTIMEZONE
TZID:America/Vancouver
BEGIN:DAYLIGHT
TZOFFSETFROM:-0800
TZOFFSETTO:-0700
TZNAME:PDT
DTSTART:20250309T100000
END:DAYLIGHT
BEGIN:STANDARD
TZOFFSETFROM:-0700
TZOFFSETTO:-0800
TZNAME:PST
DTSTART:20251102T090000
END:STANDARD
END:VTIMEZONE
BEGIN:VEVENT
DTSTART;TZID=America/Toronto:20250107T200000
DTEND;TZID=America/Toronto:20250107T210000
DTSTAMP:20260419T170303
CREATED:20241204T010754Z
LAST-MODIFIED:20241218T013547Z
UID:41520-1736280000-1736283600@vaccinechoicecanada.com
SUMMARY:NEW SERIES - VCC-CHA Live Tue: Understanding Smallpox and Polio
DESCRIPTION:New Series – Raising Healthy Children\n\nIn 2025 we launch a series of interviews hosted by VCC President\, Ted Kuntz and Dr. Stephen Malthouse. Raising healthy children in today’s world creates many challenges. Together with special guests\, Ted and Dr. Malthouse will de-mystify the illnesses we have been taught to fear and provide guidance on healing and maintaining optimum health. This series will empower families to have confidence in the choices they make to manage their own healthcare. \nJanuary 7th – Understanding Smallpox and Polio\nTed Kuntz and Dr. Stephen Malthouse will be joined by Dr. Suzanne Humphries and Roman Bystrianyk\, co-authors of the ground-breaking book Dissolving Illusions: Disease\, Vaccines and the Forgotten History. Their discussion will focus on smallpox and polio\, the two diseases that are most often cited as proof of the effectiveness of vaccines. Join us to find out if vaccines eradicated these much-feared diseases and contribute to raising healthy children. \n\nRegister \nBiographies: \nDr. Suzanne Humphries is a medical doctor\, board-certified Internist and Nephrologist. She is co-author of the books Dissolving Illusions: Disease\, Vaccines and the Forgotten History 10th Anniversary Edition and Dissolving Illusions Companion and Reference. Dr. Humphries has worked tirelessly to dispel the mythology surrounding vaccination. Be sure to check out her autobiography\, Rising From The Dead\, as well as her Odysee channel. \nhttps://drsuzanne.net/\nhttps://dissolvingillusions.com/ \nRoman Bystrianyk\, a dedicated researcher in the history of diseases and vaccines since 1998\, brings a wealth of interdisciplinary expertise to his work\, encompassing health\, nutrition\, history\, and science. With a B.S. in engineering and an M.S. in computer science\, he offers a distinctive perspective that bridges these fields\, as reflected in his authorship of Dissolving Illusions\, Dissolving Illusions 10th Anniversary Edition\, and Dissolving Illusions Companion and Reference. Expanding his focus\, he\, in collaboration with co-author Kate Schmutter\, presents Moving Back from Midnight. This compelling and deeply researched work addresses critical global issues\, including the destruction of our oceans\, the collapse of the Amazon and other rainforests\, the crisis of plastic pollution\, the rapid retreat of glaciers worldwide\, and more\, urging action to confront these urgent challenges. \nhttps://romanbystrianyk.substack.com/\nhttps://dissolvingillusions.com/ \nDr. Stephen Malthouse practiced family medicine in Canada for 45 years\, integrating the best of conventional and complementary therapies\, with a special interest in homeopathic medicine. A long-time supporter of Vaccine Choice Canada\, in 2021 he spearheaded the Doctors on Tour\, speaking out across western Canada to expose the dangers of the covid shots\, especially for children. In his presentation on the Future of Medicine at the Romanian Parliament in 2023\, Dr Malthouse identified the need for a new healing paradigm and called for a moratorium on all childhood vaccinations. In 2024\, Dr Malthouse testified at the National Citizens Inquiry on the dangers of childhood vaccines. He is founding President of the Canadian Integrative Medicine Association and past President of the Canada Health Alliance. \nTed Kuntz M.Ed is a father\, grandfather\, medical choice activist\, accomplished author\, educator and retired psychotherapist. His books include: Dare to Question\, Peace Begins with Me\, How Can I Wake Up When I Don’t Know I’m Asleep and A New Parents Guide to Understanding Vaccination. Ted’s journey to examine the claims of the vaccine industry began after his son Joshua was severely injured by the DPT injection. His years of research have revealed the many lies we have been told about the safety\, effectiveness and necessity of vaccinations. Ted believes that the effort to deny citizens their right to make medical decisions for themselves and their children is one of the greatest threats to humanity today and he is committed to protecting medical choice and demanding accountability of public health and our government. Ted is the current President of Vaccine Choice Canada and Chair of the National Citizens Inquiry. \nhttps://substack.com/@tedkuntz444229\nhttps://uptoeveryone.com/collections/books
URL:https://vaccinechoicecanada.com/event/new-series-live-tue-a-panel-discussion-with-dr-suzanne-humphries-roman-bystrianyk-dr-stephen-malthouse-ted-kuntz/
CATEGORIES:Live Guests
ORGANIZER;CN="Vaccine Choice Canada":MAILTO:info@vaccinechoicecanada.com
END:VEVENT
BEGIN:VEVENT
DTSTART;TZID=America/Vancouver:20250109T190000
DTEND;TZID=America/Vancouver:20250109T200000
DTSTAMP:20260419T170303
CREATED:20241204T134157Z
LAST-MODIFIED:20241204T142916Z
UID:41530-1736449200-1736452800@vaccinechoicecanada.com
SUMMARY:Open Discussion Meeting (Pacific Time)
DESCRIPTION:Open Discussion\nWe have restarted VCC Open Discussion meetings again. The meetings are being held every second Thursday and now alternate between Eastern and Pacific Time. This way we can connect at a time that works for the VCC family across the country. Of course all are welcome at both meetings. We are looking forward to having this time with you all again. \nRegister
URL:https://vaccinechoicecanada.com/event/open-discussion-meeting-western/
CATEGORIES:Open Discussions
ORGANIZER;CN="Vaccine Choice Canada":MAILTO:info@vaccinechoicecanada.com
END:VEVENT
BEGIN:VEVENT
DTSTART;TZID=America/Toronto:20250114T200000
DTEND;TZID=America/Toronto:20250114T210000
DTSTAMP:20260419T170303
CREATED:20250102T185048Z
LAST-MODIFIED:20250102T191116Z
UID:41605-1736884800-1736888400@vaccinechoicecanada.com
SUMMARY:VCC-CHA Live Tue - Webinar Guest: Shirley Guertin
DESCRIPTION:Influenza Banished with Homeopathy\n \nIn this webinar\, Shirley Guertin will share her experience using homeopathy to manage an influenza outbreak in her horse stable. Her remarkable results testify to the power of homeopathy in treating both animals and humans and demonstrate the effectiveness and affordability of homeopathic medicines. \nRegister \nShirley Guertin’s Bio and Upcoming 10 Week Course Information: \nIn August 2022\, I relocated from Ottawa to British Columbia after 49 years running a horse-riding school\, breeding Canadian Sport Horses and Australian Shepherds\, and earning national recognition as a High-Performance Coach and Dressage Judge. My homeopathy journey began in the mid-90s when it brought immediate relief to my sick child\, inspiring me to pursue formal studies with exceptional teachers.\nDuring my career\, I used homeopathy extensively on our 60-horse breeding farm\, treating injuries\, behavioral issues\, and other health concerns. This not only saved thousands in vet bills but also dramatically improved herd health. Now retired\, I’ve combined my passion for teaching and homeopathy to empower others to use this life-changing system for promoting the health of their families and animals. \nTwo entry-level courses are coming up: Homeopathy for People & Their Pets \n• Winter Course: Jan 23 to March 27\, Thursdays\, 4:00 pm PT/7:00 pm ET\n• Spring Course: April 3 to June 5\, Thursdays\, 5:00 pm PT/8:00 pm ET \nBoth courses run Thursday evenings for just over 2 hours each\, spanning 10 weeks.\nThe suggested cost is $320\, with a pay-what-you-can option available.\nEmail: ShirleyGuertin@protonmail.comto receive an information package and to register.
URL:https://vaccinechoicecanada.com/event/vcc-cha-live-tue-webinar-guest-shirley-guertin/
CATEGORIES:Live Guests
ORGANIZER;CN="Vaccine Choice Canada":MAILTO:info@vaccinechoicecanada.com
END:VEVENT
BEGIN:VEVENT
DTSTART;TZID=America/Toronto:20250123T190000
DTEND;TZID=America/Toronto:20250123T200000
DTSTAMP:20260419T170303
CREATED:20241204T135723Z
LAST-MODIFIED:20241204T143054Z
UID:41537-1737658800-1737662400@vaccinechoicecanada.com
SUMMARY:VCC Live Thu - Open Discussion Meeting (Eastern Time)
DESCRIPTION:Open Discussion\nWe have restarted VCC Open Discussion meetings again. The meetings are being held every second Thursday and now alternate between Eastern and Pacific Time. This way we can connect at a time that works for the VCC family across the country. Of course all are welcome at both meetings. We are looking forward to having this time with you all again. \nRegister
URL:https://vaccinechoicecanada.com/event/vcc-live-thu-open-discussion-meeting-eastern-time/
CATEGORIES:Open Discussions
ORGANIZER;CN="Vaccine Choice Canada":MAILTO:info@vaccinechoicecanada.com
END:VEVENT
END:VCALENDAR