BEGIN:VCALENDAR
VERSION:2.0
PRODID:-//Vaccine Choice Canada - ECPv6.12.0.1//NONSGML v1.0//EN
CALSCALE:GREGORIAN
METHOD:PUBLISH
X-WR-CALNAME:Vaccine Choice Canada
X-ORIGINAL-URL:https://vaccinechoicecanada.com
X-WR-CALDESC:Events for Vaccine Choice Canada
REFRESH-INTERVAL;VALUE=DURATION:PT1H
X-Robots-Tag:noindex
X-PUBLISHED-TTL:PT1H
BEGIN:VTIMEZONE
TZID:America/Toronto
BEGIN:DAYLIGHT
TZOFFSETFROM:-0500
TZOFFSETTO:-0400
TZNAME:EDT
DTSTART:20240310T070000
END:DAYLIGHT
BEGIN:STANDARD
TZOFFSETFROM:-0400
TZOFFSETTO:-0500
TZNAME:EST
DTSTART:20241103T060000
END:STANDARD
END:VTIMEZONE
BEGIN:VEVENT
DTSTART;TZID=America/Toronto:20241203T200000
DTEND;TZID=America/Toronto:20241203T210000
DTSTAMP:20260419T184545
CREATED:20241106T001305Z
LAST-MODIFIED:20241129T212351Z
UID:41428-1733256000-1733259600@vaccinechoicecanada.com
SUMMARY:NEW SERIES - Live Tue: What Is Making Our Children Sick?
DESCRIPTION:A Panel Discussion with Dr Stephen Malthouse\, Dr Michelle Perro\, and Ted Kuntz\n \nThe reality is that 1 in 2 children today has a chronic health condition. In spite\, or maybe because of modern medicine and food\, our children are the sickest generation ever. Learn the sources of the chronic disease and how we can raise healthy children. \nRegister
URL:https://vaccinechoicecanada.com/event/what-is-making-our-children-sick/
CATEGORIES:Live Guests
ORGANIZER;CN="Vaccine Choice Canada":MAILTO:info@vaccinechoicecanada.com
END:VEVENT
BEGIN:VEVENT
DTSTART;TZID=America/Toronto:20241210T200000
DTEND;TZID=America/Toronto:20241210T210000
DTSTAMP:20260419T184545
CREATED:20241129T210711Z
LAST-MODIFIED:20241129T212202Z
UID:41495-1733860800-1733864400@vaccinechoicecanada.com
SUMMARY:VCC-CHA Live Tue - Guest: Ann Shivas
DESCRIPTION:Epigenetics – And How It Impacts Your Health!\n \nEpigenetics is the study of how cells control gene activity and how modifications to our DNA can turn on or off our genes\, which is very serious for our health and wellbeing. To learn about why this is so important and all the things that can impact and interfere with our epigenetics join this fascinating discussion with Dr. Ann Shivas. Ann is a leading epigenetic expert\, the founder of LifeLift and\, having started her career as a pro-soccer player\, she is now an osteopath with a busy practice on Vancouver Island. \nhttps://www.onthegoosteo.com/  \nRegister
URL:https://vaccinechoicecanada.com/event/vcc-cha-live-tue-dec-10-guest-ann-shivas/
CATEGORIES:Live Guests
ORGANIZER;CN="Vaccine Choice Canada":MAILTO:info@vaccinechoicecanada.com
END:VEVENT
BEGIN:VEVENT
DTSTART;TZID=America/Toronto:20241219T190000
DTEND;TZID=America/Toronto:20241219T200000
DTSTAMP:20260419T184545
CREATED:20241208T234446Z
LAST-MODIFIED:20241208T234446Z
UID:41554-1734634800-1734638400@vaccinechoicecanada.com
SUMMARY:Open Discussion Meeting (Eastern Time)
DESCRIPTION:Open Discussion\nWe have restarted VCC Open Discussion meetings again. The meetings are being held every second Thursday and now alternate between Eastern and Pacific Time. This way we can connect at a time that works for the VCC family across the country. Of course all are welcome at both meetings. We are looking forward to having this time with you all again. \nRegister
URL:https://vaccinechoicecanada.com/event/open-discussion-meeting-eastern-time-2/
CATEGORIES:Open Discussions
ORGANIZER;CN="Vaccine Choice Canada":MAILTO:info@vaccinechoicecanada.com
END:VEVENT
END:VCALENDAR