BEGIN:VCALENDAR
VERSION:2.0
PRODID:-//Vaccine Choice Canada - ECPv6.12.0.1//NONSGML v1.0//EN
CALSCALE:GREGORIAN
METHOD:PUBLISH
X-WR-CALNAME:Vaccine Choice Canada
X-ORIGINAL-URL:https://vaccinechoicecanada.com
X-WR-CALDESC:Events for Vaccine Choice Canada
REFRESH-INTERVAL;VALUE=DURATION:PT1H
X-Robots-Tag:noindex
X-PUBLISHED-TTL:PT1H
BEGIN:VTIMEZONE
TZID:America/Toronto
BEGIN:DAYLIGHT
TZOFFSETFROM:-0500
TZOFFSETTO:-0400
TZNAME:EDT
DTSTART:20230312T070000
END:DAYLIGHT
BEGIN:STANDARD
TZOFFSETFROM:-0400
TZOFFSETTO:-0500
TZNAME:EST
DTSTART:20231105T060000
END:STANDARD
BEGIN:DAYLIGHT
TZOFFSETFROM:-0500
TZOFFSETTO:-0400
TZNAME:EDT
DTSTART:20240310T070000
END:DAYLIGHT
BEGIN:STANDARD
TZOFFSETFROM:-0400
TZOFFSETTO:-0500
TZNAME:EST
DTSTART:20241103T060000
END:STANDARD
END:VTIMEZONE
BEGIN:VTIMEZONE
TZID:America/Vancouver
BEGIN:DAYLIGHT
TZOFFSETFROM:-0800
TZOFFSETTO:-0700
TZNAME:PDT
DTSTART:20230312T100000
END:DAYLIGHT
BEGIN:STANDARD
TZOFFSETFROM:-0700
TZOFFSETTO:-0800
TZNAME:PST
DTSTART:20231105T090000
END:STANDARD
BEGIN:DAYLIGHT
TZOFFSETFROM:-0800
TZOFFSETTO:-0700
TZNAME:PDT
DTSTART:20240310T100000
END:DAYLIGHT
BEGIN:STANDARD
TZOFFSETFROM:-0700
TZOFFSETTO:-0800
TZNAME:PST
DTSTART:20241103T090000
END:STANDARD
END:VTIMEZONE
BEGIN:VEVENT
DTSTART;TZID=America/Toronto:20240227T190000
DTEND;TZID=America/Toronto:20240227T200000
DTSTAMP:20260419T221544
CREATED:20240226T031607Z
LAST-MODIFIED:20240226T141129Z
UID:37843-1709060400-1709064000@vaccinechoicecanada.com
SUMMARY:VCC - CHA Live Tuesday - Guests: Amy Miller and Justine Tanguay
DESCRIPTION:Introducing REFORM Pharma\nTed Kuntz will be in conversation with Amy Miller and Justine Tanguay from REFORM Pharma. REFORM Pharma is a new initiative of Children’s Health Defense. Our goal is to systematically identify and remove the corrupt mechanisms that the pharmaceutical industry has woven deep into our government\, the media\, and the healthcare system. Guided by our Ten Point Plan:  https://reformpharmanow.org/10-point-plan/\, we will restore healthcare integrity. \nWebsite:  https://reformpharmanow.org/ \nZoom Link: Join Us
URL:https://vaccinechoicecanada.com/event/vcc-cha-live-tuesday-guests-amy-miller-and-justine-tanguay/
CATEGORIES:Live Guests
ORGANIZER;CN="Vaccine Choice Canada":MAILTO:info@vaccinechoicecanada.com
END:VEVENT
BEGIN:VEVENT
DTSTART;TZID=America/Toronto:20240222T190000
DTEND;TZID=America/Toronto:20240222T200000
DTSTAMP:20260419T221544
CREATED:20240123T214656Z
LAST-MODIFIED:20240220T210548Z
UID:37209-1708628400-1708632000@vaccinechoicecanada.com
SUMMARY:VCC Live Thursday - Open Discussion
DESCRIPTION:Join us for our last Thursday Open Discussion. We will be ending our Tuesday and Thursday evening open discussions after this week.\nThere are many demands for our time and energy and the Board of Directors of VCC has decided that there are other places where our time can have a greater impact. Two areas where we want to invest our resources more fully is the dissemination of our new book – A New Parent’s Guide to Understanding Vaccination and developing our Raising Nature’s Child initiative. \nThank you to all those who participated and hosted our Tuesday and Thursday open discussions. We invite you to hold open discussions in your own community\, preferably face to face. Should the need present itself\, we will once again hold open discussion evenings. \nRegister
URL:https://vaccinechoicecanada.com/event/vcc-live-thursday-open-discussion-15/
CATEGORIES:Open Discussions
ORGANIZER;CN="Vaccine Choice Canada":MAILTO:info@vaccinechoicecanada.com
END:VEVENT
BEGIN:VEVENT
DTSTART;TZID=America/Vancouver:20240220T190000
DTEND;TZID=America/Vancouver:20240220T200000
DTSTAMP:20260419T221544
CREATED:20240220T205702Z
LAST-MODIFIED:20240220T210143Z
UID:37746-1708455600-1708459200@vaccinechoicecanada.com
SUMMARY:VCC Live Tuesday - Open Discussion
DESCRIPTION:Join us for our last Tuesday Open Discussion. We will be ending our Tuesday and Thursday evening open discussions after this week.\nThere are many demands for our time and energy and the Board of Directors of VCC has decided that there are other places where our time can have a greater impact. Two areas where we want to invest our resources more fully is the dissemination of our new book – A New Parent’s Guide to Understanding Vaccination and developing our Raising Nature’s Child initiative. \nThank you to all those who participated and hosted our Tuesday and Thursday open discussions. We invite you to hold open discussions in your own community\, preferably face to face. Should the need present itself\, we will once again hold open discussion evenings. \nRegister
URL:https://vaccinechoicecanada.com/event/vcc-live-tuesday-open-discussion-11-2/
CATEGORIES:Open Discussions
ORGANIZER;CN="Vaccine Choice Canada":MAILTO:info@vaccinechoicecanada.com
END:VEVENT
BEGIN:VEVENT
DTSTART;TZID=America/Toronto:20240208T190000
DTEND;TZID=America/Toronto:20240208T200000
DTSTAMP:20260419T221544
CREATED:20240123T212640Z
LAST-MODIFIED:20240207T180050Z
UID:37207-1707418800-1707422400@vaccinechoicecanada.com
SUMMARY:VCC Live Thursday - 15 Minute Cities
DESCRIPTION:Join us to catch up with each other and share stories of action and encouragement. This week we will also be discussing 15 minute cities. Our Thursday Open Discussion takes place the second and fourth Thursday of every month. \nRegister
URL:https://vaccinechoicecanada.com/event/vcc-live-thursday-open-discussion-14/
CATEGORIES:Open Discussions
ORGANIZER;CN="Vaccine Choice Canada":MAILTO:info@vaccinechoicecanada.com
END:VEVENT
BEGIN:VEVENT
DTSTART;TZID=America/Vancouver:20240102T190000
DTEND;TZID=America/Vancouver:20240102T200000
DTSTAMP:20260419T221544
CREATED:20231212T184330Z
LAST-MODIFIED:20231212T184800Z
UID:36399-1704222000-1704225600@vaccinechoicecanada.com
SUMMARY:VCC Live Tuesday - Open Discussion
DESCRIPTION:Join us to catch up with each other and share stories of action and encouragement. Our Tuesday Open Discussion takes place weekly. \nRegister
URL:https://vaccinechoicecanada.com/event/vcc-live-tuesday-open-discussion-10/
CATEGORIES:Open Discussions
ORGANIZER;CN="Vaccine Choice Canada":MAILTO:info@vaccinechoicecanada.com
END:VEVENT
BEGIN:VEVENT
DTSTART;TZID=America/Toronto:20240125T190000
DTEND;TZID=America/Toronto:20240125T200000
DTSTAMP:20260419T221544
CREATED:20231212T190130Z
LAST-MODIFIED:20240116T122228Z
UID:36404-1706209200-1706212800@vaccinechoicecanada.com
SUMMARY:VCC Live Thursday - Guest: Luciana Stan
DESCRIPTION:Redox Signalling Molecules\n \nJoin us this evening for an informative presentation with our special guest\, Luciana Stan.  Luciana Stan is an Osteopathic Doctor\, a Craniosacral Therapist\, and a healer with over 20 years experience. She is always looking for new studies and new ways that can increase her patients’ health and make a difference in their lives. \nYou will learn about redox signalling molecules and their critical importance for our health and vitality\, as well as how age and different health conditions or procedures affect our redox. We will also discover the secret of how we can replenish the redox inside of our cells. \nRegister
URL:https://vaccinechoicecanada.com/event/vcc-live-thursday-open-discussion-13/
CATEGORIES:Open Discussions
ORGANIZER;CN="Vaccine Choice Canada":MAILTO:info@vaccinechoicecanada.com
END:VEVENT
BEGIN:VEVENT
DTSTART;TZID=America/Toronto:20240124T190000
DTEND;TZID=America/Toronto:20240124T200000
DTSTAMP:20260419T221544
CREATED:20240103T050939Z
LAST-MODIFIED:20240110T033934Z
UID:36544-1706122800-1706126400@vaccinechoicecanada.com
SUMMARY:VCC-CHA Live Wednesday - Guest: Dr. Sherri Tenpenny
DESCRIPTION:Dr. Sherri Tenpenny – Just Say No to Vaccines\n \nDr. Sherri J. Tenpenny DO\, is an osteopathic medical doctor with expertise in both emergency and integrative medicine. She was one of the first medical doctors to speak publicly about the dangers of vaccines and has dedicated the last twenty years to researching\, documenting\, and educating the public. Dr. Tenpenny’s writing\, courses and her on-line and in-person speaking engagements inspire and empower us to make informed choices about our healthcare and just say “No!” to vaccines. \nWebsite: drtenpenny.com \nRegister
URL:https://vaccinechoicecanada.com/event/vcc-cha-live-wednesday-guest-dr-sherri-tenpenny/
CATEGORIES:Live Guests
ORGANIZER;CN="Vaccine Choice Canada":MAILTO:info@vaccinechoicecanada.com
END:VEVENT
BEGIN:VEVENT
DTSTART;TZID=America/Vancouver:20240102T190000
DTEND;TZID=America/Vancouver:20240102T200000
DTSTAMP:20260419T221544
CREATED:20231212T184330Z
LAST-MODIFIED:20231212T184800Z
UID:36399-1704222000-1704225600@vaccinechoicecanada.com
SUMMARY:VCC Live Tuesday - Open Discussion
DESCRIPTION:Join us to catch up with each other and share stories of action and encouragement. Our Tuesday Open Discussion takes place weekly. \nRegister
URL:https://vaccinechoicecanada.com/event/vcc-live-tuesday-open-discussion-10/
CATEGORIES:Open Discussions
ORGANIZER;CN="Vaccine Choice Canada":MAILTO:info@vaccinechoicecanada.com
END:VEVENT
BEGIN:VEVENT
DTSTART;TZID=America/Vancouver:20240102T190000
DTEND;TZID=America/Vancouver:20240102T200000
DTSTAMP:20260419T221544
CREATED:20231212T184330Z
LAST-MODIFIED:20231212T184800Z
UID:36399-1704222000-1704225600@vaccinechoicecanada.com
SUMMARY:VCC Live Tuesday - Open Discussion
DESCRIPTION:Join us to catch up with each other and share stories of action and encouragement. Our Tuesday Open Discussion takes place weekly. \nRegister
URL:https://vaccinechoicecanada.com/event/vcc-live-tuesday-open-discussion-10/
CATEGORIES:Open Discussions
ORGANIZER;CN="Vaccine Choice Canada":MAILTO:info@vaccinechoicecanada.com
END:VEVENT
BEGIN:VEVENT
DTSTART;TZID=America/Toronto:20240111T190000
DTEND;TZID=America/Toronto:20240111T200000
DTSTAMP:20260419T221544
CREATED:20231212T185802Z
LAST-MODIFIED:20231212T185802Z
UID:36402-1704999600-1705003200@vaccinechoicecanada.com
SUMMARY:VCC Live Thursday - Open Discussion
DESCRIPTION:Join us to catch up with each other and share stories of action and encouragement. Our Thursday Open Discussion takes place the second and fourth Thursday of every month. \nRegister
URL:https://vaccinechoicecanada.com/event/vcc-live-thursday-open-discussion-12/
CATEGORIES:Open Discussions
ORGANIZER;CN="Vaccine Choice Canada":MAILTO:info@vaccinechoicecanada.com
END:VEVENT
BEGIN:VEVENT
DTSTART;TZID=America/Vancouver:20240102T190000
DTEND;TZID=America/Vancouver:20240102T200000
DTSTAMP:20260419T221544
CREATED:20231212T184330Z
LAST-MODIFIED:20231212T184800Z
UID:36399-1704222000-1704225600@vaccinechoicecanada.com
SUMMARY:VCC Live Tuesday - Open Discussion
DESCRIPTION:Join us to catch up with each other and share stories of action and encouragement. Our Tuesday Open Discussion takes place weekly. \nRegister
URL:https://vaccinechoicecanada.com/event/vcc-live-tuesday-open-discussion-10/
CATEGORIES:Open Discussions
ORGANIZER;CN="Vaccine Choice Canada":MAILTO:info@vaccinechoicecanada.com
END:VEVENT
BEGIN:VEVENT
DTSTART;TZID=America/Vancouver:20240102T190000
DTEND;TZID=America/Vancouver:20240102T200000
DTSTAMP:20260419T221544
CREATED:20231212T184330Z
LAST-MODIFIED:20231212T184800Z
UID:36399-1704222000-1704225600@vaccinechoicecanada.com
SUMMARY:VCC Live Tuesday - Open Discussion
DESCRIPTION:Join us to catch up with each other and share stories of action and encouragement. Our Tuesday Open Discussion takes place weekly. \nRegister
URL:https://vaccinechoicecanada.com/event/vcc-live-tuesday-open-discussion-10/
CATEGORIES:Open Discussions
ORGANIZER;CN="Vaccine Choice Canada":MAILTO:info@vaccinechoicecanada.com
END:VEVENT
BEGIN:VEVENT
DTSTART;TZID=America/Toronto:20231117T120000
DTEND;TZID=America/Toronto:20231117T140000
DTSTAMP:20260419T221544
CREATED:20231117T144215Z
LAST-MODIFIED:20231208T193648Z
UID:35699-1700222400-1700229600@vaccinechoicecanada.com
SUMMARY:Freedom Rising
DESCRIPTION:Friday Weekly Meeting\nFreedom Rising is a collaboration of leaders from across Canada and beyond who are dedicated to restoring our rights and freedoms. We meet every Friday at 9:00 – 11:00 AM PST / 12:00 – 2:00 PM EST. Our goal is to build alliances\, amplify initiatives\, avoid duplication and be supported and inspired. You can use the zoom link below to join us each week. Invite Link \nFurther information on Freedom Rising is available at: https://freedomrising.info/
URL:https://vaccinechoicecanada.com/event/freedom-rising-friday-weekly-meeting/
CATEGORIES:Other Events
ORGANIZER;CN="Vaccine Choice Canada":MAILTO:info@vaccinechoicecanada.com
END:VEVENT
BEGIN:VEVENT
DTSTART;TZID=America/Toronto:20231117T120000
DTEND;TZID=America/Toronto:20231117T140000
DTSTAMP:20260419T221544
CREATED:20231117T144215Z
LAST-MODIFIED:20231208T193648Z
UID:35699-1700222400-1700229600@vaccinechoicecanada.com
SUMMARY:Freedom Rising
DESCRIPTION:Friday Weekly Meeting\nFreedom Rising is a collaboration of leaders from across Canada and beyond who are dedicated to restoring our rights and freedoms. We meet every Friday at 9:00 – 11:00 AM PST / 12:00 – 2:00 PM EST. Our goal is to build alliances\, amplify initiatives\, avoid duplication and be supported and inspired. You can use the zoom link below to join us each week. Invite Link \nFurther information on Freedom Rising is available at: https://freedomrising.info/
URL:https://vaccinechoicecanada.com/event/freedom-rising-friday-weekly-meeting/
CATEGORIES:Other Events
ORGANIZER;CN="Vaccine Choice Canada":MAILTO:info@vaccinechoicecanada.com
END:VEVENT
BEGIN:VEVENT
DTSTART;TZID=America/Toronto:20231220T190000
DTEND;TZID=America/Toronto:20231220T200000
DTSTAMP:20260419T221544
CREATED:20231128T182304Z
LAST-MODIFIED:20231212T194731Z
UID:36333-1703098800-1703102400@vaccinechoicecanada.com
SUMMARY:VCC-CHA Live Wednesday - Guest: Vera Sharav
DESCRIPTION:Vera Sharav: Never Again is Now Global\n \n Vera Sharav joins us to discuss her most recent accomplishment\, the release of a five-part docuseries\, Never Again is Now Global\, which she directed. It was produced by the organization she leads\, the Alliance for Human Research Protection\, (AHRP)  \nBeing a child survivor of the holocaust\, Vera recognized the similarities between government responses to covid and the nazi regime she experienced. In 2020\, she courageously spoke out\, raising the alarm on what she saw happening across the globe. Through her tireless efforts\, she reminds us all to resist the fear and propaganda that our government uses to manipulate us and to trust our intuition.   \nWatch the docuseries at Never Again Is Now Global.  \nRegister
URL:https://vaccinechoicecanada.com/event/vcc-cha-live-wednesday-guest-vera-sharav/
CATEGORIES:Live Guests
ORGANIZER;CN="Vaccine Choice Canada":MAILTO:info@vaccinechoicecanada.com
END:VEVENT
BEGIN:VEVENT
DTSTART;TZID=America/Vancouver:20231205T190000
DTEND;TZID=America/Vancouver:20231205T200000
DTSTAMP:20260419T221544
CREATED:20231128T180703Z
LAST-MODIFIED:20231202T224013Z
UID:36326-1701802800-1701806400@vaccinechoicecanada.com
SUMMARY:VCC Live Tuesday - Open Discussion
DESCRIPTION:Join us to catch up with each other and share stories of action and encouragement.  Our Tuesday Open Discussion takes place weekly. For the Christmas season\, there will be no meeting on December 26th. \nRegister
URL:https://vaccinechoicecanada.com/event/vcc-live-tuesday-open-discussion-9/
CATEGORIES:Open Discussions
ORGANIZER;CN="Vaccine Choice Canada":MAILTO:info@vaccinechoicecanada.com
END:VEVENT
BEGIN:VEVENT
DTSTART;TZID=America/Toronto:20231117T120000
DTEND;TZID=America/Toronto:20231117T140000
DTSTAMP:20260419T221544
CREATED:20231117T144215Z
LAST-MODIFIED:20231208T193648Z
UID:35699-1700222400-1700229600@vaccinechoicecanada.com
SUMMARY:Freedom Rising
DESCRIPTION:Friday Weekly Meeting\nFreedom Rising is a collaboration of leaders from across Canada and beyond who are dedicated to restoring our rights and freedoms. We meet every Friday at 9:00 – 11:00 AM PST / 12:00 – 2:00 PM EST. Our goal is to build alliances\, amplify initiatives\, avoid duplication and be supported and inspired. You can use the zoom link below to join us each week. Invite Link \nFurther information on Freedom Rising is available at: https://freedomrising.info/
URL:https://vaccinechoicecanada.com/event/freedom-rising-friday-weekly-meeting/
CATEGORIES:Other Events
ORGANIZER;CN="Vaccine Choice Canada":MAILTO:info@vaccinechoicecanada.com
END:VEVENT
BEGIN:VEVENT
DTSTART;TZID=America/Toronto:20231214T190000
DTEND;TZID=America/Toronto:20231214T200000
DTSTAMP:20260419T221544
CREATED:20231128T181440Z
LAST-MODIFIED:20231205T142453Z
UID:36331-1702580400-1702584000@vaccinechoicecanada.com
SUMMARY:VCC Live Thursday - Open Discussion
DESCRIPTION:Join us to catch up with each other and share stories of action and encouragement.  Our Thursday Open Discussion takes place the second and fourth Thursday of every month.   \nRegister
URL:https://vaccinechoicecanada.com/event/vcc-live-thursday-open-discussion-11/
CATEGORIES:Open Discussions
ORGANIZER;CN="Vaccine Choice Canada":MAILTO:info@vaccinechoicecanada.com
END:VEVENT
BEGIN:VEVENT
DTSTART;TZID=America/Vancouver:20231205T190000
DTEND;TZID=America/Vancouver:20231205T200000
DTSTAMP:20260419T221544
CREATED:20231128T180703Z
LAST-MODIFIED:20231202T224013Z
UID:36326-1701802800-1701806400@vaccinechoicecanada.com
SUMMARY:VCC Live Tuesday - Open Discussion
DESCRIPTION:Join us to catch up with each other and share stories of action and encouragement.  Our Tuesday Open Discussion takes place weekly. For the Christmas season\, there will be no meeting on December 26th. \nRegister
URL:https://vaccinechoicecanada.com/event/vcc-live-tuesday-open-discussion-9/
CATEGORIES:Open Discussions
ORGANIZER;CN="Vaccine Choice Canada":MAILTO:info@vaccinechoicecanada.com
END:VEVENT
BEGIN:VEVENT
DTSTART;TZID=America/Toronto:20231117T120000
DTEND;TZID=America/Toronto:20231117T140000
DTSTAMP:20260419T221544
CREATED:20231117T144215Z
LAST-MODIFIED:20231208T193648Z
UID:35699-1700222400-1700229600@vaccinechoicecanada.com
SUMMARY:Freedom Rising
DESCRIPTION:Friday Weekly Meeting\nFreedom Rising is a collaboration of leaders from across Canada and beyond who are dedicated to restoring our rights and freedoms. We meet every Friday at 9:00 – 11:00 AM PST / 12:00 – 2:00 PM EST. Our goal is to build alliances\, amplify initiatives\, avoid duplication and be supported and inspired. You can use the zoom link below to join us each week. Invite Link \nFurther information on Freedom Rising is available at: https://freedomrising.info/
URL:https://vaccinechoicecanada.com/event/freedom-rising-friday-weekly-meeting/
CATEGORIES:Other Events
ORGANIZER;CN="Vaccine Choice Canada":MAILTO:info@vaccinechoicecanada.com
END:VEVENT
BEGIN:VEVENT
DTSTART;TZID=America/Vancouver:20231205T190000
DTEND;TZID=America/Vancouver:20231205T200000
DTSTAMP:20260419T221544
CREATED:20231128T180703Z
LAST-MODIFIED:20231202T224013Z
UID:36326-1701802800-1701806400@vaccinechoicecanada.com
SUMMARY:VCC Live Tuesday - Open Discussion
DESCRIPTION:Join us to catch up with each other and share stories of action and encouragement.  Our Tuesday Open Discussion takes place weekly. For the Christmas season\, there will be no meeting on December 26th. \nRegister
URL:https://vaccinechoicecanada.com/event/vcc-live-tuesday-open-discussion-9/
CATEGORIES:Open Discussions
ORGANIZER;CN="Vaccine Choice Canada":MAILTO:info@vaccinechoicecanada.com
END:VEVENT
BEGIN:VEVENT
DTSTART;TZID=America/Toronto:20231117T120000
DTEND;TZID=America/Toronto:20231117T140000
DTSTAMP:20260419T221544
CREATED:20231117T144215Z
LAST-MODIFIED:20231208T193648Z
UID:35699-1700222400-1700229600@vaccinechoicecanada.com
SUMMARY:Freedom Rising
DESCRIPTION:Friday Weekly Meeting\nFreedom Rising is a collaboration of leaders from across Canada and beyond who are dedicated to restoring our rights and freedoms. We meet every Friday at 9:00 – 11:00 AM PST / 12:00 – 2:00 PM EST. Our goal is to build alliances\, amplify initiatives\, avoid duplication and be supported and inspired. You can use the zoom link below to join us each week. Invite Link \nFurther information on Freedom Rising is available at: https://freedomrising.info/
URL:https://vaccinechoicecanada.com/event/freedom-rising-friday-weekly-meeting/
CATEGORIES:Other Events
ORGANIZER;CN="Vaccine Choice Canada":MAILTO:info@vaccinechoicecanada.com
END:VEVENT
BEGIN:VEVENT
DTSTART;TZID=America/Vancouver:20231107T190000
DTEND;TZID=America/Vancouver:20231107T200000
DTSTAMP:20260419T221544
CREATED:20231024T192625Z
LAST-MODIFIED:20231024T193056Z
UID:35506-1699383600-1699387200@vaccinechoicecanada.com
SUMMARY:VCC Live Tuesday: Open Discussion
DESCRIPTION:Join us to catch up with each other and share stories of action and encouragement.  Our Tuesday Open Discussion takes place weekly. \nRegister
URL:https://vaccinechoicecanada.com/event/vcc-live-tuesday-open-discussion-8/
CATEGORIES:Open Discussions
ORGANIZER;CN="Vaccine Choice Canada":MAILTO:info@vaccinechoicecanada.com
END:VEVENT
BEGIN:VEVENT
DTSTART;TZID=America/Toronto:20231117T120000
DTEND;TZID=America/Toronto:20231117T140000
DTSTAMP:20260419T221544
CREATED:20231117T144215Z
LAST-MODIFIED:20231208T193648Z
UID:35699-1700222400-1700229600@vaccinechoicecanada.com
SUMMARY:Freedom Rising
DESCRIPTION:Friday Weekly Meeting\nFreedom Rising is a collaboration of leaders from across Canada and beyond who are dedicated to restoring our rights and freedoms. We meet every Friday at 9:00 – 11:00 AM PST / 12:00 – 2:00 PM EST. Our goal is to build alliances\, amplify initiatives\, avoid duplication and be supported and inspired. You can use the zoom link below to join us each week. Invite Link \nFurther information on Freedom Rising is available at: https://freedomrising.info/
URL:https://vaccinechoicecanada.com/event/freedom-rising-friday-weekly-meeting/
CATEGORIES:Other Events
ORGANIZER;CN="Vaccine Choice Canada":MAILTO:info@vaccinechoicecanada.com
END:VEVENT
BEGIN:VEVENT
DTSTART;TZID=America/Toronto:20231123T190000
DTEND;TZID=America/Toronto:20231123T200000
DTSTAMP:20260419T221544
CREATED:20231106T134828Z
LAST-MODIFIED:20231106T134828Z
UID:35564-1700766000-1700769600@vaccinechoicecanada.com
SUMMARY:VCC Live Thursday: Open Discussion
DESCRIPTION:Join us to catch up with each other and share stories of action and encouragement. Our Thursday Open Discussion takes place the second and fourth Thursday of every month. \nRegister
URL:https://vaccinechoicecanada.com/event/vcc-live-thursday-open-discussion-10/
CATEGORIES:Open Discussions
ORGANIZER;CN="Vaccine Choice Canada":MAILTO:info@vaccinechoicecanada.com
END:VEVENT
BEGIN:VEVENT
DTSTART;TZID=America/Toronto:20231122T190000
DTEND;TZID=America/Toronto:20231122T200000
DTSTAMP:20260419T221544
CREATED:20231024T193743Z
LAST-MODIFIED:20231101T110404Z
UID:35509-1700679600-1700683200@vaccinechoicecanada.com
SUMMARY:VCC-CHA Live Wednesday - Guest: Barbara Loe Fisher
DESCRIPTION:Barbara Loe Fisher and the National Vaccine Information Center\n \nBarbara Loe Fisher is co-founder and president of the National Vaccine Information Center (NVIC)\, a non-profit charity she founded with parents of vaccine injured children in 1982 to prevent vaccine injuries and deaths through public education. For the past four decades\, she has led a national\, grassroots movement and public information campaign to institute vaccine safety and informed consent protections in public health policies and laws. She is a researcher\, author\, consumer advocacy expert and the mother of a vaccine injured child.\nNVIC.org \nNVICAdvocacy.org \nTheVaccineReaction.org \nMedAlerts.org \nRegister
URL:https://vaccinechoicecanada.com/event/vcc-cha-live-wednesday-guest-barbara-loe-fisher/
CATEGORIES:Live Guests
ORGANIZER;CN="Vaccine Choice Canada":MAILTO:info@vaccinechoicecanada.com
END:VEVENT
BEGIN:VEVENT
DTSTART;TZID=America/Vancouver:20231107T190000
DTEND;TZID=America/Vancouver:20231107T200000
DTSTAMP:20260419T221544
CREATED:20231024T192625Z
LAST-MODIFIED:20231024T193056Z
UID:35506-1699383600-1699387200@vaccinechoicecanada.com
SUMMARY:VCC Live Tuesday: Open Discussion
DESCRIPTION:Join us to catch up with each other and share stories of action and encouragement.  Our Tuesday Open Discussion takes place weekly. \nRegister
URL:https://vaccinechoicecanada.com/event/vcc-live-tuesday-open-discussion-8/
CATEGORIES:Open Discussions
ORGANIZER;CN="Vaccine Choice Canada":MAILTO:info@vaccinechoicecanada.com
END:VEVENT
BEGIN:VEVENT
DTSTART;TZID=America/Toronto:20231117T120000
DTEND;TZID=America/Toronto:20231117T140000
DTSTAMP:20260419T221544
CREATED:20231117T144215Z
LAST-MODIFIED:20231208T193648Z
UID:35699-1700222400-1700229600@vaccinechoicecanada.com
SUMMARY:Freedom Rising
DESCRIPTION:Friday Weekly Meeting\nFreedom Rising is a collaboration of leaders from across Canada and beyond who are dedicated to restoring our rights and freedoms. We meet every Friday at 9:00 – 11:00 AM PST / 12:00 – 2:00 PM EST. Our goal is to build alliances\, amplify initiatives\, avoid duplication and be supported and inspired. You can use the zoom link below to join us each week. Invite Link \nFurther information on Freedom Rising is available at: https://freedomrising.info/
URL:https://vaccinechoicecanada.com/event/freedom-rising-friday-weekly-meeting/
CATEGORIES:Other Events
ORGANIZER;CN="Vaccine Choice Canada":MAILTO:info@vaccinechoicecanada.com
END:VEVENT
BEGIN:VEVENT
DTSTART;TZID=America/Vancouver:20231107T190000
DTEND;TZID=America/Vancouver:20231107T200000
DTSTAMP:20260419T221544
CREATED:20231024T192625Z
LAST-MODIFIED:20231024T193056Z
UID:35506-1699383600-1699387200@vaccinechoicecanada.com
SUMMARY:VCC Live Tuesday: Open Discussion
DESCRIPTION:Join us to catch up with each other and share stories of action and encouragement.  Our Tuesday Open Discussion takes place weekly. \nRegister
URL:https://vaccinechoicecanada.com/event/vcc-live-tuesday-open-discussion-8/
CATEGORIES:Open Discussions
ORGANIZER;CN="Vaccine Choice Canada":MAILTO:info@vaccinechoicecanada.com
END:VEVENT
BEGIN:VEVENT
DTSTART;TZID=America/Toronto:20231109T190000
DTEND;TZID=America/Toronto:20231109T200000
DTSTAMP:20260419T221544
CREATED:20231106T134403Z
LAST-MODIFIED:20231109T132134Z
UID:35562-1699556400-1699560000@vaccinechoicecanada.com
SUMMARY:VCC Live Thursday: Open Discussion (Cancelled for Tonight)
DESCRIPTION:We regret that we have to cancel our Thursday meeting tonight. We will see you in two weeks. \nRegister
URL:https://vaccinechoicecanada.com/event/vcc-live-thursday-open-discussion-9/
CATEGORIES:Open Discussions
ORGANIZER;CN="Vaccine Choice Canada":MAILTO:info@vaccinechoicecanada.com
END:VEVENT
END:VCALENDAR