BEGIN:VCALENDAR
VERSION:2.0
PRODID:-//Vaccine Choice Canada - ECPv6.12.0.1//NONSGML v1.0//EN
CALSCALE:GREGORIAN
METHOD:PUBLISH
X-ORIGINAL-URL:https://vaccinechoicecanada.com
X-WR-CALDESC:Events for Vaccine Choice Canada
REFRESH-INTERVAL;VALUE=DURATION:PT1H
X-Robots-Tag:noindex
X-PUBLISHED-TTL:PT1H
BEGIN:VTIMEZONE
TZID:America/Toronto
BEGIN:DAYLIGHT
TZOFFSETFROM:-0500
TZOFFSETTO:-0400
TZNAME:EDT
DTSTART:20250309T070000
END:DAYLIGHT
BEGIN:STANDARD
TZOFFSETFROM:-0400
TZOFFSETTO:-0500
TZNAME:EST
DTSTART:20251102T060000
END:STANDARD
BEGIN:DAYLIGHT
TZOFFSETFROM:-0500
TZOFFSETTO:-0400
TZNAME:EDT
DTSTART:20260308T070000
END:DAYLIGHT
BEGIN:STANDARD
TZOFFSETFROM:-0400
TZOFFSETTO:-0500
TZNAME:EST
DTSTART:20261101T060000
END:STANDARD
END:VTIMEZONE
BEGIN:VTIMEZONE
TZID:America/Vancouver
BEGIN:DAYLIGHT
TZOFFSETFROM:-0800
TZOFFSETTO:-0700
TZNAME:PDT
DTSTART:20260308T100000
END:DAYLIGHT
BEGIN:STANDARD
TZOFFSETFROM:-0700
TZOFFSETTO:-0800
TZNAME:PST
DTSTART:20261101T090000
END:STANDARD
END:VTIMEZONE
BEGIN:VEVENT
DTSTART;TZID=America/Toronto:20251104T200000
DTEND;TZID=America/Toronto:20251104T210000
DTSTAMP:20260419T080517
CREATED:20251016T211318Z
LAST-MODIFIED:20251027T151208Z
UID:43793-1762286400-1762290000@vaccinechoicecanada.com
SUMMARY:VCC-CHA Live Tue - Raising Healthy Children Series Guests: Bronwyn Hancock & Greg Glaser
DESCRIPTION:New Revelation from Vaccine vs No-Vaccine Study\nWho has a higher risk of death? Those who take a vaccine or those who decline it? Researcher Bronwyn Hancock and attorney Greg Glaser will join VCC President Ted Kuntz and Dr Stephen Malthouse to reveal the shocking conclusions they reached from new analysis of the 2020 Control Group study. These results should cause every parent to pause. Join us to hear what mainstream medical journals and the media won’t tell you. \nRegister \nBio: Greg Glaser \n \nFor the health freedom movement\, Greg Glaser serves as the General Counsel and National Coalition Director for Physicians for Informed Consent (PIC). PIC delivers data on infectious diseases and vaccines\, and unites doctors\, scientists\, healthcare professionals\, attorneys\, and families who oppose mandatory vaccination. https://physiciansforinformedconsent.org \nIn his daily law office work\, Greg helps families pro bono with vaccine exemptions\, and he litigates for constitutional rights. https://informedconsentdefense.org \nHe was called a ‘human vaccine encyclopedia’ for his work with the litigation team opposing the University of California’s mandatory flu shot. Indeed\, 15-years ago Greg advised colleagues that vaccines would be used during a future pandemic in violation of constitutional rights\, so he was on the frontlines litigating for freedom when Covid arrived. His team’s recent family friendly video about vaccine danger is circulated widely on social media: https://x.com/P_McCulloughMD/status/1781629466449522798 \nFor Children’s Health Defense\, Greg helped win a court order in 2024 confirming digital ID is not required to navigate a “smart city”\, as this 2-minute video highlights:\nhttps://live.childrenshealthdefense.org/chd-tv/events/smart-city-la-litigation-win/smart-city-la-litigation-win/ \nPassionate about organic living and Christianity\, Greg is a homesteader. He translated into English the oldest known copy on earth of the Book of Revelation (courtesy of the University of Manchester Special Collections Department) in the language of Christ and the apostles. https://www.dukhrana.com/crawford/ \nThat ancient language was featured in Mel Gibson’s film: The Passion of the Christ. \nBio: Bronwyn Hancock \nIn 1982 I was awarded a BSc (Macquarie University in Sydney)\, specialising in Computing. I obtained A grades in all analytical subjects\, including mathematics. I was then employed as a computer analyst/programmer for 16 years (1982-1998). During that period I pursued an interest in natural health\, including obtaining a Certificate of Nutrition in 1995. In 1996\, I began to pursue an interest specifically in vaccination\, focusing primarily on related medical research. I produced a video “Vaccination: The Hidden Truth” (1998) and soon afterwards authored a booklet “Vaccination – A Fatal Error”. In around 2014\, in order to try to assist in family law matters in which vaccination was a point of contention\, I began to focus especially on research of published data and government claims specifically relevant to conservative numerical analysis of the risk from non-vaccination compared to that from vaccination\, and conducted that analysis with increasing sophistication.
URL:https://vaccinechoicecanada.com/event/vcc-cha-live-tue-raising-healthy-children-series-guests-bronwyn-hancock-greg-glaser/
CATEGORIES:Live Guests
ORGANIZER;CN="Vaccine Choice Canada":MAILTO:info@vaccinechoicecanada.com
END:VEVENT
BEGIN:VEVENT
DTSTART;TZID=America/Toronto:20251118T200000
DTEND;TZID=America/Toronto:20251118T210000
DTSTAMP:20260419T080517
CREATED:20251016T212016Z
LAST-MODIFIED:20251119T150324Z
UID:43797-1763496000-1763499600@vaccinechoicecanada.com
SUMMARY:VCC-CHA Live Tue - Raising Healthy Children Guest: Dr. Larry Palevsky
DESCRIPTION:Health Secrets of a Holistic Pediatrician\nHolistic pediatrician\, Dr Larry Palevsky\, will join VCC President\, Ted Kuntz and Dr Stephen Malthouse to share his top tips for raising happy healthy children. Dr Palevsky is passionate about empowering parents with natural solutions to common health challenges. Don’t miss this chance to get inspired and learn how you can take charge of your family’s wellbeing. \nhttps://www.drpalevsky.com/index.html \nHere is the link to all Dr. Palevsky’s platforms. \nhttps://drlawrencepalevsky.taplink.ws/ \nRegister \nBio: \nAbout Lawrence B. Palevsky\, M.D. Pediatrician \nDr. Palevsky is a NYS licensed pediatrician\, who utilizes a holistic approach to children’s wellness and illness. Dr. Palevsky received his medical degree from the NYU School of Medicine in 1987\, completed a three-year pediatric residency at The Mount Sinai Hospital in NYC in 1990\, and served as a pediatric fellow in the ambulatory care out-patient department at Bellevue Hospital\, NYC\, from 1990-1991. Since 1991\, his clinical experience includes working in pediatric emergency and intensive care medicine\, in-patient\, and out-patient pediatric medicine\, neonatal intensive care medicine\, newborn and delivery room medicine\, and conventional\, holistic and integrative pediatric private practice. Dr. Palevsky is a diplomate of the American Board of Integrative Holistic Medicine\, and Past-President of the American Holistic Medical Association. He received his pediatric board certification in 1990\, and passed his pediatric board recertification exams in 1997\, 2004\, and 2011. \nIn his current pediatric practice\, Dr. Palevsky offers well-child examinations\, consultations and educational programs to families and practitioners in the areas of preventive and holistic health; childhood development; lifestyle changes; nutrition for adults\, infants and children; safe\, alternative treatments for common and difficult to treat acute and chronic pediatric and adult conditions; vaccination controversies; mindful parenting; and rethinking the medical paradigm. Additionally\, he teaches holistic integrative pediatric & adolescent medicine to parents\, and medical and allied health professionals\, both nationally & internationally\, and is available for speaking engagements worldwide.
URL:https://vaccinechoicecanada.com/event/vcc-cha-live-tue-raising-healthy-children-guest-dr-larry-palevsky/
CATEGORIES:Live Guests
ORGANIZER;CN="Vaccine Choice Canada":MAILTO:info@vaccinechoicecanada.com
END:VEVENT
BEGIN:VEVENT
DTSTART;TZID=America/Toronto:20251202T200000
DTEND;TZID=America/Toronto:20251202T210000
DTSTAMP:20260419T080517
CREATED:20251113T213911Z
LAST-MODIFIED:20251119T165654Z
UID:43927-1764705600-1764709200@vaccinechoicecanada.com
SUMMARY:VCC-CHA Live Tue - Raising Healthy Children Series Guest: Laura Hayes
DESCRIPTION:Why Are Vaccines Even Legal?\n \nLaura Hayes\, parent and long time vaccine risk awareness educator\, will join VCC President\, Ted Kuntz and Dr. Stephen Malthouse to share her thoughts on vaccinations. Laura passionately challenges the vaccines ideology. She has written powerful essays for the Age of Autism including: “Vaccines: What Is There to Be ‘Pro’ About?” and “Why Is This Legal?”. Laura and her husband Rick are generous supporters of Vaccine Choice Canada. Join us to be inspired by this powerful mother and learn how you can take charge of your family’s wellbeing. \nYou can read Laura Haye’s posts as a featured writer of the Age of Autism website below:\nhttps://ageofautism.com/category/featured-authors/laura-hayes/ \nRegister
URL:https://vaccinechoicecanada.com/event/vcc-cha-live-tue-raising-healthy-children-series-guest-laura-hayes/
CATEGORIES:Live Guests
ORGANIZER;CN="Vaccine Choice Canada":MAILTO:info@vaccinechoicecanada.com
END:VEVENT
BEGIN:VEVENT
DTSTART;TZID=America/Toronto:20251216T200000
DTEND;TZID=America/Toronto:20251216T210000
DTSTAMP:20260419T080517
CREATED:20251125T165233Z
LAST-MODIFIED:20251125T170832Z
UID:43967-1765915200-1765918800@vaccinechoicecanada.com
SUMMARY:VCC-CHA Live Tue - Guest: Darylle Virginia Dennis
DESCRIPTION:How ‘Quantum Living’ Unlocks Higher Perspective\, Intuitive Intelligence & Creativity\n \nOur special guest to end the year is Darylle Virginia Dennis\, author of the highly acclaimed book ‘Quantum Living\, Moving at the Speed of Life.’  In this life-changing discussion she will show us how we can awaken quantum consciousness to access higher-state life conditions and enhance our “new genius” to be able to transform our lives to ones of love\, bliss\, unity and inner peace. Don’t miss this LIVE call as it could literally be the start of a whole new life! \nWebsite: www.QuantumLeadership.Group \nRegister
URL:https://vaccinechoicecanada.com/event/vcc-cha-live-tue-guest-darylle-virginia-dennis/
CATEGORIES:Live Guests
ORGANIZER;CN="Vaccine Choice Canada":MAILTO:info@vaccinechoicecanada.com
END:VEVENT
BEGIN:VEVENT
DTSTART;TZID=America/Vancouver:20260120T080000
DTEND;TZID=America/Vancouver:20260120T170000
DTSTAMP:20260419T080517
CREATED:20260105T202954Z
LAST-MODIFIED:20260105T204816Z
UID:44163-1768896000-1768928400@vaccinechoicecanada.com
SUMMARY:VCC-CHA Live Tue National Zoom Meeting - Guest: Lesley Woo
DESCRIPTION:Are Autistic Kids Telepathic & What is ‘The Hill’ Where They Gather?\n \nThis is a MUST watch interview for anyone with autistic kids or who is interested in the Power of the Mind! Lesley is a holistic practitioner specialising in meditation\, reiki\, shamanic studies\, family constellations and somatic therapy. She has worked with a lot of autistic kids and has studied the strange emerging phenomenon of ‘The Hill’ where apparently these kids meet\, chat and play. Join us to find out what we know about ‘The Hill’ and participate in the live Q&A. \nWebsite: www.lesleywoohealing.com \nRegister
URL:https://vaccinechoicecanada.com/event/vcc-cha-live-tue-national-zoom-meeting-guest-lesley-woo/
CATEGORIES:Live Guests
ORGANIZER;CN="Vaccine Choice Canada":MAILTO:info@vaccinechoicecanada.com
END:VEVENT
BEGIN:VEVENT
DTSTART;TZID=America/Toronto:20260203T190000
DTEND;TZID=America/Toronto:20260203T200000
DTSTAMP:20260419T080517
CREATED:20260119T200726Z
LAST-MODIFIED:20260119T201327Z
UID:44214-1770145200-1770148800@vaccinechoicecanada.com
SUMMARY:VCC-CHA Live Tue - Raising Healthy Children Series Guest: Dr. Richard Moskowitz
DESCRIPTION:Is My Child Vaccine Injured? What You and Your Doctor May Have Missed.\n \nDr. Richard Moskowitz will join VCC President\, Ted Kuntz and Dr Stephen Malthouse to discuss why the adverse effects from vaccines can be so elusive and therefore easily missed\, a conclusion he reached during more than fifty years in family medical practice. In 2020\, he authored the book Vaccines: A Reappraisal to share what he had observed in his patients and his review of the scientific research. Dr Moskowitz is one of the few medical doctors who has publicly questioned and written about the risks of vaccines. \nRegister
URL:https://vaccinechoicecanada.com/event/vcc-cha-live-tue-raising-healthy-children-series-guest-dr-richard-moskowitz/
CATEGORIES:Live Guests
ORGANIZER;CN="Vaccine Choice Canada":MAILTO:info@vaccinechoicecanada.com
END:VEVENT
BEGIN:VEVENT
DTSTART;TZID=America/Toronto:20260210T200000
DTEND;TZID=America/Toronto:20260210T210000
DTSTAMP:20260419T080517
CREATED:20260202T170448Z
LAST-MODIFIED:20260209T222756Z
UID:44298-1770753600-1770757200@vaccinechoicecanada.com
SUMMARY:VCC-CHA Live Tue - Guest: Chanchal Cabrera
DESCRIPTION:A Medical Herbalist’s Perspective On How We Can Improve Our Health.\n \nChanchal is a medical herbalist specializing in holistic oncology. She has written several books including ‘Holistic Cancer Care’ and was the faculty chair in Botanical Medicine at the Boucher Institute of Naturopathic Medicine. She also lectures internationally on medical herbalism\, nutrition and health\, is a certified Shinrin Yoku practitioner and a certified Horticulture Therapist. Chanchal is one of the leading herbalists in Canada\, and on Feb. 10th she will be sharing her incredible knowledge with us! \nWebsite: https://chanchalcabrera.com/ \nRegister
URL:https://vaccinechoicecanada.com/event/vcc-cha-live-tue-guest-chanchal-cabrera/
CATEGORIES:Live Guests
ORGANIZER;CN="Vaccine Choice Canada":MAILTO:info@vaccinechoicecanada.com
END:VEVENT
BEGIN:VEVENT
DTSTART;TZID=America/Toronto:20260317T200000
DTEND;TZID=America/Toronto:20260317T210000
DTSTAMP:20260419T080517
CREATED:20260302T154039Z
LAST-MODIFIED:20260304T223932Z
UID:44362-1773777600-1773781200@vaccinechoicecanada.com
SUMMARY:VCC-CHA Live Tue - Raising Healthy Children Series Guest: Dr. Stephen Malthouse
DESCRIPTION:Throwing Caution to the Wind: Vaccination During Pregnancy with Dr Stephen Malthouse\nDr. Stephen Malthouse and VCC president Ted Kuntz will discuss the six vaccines recommended for pregnant women (and their unborn babies) in Canada. The Society of Obstetricians and Gynecologists now promotes vaccination against influenza\, COVID-19\, diphtheria\, tetanus\, pertussis and RSV (respiratory syncytial virus – a common cold virus). What is the evidence that these vaccines are “safe and effective” and what happened to the precautionary principle in medicine? Dr Malthouse will provide an in-depth review of the six vaccines currently recommended in pregnancy\, empowering parents with the information they need to make an informed choice. \nRegister
URL:https://vaccinechoicecanada.com/event/vcc-cha-live-tue-raising-healthy-children-series-guest-dr-stephen-malthouse/
CATEGORIES:Live Guests
ORGANIZER;CN="Vaccine Choice Canada":MAILTO:info@vaccinechoicecanada.com
END:VEVENT
BEGIN:VEVENT
DTSTART;TZID=America/Toronto:20260324T200000
DTEND;TZID=America/Toronto:20260324T210000
DTSTAMP:20260419T080517
CREATED:20260319T194810Z
LAST-MODIFIED:20260319T204344Z
UID:44483-1774382400-1774386000@vaccinechoicecanada.com
SUMMARY:VCC-CHA Live Tue National Zoom Meeting - Guest: Dr. Biz Bastian
DESCRIPTION:Energy Healer\n \nIn this fascinating conversation with Dr. Biz Bastian R.C.S. Hom.\, we will learn how our body’s energy systems influence stress\, resilience\, and overall wellbeing and what we can do about it. Dr. Bastian facilitates integrative health workshops and brings a grounded\, practical perspective to self-care\, energy balance\, and holistic well-being. She will also be a guest presenter at the SelfCare is Healthcare retreat conference in April. \nRegister
URL:https://vaccinechoicecanada.com/event/vcc-cha-live-tue-national-zoom-meeting-guest-dr-biz-bastian/
CATEGORIES:Live Guests
ORGANIZER;CN="Vaccine Choice Canada":MAILTO:info@vaccinechoicecanada.com
END:VEVENT
BEGIN:VEVENT
DTSTART;TZID=America/Toronto:20260331T200000
DTEND;TZID=America/Toronto:20260331T210000
DTSTAMP:20260419T080517
CREATED:20260319T200522Z
LAST-MODIFIED:20260319T204436Z
UID:44495-1774987200-1774990800@vaccinechoicecanada.com
SUMMARY:VCC-CHA Live Tue National Zoom Meeting - Guests: Dr. Magda Havas & Sheena Symington
DESCRIPTION:EMF & Wireless Radiation Experts\n \nIn this Tuesday LIVE call we are very privileged to have not just one leading world expert on the dangers of EMFs and 5G\, but TWO! Yes\, we are honoured to have both Magda Havas and Sheena Symington as our guests. They will be discussing the real dangers we are all facing from electromagnetic radiation and what we can do about it to improve our overall health\, wellbeing and longevity. \nRegister
URL:https://vaccinechoicecanada.com/event/vcc-cha-live-tue-national-zoom-meeting-guests-dr-magda-havas-sheena-symington/
CATEGORIES:Live Guests
ORGANIZER;CN="Vaccine Choice Canada":MAILTO:info@vaccinechoicecanada.com
END:VEVENT
BEGIN:VEVENT
DTSTART;TZID=America/Toronto:20260407T200000
DTEND;TZID=America/Toronto:20260407T200000
DTSTAMP:20260419T080517
CREATED:20260327T152359Z
LAST-MODIFIED:20260407T163053Z
UID:44528-1775592000-1775592000@vaccinechoicecanada.com
SUMMARY:VCC-CHA Live Tue - Guests: Dr. Stephen Malthouse & Shirley Guertin
DESCRIPTION:“The Worst Day Ever” for Homeopaths\nTwo experienced homeopaths\, Stephen Malthouse MD and Shirley Guertin\, try to outdo each other with stories of their “worst day ever” and how they used homeopathy in a myriad of disasters. From falling out of bed to getting trod on by a horse\, these two practitioners seem to be living on the edge. Join us for an entertaining and educational CHA National Zoom Call\, where fighting catastrophes is just another day in the home and on the farm. Learn a bit about homeopathy and try to guess what remedies you might use on a really\, really bad day. \nRegister
URL:https://vaccinechoicecanada.com/event/vcc-cha-live-tue-guests-dr-stephen-malthouse-shirley-guertin/
CATEGORIES:Live Guests
ORGANIZER;CN="Vaccine Choice Canada":MAILTO:info@vaccinechoicecanada.com
END:VEVENT
BEGIN:VEVENT
DTSTART;TZID=America/Toronto:20260428T200000
DTEND;TZID=America/Toronto:20260428T210000
DTSTAMP:20260419T080517
CREATED:20260302T155937Z
LAST-MODIFIED:20260407T144832Z
UID:44367-1777406400-1777410000@vaccinechoicecanada.com
SUMMARY:VCC-CHA Live Tue- Raising Healthy Children Series Guest: Anke Zimmermann
DESCRIPTION:Restoring Balance After Vaccine Injury: A Homeopathic Perspective\n \nJoin VCC President Ted Kuntz and Dr. Stephen Malthouse for an inspiring evening with Anke Zimmermann\, BSc\, FCAH to discuss her approach to healing vaccine injury with homeopathy. Anke is a professional homeopath and former naturopathic doctor with over 35 years of experience helping children and adults heal from developmental and behavioral challenges\, in which vaccine injuries are very common. \nHer presentation will introduce both classical and modern homeopathic approaches to vaccine injuries\, illustrated by many successful case examples from her practice. Come learn\, connect\, and be encouraged by what’s possible on the path to recovery. \nDisclaimer: The event is for educational purposes only. Not a substitute for individualized medical care. \nhttps://www.ankezimmermann.net/ \nRegister
URL:https://vaccinechoicecanada.com/event/vcc-cha-live-tue-raising-healthy-children-series-guest-anke-zimmermann/
CATEGORIES:Live Guests
ORGANIZER;CN="Vaccine Choice Canada":MAILTO:info@vaccinechoicecanada.com
END:VEVENT
BEGIN:VEVENT
DTSTART;TZID=America/Toronto:20260505T200000
DTEND;TZID=America/Toronto:20260505T210000
DTSTAMP:20260419T080517
CREATED:20260409T142845Z
LAST-MODIFIED:20260409T150610Z
UID:44666-1778011200-1778014800@vaccinechoicecanada.com
SUMMARY:VCC-CHA Live Tue: Dr. Jeff Feinman\, VMD\, CVH
DESCRIPTION:The Path to Pet Wellness with Jeff Feinman\, VMD\, CVH\n \nDr Jeff Feinman\, holistic veterinarian\, joins Ted Kuntz and Dr Stephen Malthouse to discuss his new book Path to Pet Wellness: The Holistic Vet’s Guide to Thriving Pets and Empowered Pet Parents. He bridges conventional science with a “whole-istic\,” love-based approach to awaken every pet’s innate healing ability and revolutionize veterinary care.  \nBio: Jeff Feinman\, VMD\, CVH\, revolutionizes veterinary care by bridging leading science with a “whole-istic\,” love-based approach that awakens every pet’s innate healing ability. Founder of Holistic Actions! online platform for pet parents and animal advocates. Jeff is the creator of the BEAM Blueprint and Conscious Compassionate Communication (C3)\, he empowers pet parents worldwide. Read and review Path to Pet Wellness and join us in the HA! community to help ignite the C3 movement and compassionate care. \nWebsite: https://www.homevet.com/ \nRegister \nOther Information:  \nHere’s the direct link to the book page: https://www.holisticactions.com/book/ \nHere’s a direct link to his complimentary 101 course to learn even more: https://www.holisticactions.com/holistic-pet-care-course/
URL:https://vaccinechoicecanada.com/event/vcc-cha-live-tue-dr-jeff-feinman-vmd-cvh/
CATEGORIES:Open Discussions
ORGANIZER;CN="Vaccine Choice Canada":MAILTO:info@vaccinechoicecanada.com
END:VEVENT
BEGIN:VEVENT
DTSTART;TZID=America/Toronto:20260609T190000
DTEND;TZID=America/Toronto:20260609T200000
DTSTAMP:20260419T080517
CREATED:20260409T151726Z
LAST-MODIFIED:20260409T152148Z
UID:44681-1781031600-1781035200@vaccinechoicecanada.com
SUMMARY:VCC-CHA Live Tue - Raising Healthy Children Series - Guest: Dr. Richard Moskowitz
DESCRIPTION:Is My Child Vaccine Injured? What You and Your Doctor May Have Missed.\n \nDr. Richard Moskowitz will join VCC President\, Ted Kuntz and Dr Stephen Malthouse to discuss why the adverse effects from vaccines can be so elusive and therefore easily missed\, a conclusion he reached during more than fifty years in family medical practice. In 2020\, he authored the book Vaccines: A Reappraisal to share what he had observed in his patients and his review of the scientific research. Dr Moskowitz is one of the few medical doctors who has publicly questioned and written about the risks of vaccines. \nRegister
URL:https://vaccinechoicecanada.com/event/vcc-cha-live-tue-raising-healthy-children-series-guest-dr-richard-moskowitz-2/
CATEGORIES:Live Guests
ORGANIZER;CN="Vaccine Choice Canada":MAILTO:info@vaccinechoicecanada.com
END:VEVENT
END:VCALENDAR