BEGIN:VCALENDAR
VERSION:2.0
PRODID:-//Vaccine Choice Canada - ECPv6.12.0.1//NONSGML v1.0//EN
CALSCALE:GREGORIAN
METHOD:PUBLISH
X-WR-CALNAME:Vaccine Choice Canada
X-ORIGINAL-URL:https://vaccinechoicecanada.com
X-WR-CALDESC:Events for Vaccine Choice Canada
REFRESH-INTERVAL;VALUE=DURATION:PT1H
X-Robots-Tag:noindex
X-PUBLISHED-TTL:PT1H
BEGIN:VTIMEZONE
TZID:America/Vancouver
BEGIN:DAYLIGHT
TZOFFSETFROM:-0800
TZOFFSETTO:-0700
TZNAME:PDT
DTSTART:20220313T100000
END:DAYLIGHT
BEGIN:STANDARD
TZOFFSETFROM:-0700
TZOFFSETTO:-0800
TZNAME:PST
DTSTART:20221106T090000
END:STANDARD
END:VTIMEZONE
BEGIN:VTIMEZONE
TZID:America/Toronto
BEGIN:DAYLIGHT
TZOFFSETFROM:-0500
TZOFFSETTO:-0400
TZNAME:EDT
DTSTART:20220313T070000
END:DAYLIGHT
BEGIN:STANDARD
TZOFFSETFROM:-0400
TZOFFSETTO:-0500
TZNAME:EST
DTSTART:20221106T060000
END:STANDARD
END:VTIMEZONE
BEGIN:VTIMEZONE
TZID:UTC
BEGIN:STANDARD
TZOFFSETFROM:+0000
TZOFFSETTO:+0000
TZNAME:UTC
DTSTART:20220101T000000
END:STANDARD
END:VTIMEZONE
BEGIN:VEVENT
DTSTART;TZID=America/Vancouver:20221230T080000
DTEND;TZID=America/Vancouver:20221230T083000
DTSTAMP:20260423T143145
CREATED:20221228T002123Z
LAST-MODIFIED:20221228T005051Z
UID:23224-1672387200-1672389000@vaccinechoicecanada.com
SUMMARY:Join Us For Morning Meditation
DESCRIPTION:We take 25 minutes each day\, Monday to Friday\, to sit in silence and stillness.\nRegister
URL:https://vaccinechoicecanada.com/event/join-us-for-morning-meditation-10/
CATEGORIES:Other Events
ORGANIZER;CN="Vaccine Choice Canada":MAILTO:info@vaccinechoicecanada.com
END:VEVENT
BEGIN:VEVENT
DTSTART;TZID=America/Vancouver:20221229T080000
DTEND;TZID=America/Vancouver:20221229T083000
DTSTAMP:20260423T143145
CREATED:20221228T001944Z
LAST-MODIFIED:20221228T005006Z
UID:23222-1672300800-1672302600@vaccinechoicecanada.com
SUMMARY:Join Us For Morning Meditation
DESCRIPTION:We take 25 minutes each day\, Monday to Friday\, to sit in silence and stillness.\nRegister
URL:https://vaccinechoicecanada.com/event/join-us-for-morning-meditation-9/
CATEGORIES:Other Events
ORGANIZER;CN="Vaccine Choice Canada":MAILTO:info@vaccinechoicecanada.com
END:VEVENT
BEGIN:VEVENT
DTSTART;TZID=America/Vancouver:20221228T080000
DTEND;TZID=America/Vancouver:20221228T083000
DTSTAMP:20260423T143145
CREATED:20221228T001651Z
LAST-MODIFIED:20221228T004921Z
UID:23220-1672214400-1672216200@vaccinechoicecanada.com
SUMMARY:Join Us For Morning Meditation
DESCRIPTION:We take 25 minutes each day\, Monday to Friday\, to sit in silence and stillness.\nRegister
URL:https://vaccinechoicecanada.com/event/join-us-for-morning-meditation-8/
CATEGORIES:Other Events
END:VEVENT
BEGIN:VEVENT
DTSTART;TZID=America/Vancouver:20221227T080000
DTEND;TZID=America/Vancouver:20221227T083000
DTSTAMP:20260423T143145
CREATED:20221228T001439Z
LAST-MODIFIED:20221228T004829Z
UID:23218-1672128000-1672129800@vaccinechoicecanada.com
SUMMARY:Join Us For Morning Meditation
DESCRIPTION:We take 25 minutes each day\, Monday to Friday\, to sit in silence and stillness. \nRegister \n 
URL:https://vaccinechoicecanada.com/event/join-us-for-morning-meditation-7/
CATEGORIES:Other Events
ORGANIZER;CN="Vaccine Choice Canada":MAILTO:info@vaccinechoicecanada.com
END:VEVENT
BEGIN:VEVENT
DTSTART;TZID=America/Toronto:20221226T080000
DTEND;TZID=America/Toronto:20221226T083000
DTSTAMP:20260423T143145
CREATED:20221222T043452Z
LAST-MODIFIED:20221222T044235Z
UID:23124-1672041600-1672043400@vaccinechoicecanada.com
SUMMARY:Join Us For Morning Meditation
DESCRIPTION:We take 25 minutes each day\, Monday to Friday\, to sit in silence and stillness. \nRegister
URL:https://vaccinechoicecanada.com/event/join-us-for-morning-meditation-5/
CATEGORIES:Other Events
ORGANIZER;CN="Vaccine Choice Canada":MAILTO:info@vaccinechoicecanada.com
END:VEVENT
BEGIN:VEVENT
DTSTART;TZID=UTC:20221223T080000
DTEND;TZID=UTC:20221223T083000
DTSTAMP:20260423T143145
CREATED:20221220T094200Z
LAST-MODIFIED:20221220T094258Z
UID:23087-1671782400-1671784200@vaccinechoicecanada.com
SUMMARY:Join Us For Morning Meditation
DESCRIPTION:We take 25 minutes each day\, Monday to Friday\, to sit in silence and stillness. \n<a class=”tribe-register” href=”https://us02web.zoom.us/j/82373819522?pwd=QXRnWVNJaWkwTjdiakhMQ01NUXlJZz09″ target=”_blank” rel=”noopener”>Register</a>
URL:https://vaccinechoicecanada.com/event/join-us-for-morning-meditation-4/
CATEGORIES:Other Events
ORGANIZER;CN="Vaccine Choice Canada":MAILTO:info@vaccinechoicecanada.com
END:VEVENT
BEGIN:VEVENT
DTSTART;TZID=America/Vancouver:20221222T080000
DTEND;TZID=America/Vancouver:20221222T083000
DTSTAMP:20260423T143145
CREATED:20221220T094720Z
LAST-MODIFIED:20221220T094720Z
UID:23094-1671696000-1671697800@vaccinechoicecanada.com
SUMMARY:Join Us For Morning Meditation
DESCRIPTION:We take 25 minutes each day\, Monday to Friday\, to sit in silence and stillness. \n<a class=”tribe-register” href=”https://us02web.zoom.us/j/82373819522?pwd=QXRnWVNJaWkwTjdiakhMQ01NUXlJZz09″ target=”_blank” rel=”noopener”>Register</a>
URL:https://vaccinechoicecanada.com/event/join-us-for-morning-meditation-6/
CATEGORIES:Other Events
ORGANIZER;CN="Vaccine Choice Canada":MAILTO:info@vaccinechoicecanada.com
END:VEVENT
BEGIN:VEVENT
DTSTART;TZID=America/Vancouver:20221221T080000
DTEND;TZID=America/Vancouver:20221221T083000
DTSTAMP:20260423T143145
CREATED:20221220T093854Z
LAST-MODIFIED:20221220T094058Z
UID:23084-1671609600-1671611400@vaccinechoicecanada.com
SUMMARY:Join Us For Morning Meditation
DESCRIPTION:We take 25 minutes each day\, Monday to Friday\, to sit in silence and stillness. \n<a class=”tribe-register” href=”https://us02web.zoom.us/j/82373819522?pwd=QXRnWVNJaWkwTjdiakhMQ01NUXlJZz09″ target=”_blank” rel=”noopener”>Register</a> \n 
URL:https://vaccinechoicecanada.com/event/join-us-for-morning-meditation-3/
CATEGORIES:Other Events
ORGANIZER;CN="Vaccine Choice Canada":MAILTO:info@vaccinechoicecanada.com
END:VEVENT
BEGIN:VEVENT
DTSTART;TZID=America/Vancouver:20221220T080000
DTEND;TZID=America/Vancouver:20221220T083000
DTSTAMP:20260423T143145
CREATED:20221217T032626Z
LAST-MODIFIED:20221217T033523Z
UID:23049-1671523200-1671525000@vaccinechoicecanada.com
SUMMARY:Join Us For Morning Meditation
DESCRIPTION:We take 25 minutes each day\, Monday to Friday\, to sit in silence and stillness. \nRegister
URL:https://vaccinechoicecanada.com/event/join-us-for-morning-meditation-2/
CATEGORIES:Other Events
ORGANIZER;CN="Vaccine Choice Canada":MAILTO:info@vaccinechoicecanada.com
END:VEVENT
BEGIN:VEVENT
DTSTART;TZID=America/Vancouver:20221219T080000
DTEND;TZID=America/Vancouver:20221219T083000
DTSTAMP:20260423T143145
CREATED:20221216T011759Z
LAST-MODIFIED:20221217T033201Z
UID:23045-1671436800-1671438600@vaccinechoicecanada.com
SUMMARY:Join Us For Morning Meditation
DESCRIPTION:We take 25 minutes each day\, Monday to Friday\, to sit in silence and stillness.\nRegister
URL:https://vaccinechoicecanada.com/event/join-us-for-morning-meditation/
CATEGORIES:Other Events
ORGANIZER;CN="Vaccine Choice Canada":MAILTO:info@vaccinechoicecanada.com
END:VEVENT
END:VCALENDAR