BEGIN:VCALENDAR
VERSION:2.0
PRODID:-//Vaccine Choice Canada - ECPv6.12.0.1//NONSGML v1.0//EN
CALSCALE:GREGORIAN
METHOD:PUBLISH
X-ORIGINAL-URL:https://vaccinechoicecanada.com
X-WR-CALDESC:Events for Vaccine Choice Canada
REFRESH-INTERVAL;VALUE=DURATION:PT1H
X-Robots-Tag:noindex
X-PUBLISHED-TTL:PT1H
BEGIN:VTIMEZONE
TZID:America/Vancouver
BEGIN:DAYLIGHT
TZOFFSETFROM:-0800
TZOFFSETTO:-0700
TZNAME:PDT
DTSTART:20230312T100000
END:DAYLIGHT
BEGIN:STANDARD
TZOFFSETFROM:-0700
TZOFFSETTO:-0800
TZNAME:PST
DTSTART:20231105T090000
END:STANDARD
BEGIN:DAYLIGHT
TZOFFSETFROM:-0800
TZOFFSETTO:-0700
TZNAME:PDT
DTSTART:20240310T100000
END:DAYLIGHT
BEGIN:STANDARD
TZOFFSETFROM:-0700
TZOFFSETTO:-0800
TZNAME:PST
DTSTART:20241103T090000
END:STANDARD
END:VTIMEZONE
BEGIN:VTIMEZONE
TZID:America/Toronto
BEGIN:DAYLIGHT
TZOFFSETFROM:-0500
TZOFFSETTO:-0400
TZNAME:EDT
DTSTART:20230312T070000
END:DAYLIGHT
BEGIN:STANDARD
TZOFFSETFROM:-0400
TZOFFSETTO:-0500
TZNAME:EST
DTSTART:20231105T060000
END:STANDARD
BEGIN:DAYLIGHT
TZOFFSETFROM:-0500
TZOFFSETTO:-0400
TZNAME:EDT
DTSTART:20240310T070000
END:DAYLIGHT
BEGIN:STANDARD
TZOFFSETFROM:-0400
TZOFFSETTO:-0500
TZNAME:EST
DTSTART:20241103T060000
END:STANDARD
END:VTIMEZONE
BEGIN:VEVENT
DTSTART;TZID=America/Vancouver:20241107T170000
DTEND;TZID=America/Vancouver:20241107T180000
DTSTAMP:20260423T050443
CREATED:20241029T231448Z
LAST-MODIFIED:20241106T003150Z
UID:41324-1730998800-1731002400@vaccinechoicecanada.com
SUMMARY:Free Online Training Webinar
DESCRIPTION:Top 5 Steps to Exit the Surveillance State & Protect Yourself Online!\nWe have all heard about CBDCs\, Social Credit Systems\, and Vaccine passports. These are some of the biggest threats to our freedom\, and yet our government is preparing to roll out this nightmare system with or without our approval.\nThis Orwellian dystopia depends on one thing you still have control over. It all depends on their ability to collect and see your online data.\nWithout that data\, it crumbles into dust. And YOU have the ability to cut off their access to your personal data.\nGlenn Meder is going to show you how to protect your privacy in an exclusive\, live Online Privacy Master Class.\nThis is a free 1-hour educational class – LIVE on Thursday\, Nov 7th at 5pm PT/8 pm ET\nClick here to register for the FREE webinar\nIt’s time for you to take back your privacy\, and it’s A LOT easier than you imagine.\nGlenn is an expert on teaching every day\, NON-TECHY people how to get private and secure online. So don’t worry if you’re not a tech geek.\nYou will not be left scratching your head – because Glenn will carefully and slowly walk through the basic steps you need to take to make your data off-limits to those who want to use it against you.\nPrivacy is fast becoming THE issue of our time.\nThe good news is\, in just a few steps\, you can opt out of being spied on and reclaim your God-given right to privacy.\nClick here to register for Glenn Meder’s FREE privacy webinar \nREGISTER HERE to get access to this exclusive training as well as receive the “De-Google Your Life” eBook\, both completely for FREE! After registering\, please check your email address to receive your free eBook as well as your invitation to the class. Through this webinar\, Glenn Meder of  The Privacy Academy will provide valuable information while also promoting several online privacy and security courses to assist you in taking a step by step approach to protecting and enhancing your personal security.
URL:https://vaccinechoicecanada.com/event/free-online-training-thu-november-7-5-pm-pt-8-pm-et/
CATEGORIES:Other Events
ORGANIZER;CN="Vaccine Choice Canada":MAILTO:info@vaccinechoicecanada.com
END:VEVENT
BEGIN:VEVENT
DTSTART;TZID=America/Toronto:20240320T203000
DTEND;TZID=America/Toronto:20240327T220000
DTSTAMP:20260423T050443
CREATED:20240319T213242Z
LAST-MODIFIED:20240319T221252Z
UID:38848-1710966600-1711576800@vaccinechoicecanada.com
SUMMARY:CHA New Health Series - Cultivating our Inner and Outer Oasis
DESCRIPTION:Date: Wednesday\, March 20th \nTime: 5:30-7:00 pm PT \nCost: $25 for CHA members (VCC members will also be entitled to this discounted rate) \n$40 for non-CHA members \nAnnouncing CHA’s New Health Series with the first being hosted by Dr. Dorle Kneifel entitled\, ‘Cultivating Our Inner & Outer Oasis’ – Building resilience and thriving through these transformational times. \nEnroll by Email: dr.kneifel@gmail.com \nAdd to Subject Line: Cultivating Our Oasis \nLink: Zoom link will be emailed to you. \nEmail
URL:https://vaccinechoicecanada.com/event/cha-new-health-series-cultivating-our-inner-and-outer-oasis/
CATEGORIES:Other Events
ORGANIZER;CN="Vaccine Choice Canada":MAILTO:info@vaccinechoicecanada.com
END:VEVENT
BEGIN:VEVENT
DTSTART;TZID=America/Toronto:20231117T120000
DTEND;TZID=America/Toronto:20231117T140000
DTSTAMP:20260423T050443
CREATED:20231117T144215Z
LAST-MODIFIED:20231208T193648Z
UID:35699-1700222400-1700229600@vaccinechoicecanada.com
SUMMARY:Freedom Rising
DESCRIPTION:Friday Weekly Meeting\nFreedom Rising is a collaboration of leaders from across Canada and beyond who are dedicated to restoring our rights and freedoms. We meet every Friday at 9:00 – 11:00 AM PST / 12:00 – 2:00 PM EST. Our goal is to build alliances\, amplify initiatives\, avoid duplication and be supported and inspired. You can use the zoom link below to join us each week. Invite Link \nFurther information on Freedom Rising is available at: https://freedomrising.info/
URL:https://vaccinechoicecanada.com/event/freedom-rising-friday-weekly-meeting/
CATEGORIES:Other Events
ORGANIZER;CN="Vaccine Choice Canada":MAILTO:info@vaccinechoicecanada.com
END:VEVENT
BEGIN:VEVENT
DTSTART;TZID=America/Toronto:20231117T120000
DTEND;TZID=America/Toronto:20231117T140000
DTSTAMP:20260423T050443
CREATED:20231117T144215Z
LAST-MODIFIED:20231208T193648Z
UID:35699-1700222400-1700229600@vaccinechoicecanada.com
SUMMARY:Freedom Rising
DESCRIPTION:Friday Weekly Meeting\nFreedom Rising is a collaboration of leaders from across Canada and beyond who are dedicated to restoring our rights and freedoms. We meet every Friday at 9:00 – 11:00 AM PST / 12:00 – 2:00 PM EST. Our goal is to build alliances\, amplify initiatives\, avoid duplication and be supported and inspired. You can use the zoom link below to join us each week. Invite Link \nFurther information on Freedom Rising is available at: https://freedomrising.info/
URL:https://vaccinechoicecanada.com/event/freedom-rising-friday-weekly-meeting/
CATEGORIES:Other Events
ORGANIZER;CN="Vaccine Choice Canada":MAILTO:info@vaccinechoicecanada.com
END:VEVENT
BEGIN:VEVENT
DTSTART;TZID=America/Toronto:20231117T120000
DTEND;TZID=America/Toronto:20231117T140000
DTSTAMP:20260423T050443
CREATED:20231117T144215Z
LAST-MODIFIED:20231208T193648Z
UID:35699-1700222400-1700229600@vaccinechoicecanada.com
SUMMARY:Freedom Rising
DESCRIPTION:Friday Weekly Meeting\nFreedom Rising is a collaboration of leaders from across Canada and beyond who are dedicated to restoring our rights and freedoms. We meet every Friday at 9:00 – 11:00 AM PST / 12:00 – 2:00 PM EST. Our goal is to build alliances\, amplify initiatives\, avoid duplication and be supported and inspired. You can use the zoom link below to join us each week. Invite Link \nFurther information on Freedom Rising is available at: https://freedomrising.info/
URL:https://vaccinechoicecanada.com/event/freedom-rising-friday-weekly-meeting/
CATEGORIES:Other Events
ORGANIZER;CN="Vaccine Choice Canada":MAILTO:info@vaccinechoicecanada.com
END:VEVENT
BEGIN:VEVENT
DTSTART;TZID=America/Toronto:20231117T120000
DTEND;TZID=America/Toronto:20231117T140000
DTSTAMP:20260423T050443
CREATED:20231117T144215Z
LAST-MODIFIED:20231208T193648Z
UID:35699-1700222400-1700229600@vaccinechoicecanada.com
SUMMARY:Freedom Rising
DESCRIPTION:Friday Weekly Meeting\nFreedom Rising is a collaboration of leaders from across Canada and beyond who are dedicated to restoring our rights and freedoms. We meet every Friday at 9:00 – 11:00 AM PST / 12:00 – 2:00 PM EST. Our goal is to build alliances\, amplify initiatives\, avoid duplication and be supported and inspired. You can use the zoom link below to join us each week. Invite Link \nFurther information on Freedom Rising is available at: https://freedomrising.info/
URL:https://vaccinechoicecanada.com/event/freedom-rising-friday-weekly-meeting/
CATEGORIES:Other Events
ORGANIZER;CN="Vaccine Choice Canada":MAILTO:info@vaccinechoicecanada.com
END:VEVENT
BEGIN:VEVENT
DTSTART;TZID=America/Toronto:20231117T120000
DTEND;TZID=America/Toronto:20231117T140000
DTSTAMP:20260423T050443
CREATED:20231117T144215Z
LAST-MODIFIED:20231208T193648Z
UID:35699-1700222400-1700229600@vaccinechoicecanada.com
SUMMARY:Freedom Rising
DESCRIPTION:Friday Weekly Meeting\nFreedom Rising is a collaboration of leaders from across Canada and beyond who are dedicated to restoring our rights and freedoms. We meet every Friday at 9:00 – 11:00 AM PST / 12:00 – 2:00 PM EST. Our goal is to build alliances\, amplify initiatives\, avoid duplication and be supported and inspired. You can use the zoom link below to join us each week. Invite Link \nFurther information on Freedom Rising is available at: https://freedomrising.info/
URL:https://vaccinechoicecanada.com/event/freedom-rising-friday-weekly-meeting/
CATEGORIES:Other Events
ORGANIZER;CN="Vaccine Choice Canada":MAILTO:info@vaccinechoicecanada.com
END:VEVENT
BEGIN:VEVENT
DTSTART;TZID=America/Toronto:20231117T120000
DTEND;TZID=America/Toronto:20231117T140000
DTSTAMP:20260423T050443
CREATED:20231117T144215Z
LAST-MODIFIED:20231208T193648Z
UID:35699-1700222400-1700229600@vaccinechoicecanada.com
SUMMARY:Freedom Rising
DESCRIPTION:Friday Weekly Meeting\nFreedom Rising is a collaboration of leaders from across Canada and beyond who are dedicated to restoring our rights and freedoms. We meet every Friday at 9:00 – 11:00 AM PST / 12:00 – 2:00 PM EST. Our goal is to build alliances\, amplify initiatives\, avoid duplication and be supported and inspired. You can use the zoom link below to join us each week. Invite Link \nFurther information on Freedom Rising is available at: https://freedomrising.info/
URL:https://vaccinechoicecanada.com/event/freedom-rising-friday-weekly-meeting/
CATEGORIES:Other Events
ORGANIZER;CN="Vaccine Choice Canada":MAILTO:info@vaccinechoicecanada.com
END:VEVENT
BEGIN:VEVENT
DTSTART;TZID=America/Toronto:20231117T120000
DTEND;TZID=America/Toronto:20231117T140000
DTSTAMP:20260423T050443
CREATED:20231117T144215Z
LAST-MODIFIED:20231208T193648Z
UID:35699-1700222400-1700229600@vaccinechoicecanada.com
SUMMARY:Freedom Rising
DESCRIPTION:Friday Weekly Meeting\nFreedom Rising is a collaboration of leaders from across Canada and beyond who are dedicated to restoring our rights and freedoms. We meet every Friday at 9:00 – 11:00 AM PST / 12:00 – 2:00 PM EST. Our goal is to build alliances\, amplify initiatives\, avoid duplication and be supported and inspired. You can use the zoom link below to join us each week. Invite Link \nFurther information on Freedom Rising is available at: https://freedomrising.info/
URL:https://vaccinechoicecanada.com/event/freedom-rising-friday-weekly-meeting/
CATEGORIES:Other Events
ORGANIZER;CN="Vaccine Choice Canada":MAILTO:info@vaccinechoicecanada.com
END:VEVENT
BEGIN:VEVENT
DTSTART;TZID=America/Toronto:20230710T200000
DTEND;TZID=America/Toronto:20230710T210000
DTSTAMP:20260423T050443
CREATED:20230710T161346Z
LAST-MODIFIED:20230710T162715Z
UID:32853-1689019200-1689022800@vaccinechoicecanada.com
SUMMARY:Help a Mom Initiative
DESCRIPTION:Round Table Discussion Parental Right to Medical Choice\nWe are continuing our round table discussion\, that garnered a lot of interest on Tuesday\, June 27th\, in a co-hosted Q&A around Parental Rights to Medical Choice. The discussion will have Lia Milousis of the Acacia Group (Mother’s Lawyers)\, Keren from Take Action Canada on Medical Ethics\, Dr. Mark Trozzi and Ted Kuntz from VCC. All are welcome. \nYou can access more details at the vaxjustice.org website \nZoom Link
URL:https://vaccinechoicecanada.com/event/help-a-mom-initiative-2/
CATEGORIES:Other Events
END:VEVENT
BEGIN:VEVENT
DTSTART;TZID=America/Toronto:20230628T190000
DTEND;TZID=America/Toronto:20230628T200000
DTSTAMP:20260423T050443
CREATED:20230621T192605Z
LAST-MODIFIED:20230621T192847Z
UID:32387-1687978800-1687982400@vaccinechoicecanada.com
SUMMARY:Alberta Free Inc. Presents
DESCRIPTION:7 Spheres of Freedom\nAlberta Free Inc. is a visionary company founded by two seasoned lobbyists\, entrepreneurs\, and Freedom Fighters\, Benoit Trudeau and George Bears. Their goal is to help ensure a free and prosperous future for Alberta. \nZoom Invite Link
URL:https://vaccinechoicecanada.com/event/alberta-free-inc-presents/
CATEGORIES:Other Events
END:VEVENT
BEGIN:VEVENT
DTSTART;TZID=America/Toronto:20230627T190000
DTEND;TZID=America/Toronto:20230627T200000
DTSTAMP:20260423T050443
CREATED:20230620T201949Z
LAST-MODIFIED:20230625T222809Z
UID:32364-1687892400-1687896000@vaccinechoicecanada.com
SUMMARY:Help a Mom Initiative (Event Occurring as Scheduled)
DESCRIPTION:Round Table Discussion Parental Right to Medical Choice\n \n“When did it become illegal to ask questions? Especially in the courtroom?” This is the opening line of a decision by Justice Pazaratz in the case of J.N. v C.G.\, released in February 2022\, in which the Court granted decision-making authority over Covid-19 vaccination of two children of the marriage to the mother – J.N. The mother seeks to uphold the wishes of the children\, 12 and 10 y/o\, not to vaccinate. The Ontario Court of Appeal overturned Justice Pazaratz in February 2023 and awarded decision-making over Covid-19 vaccination to the father – C.G. The father wishes to vaccinate the two children despite their wishes. Thank you for your donation and kindly spread the link to your friends and freedom networks. For the sake of our country and freedom to make medical choices\, we need to be heard by the Supreme Court of Canada. \nZoom Invite Link
URL:https://vaccinechoicecanada.com/event/help-a-mom-initiative/
CATEGORIES:Other Events
ORGANIZER;CN="Vaccine Choice Canada":MAILTO:info@vaccinechoicecanada.com
END:VEVENT
BEGIN:VEVENT
DTSTART;TZID=America/Vancouver:20230324T080000
DTEND;TZID=America/Vancouver:20230324T083000
DTSTAMP:20260423T050443
CREATED:20230323T132136Z
LAST-MODIFIED:20230323T132137Z
UID:29709-1679644800-1679646600@vaccinechoicecanada.com
SUMMARY:Join Us For Morning Meditation
DESCRIPTION:We take 25 minutes each day\, Monday to Friday\, to sit in silence and stillness. \nRegister
URL:https://vaccinechoicecanada.com/event/join-us-for-morning-meditation-21-2/
CATEGORIES:Other Events
ORGANIZER;CN="Vaccine Choice Canada":MAILTO:info@vaccinechoicecanada.com
END:VEVENT
BEGIN:VEVENT
DTSTART;TZID=America/Vancouver:20230116T080000
DTEND;TZID=America/Vancouver:20230116T083000
DTSTAMP:20260423T050443
CREATED:20230113T215134Z
LAST-MODIFIED:20230301T200834Z
UID:23346-1673856000-1673857800@vaccinechoicecanada.com
SUMMARY:Join Us For Morning Meditation
DESCRIPTION:We take 25 minutes each day\, Monday to Friday\, to sit in silence and stillness. \nRegister
URL:https://vaccinechoicecanada.com/event/join-us-for-morning-meditation-21/
CATEGORIES:Other Events
ORGANIZER;CN="Vaccine Choice Canada":MAILTO:info@vaccinechoicecanada.com
END:VEVENT
BEGIN:VEVENT
DTSTART;TZID=America/Vancouver:20230116T080000
DTEND;TZID=America/Vancouver:20230116T083000
DTSTAMP:20260423T050443
CREATED:20230113T215134Z
LAST-MODIFIED:20230301T200834Z
UID:23346-1673856000-1673857800@vaccinechoicecanada.com
SUMMARY:Join Us For Morning Meditation
DESCRIPTION:We take 25 minutes each day\, Monday to Friday\, to sit in silence and stillness. \nRegister
URL:https://vaccinechoicecanada.com/event/join-us-for-morning-meditation-21/
CATEGORIES:Other Events
ORGANIZER;CN="Vaccine Choice Canada":MAILTO:info@vaccinechoicecanada.com
END:VEVENT
BEGIN:VEVENT
DTSTART;TZID=America/Vancouver:20230116T080000
DTEND;TZID=America/Vancouver:20230116T083000
DTSTAMP:20260423T050443
CREATED:20230113T215134Z
LAST-MODIFIED:20230301T200834Z
UID:23346-1673856000-1673857800@vaccinechoicecanada.com
SUMMARY:Join Us For Morning Meditation
DESCRIPTION:We take 25 minutes each day\, Monday to Friday\, to sit in silence and stillness. \nRegister
URL:https://vaccinechoicecanada.com/event/join-us-for-morning-meditation-21/
CATEGORIES:Other Events
ORGANIZER;CN="Vaccine Choice Canada":MAILTO:info@vaccinechoicecanada.com
END:VEVENT
BEGIN:VEVENT
DTSTART;TZID=America/Vancouver:20230116T080000
DTEND;TZID=America/Vancouver:20230116T083000
DTSTAMP:20260423T050443
CREATED:20230113T215134Z
LAST-MODIFIED:20230301T200834Z
UID:23346-1673856000-1673857800@vaccinechoicecanada.com
SUMMARY:Join Us For Morning Meditation
DESCRIPTION:We take 25 minutes each day\, Monday to Friday\, to sit in silence and stillness. \nRegister
URL:https://vaccinechoicecanada.com/event/join-us-for-morning-meditation-21/
CATEGORIES:Other Events
ORGANIZER;CN="Vaccine Choice Canada":MAILTO:info@vaccinechoicecanada.com
END:VEVENT
BEGIN:VEVENT
DTSTART;TZID=America/Vancouver:20230116T080000
DTEND;TZID=America/Vancouver:20230116T083000
DTSTAMP:20260423T050443
CREATED:20230113T215134Z
LAST-MODIFIED:20230301T200834Z
UID:23346-1673856000-1673857800@vaccinechoicecanada.com
SUMMARY:Join Us For Morning Meditation
DESCRIPTION:We take 25 minutes each day\, Monday to Friday\, to sit in silence and stillness. \nRegister
URL:https://vaccinechoicecanada.com/event/join-us-for-morning-meditation-21/
CATEGORIES:Other Events
ORGANIZER;CN="Vaccine Choice Canada":MAILTO:info@vaccinechoicecanada.com
END:VEVENT
BEGIN:VEVENT
DTSTART;TZID=America/Vancouver:20230116T080000
DTEND;TZID=America/Vancouver:20230116T083000
DTSTAMP:20260423T050443
CREATED:20230113T215134Z
LAST-MODIFIED:20230301T200834Z
UID:23346-1673856000-1673857800@vaccinechoicecanada.com
SUMMARY:Join Us For Morning Meditation
DESCRIPTION:We take 25 minutes each day\, Monday to Friday\, to sit in silence and stillness. \nRegister
URL:https://vaccinechoicecanada.com/event/join-us-for-morning-meditation-21/
CATEGORIES:Other Events
ORGANIZER;CN="Vaccine Choice Canada":MAILTO:info@vaccinechoicecanada.com
END:VEVENT
BEGIN:VEVENT
DTSTART;TZID=America/Vancouver:20230116T080000
DTEND;TZID=America/Vancouver:20230116T083000
DTSTAMP:20260423T050443
CREATED:20230113T215134Z
LAST-MODIFIED:20230301T200834Z
UID:23346-1673856000-1673857800@vaccinechoicecanada.com
SUMMARY:Join Us For Morning Meditation
DESCRIPTION:We take 25 minutes each day\, Monday to Friday\, to sit in silence and stillness. \nRegister
URL:https://vaccinechoicecanada.com/event/join-us-for-morning-meditation-21/
CATEGORIES:Other Events
ORGANIZER;CN="Vaccine Choice Canada":MAILTO:info@vaccinechoicecanada.com
END:VEVENT
BEGIN:VEVENT
DTSTART;TZID=America/Vancouver:20230116T080000
DTEND;TZID=America/Vancouver:20230116T083000
DTSTAMP:20260423T050443
CREATED:20230113T215134Z
LAST-MODIFIED:20230301T200834Z
UID:23346-1673856000-1673857800@vaccinechoicecanada.com
SUMMARY:Join Us For Morning Meditation
DESCRIPTION:We take 25 minutes each day\, Monday to Friday\, to sit in silence and stillness. \nRegister
URL:https://vaccinechoicecanada.com/event/join-us-for-morning-meditation-21/
CATEGORIES:Other Events
ORGANIZER;CN="Vaccine Choice Canada":MAILTO:info@vaccinechoicecanada.com
END:VEVENT
BEGIN:VEVENT
DTSTART;TZID=America/Vancouver:20230116T080000
DTEND;TZID=America/Vancouver:20230116T083000
DTSTAMP:20260423T050443
CREATED:20230113T215134Z
LAST-MODIFIED:20230301T200834Z
UID:23346-1673856000-1673857800@vaccinechoicecanada.com
SUMMARY:Join Us For Morning Meditation
DESCRIPTION:We take 25 minutes each day\, Monday to Friday\, to sit in silence and stillness. \nRegister
URL:https://vaccinechoicecanada.com/event/join-us-for-morning-meditation-21/
CATEGORIES:Other Events
ORGANIZER;CN="Vaccine Choice Canada":MAILTO:info@vaccinechoicecanada.com
END:VEVENT
BEGIN:VEVENT
DTSTART;TZID=America/Vancouver:20230116T080000
DTEND;TZID=America/Vancouver:20230116T083000
DTSTAMP:20260423T050443
CREATED:20230113T215134Z
LAST-MODIFIED:20230301T200834Z
UID:23346-1673856000-1673857800@vaccinechoicecanada.com
SUMMARY:Join Us For Morning Meditation
DESCRIPTION:We take 25 minutes each day\, Monday to Friday\, to sit in silence and stillness. \nRegister
URL:https://vaccinechoicecanada.com/event/join-us-for-morning-meditation-21/
CATEGORIES:Other Events
ORGANIZER;CN="Vaccine Choice Canada":MAILTO:info@vaccinechoicecanada.com
END:VEVENT
BEGIN:VEVENT
DTSTART;TZID=America/Vancouver:20230116T080000
DTEND;TZID=America/Vancouver:20230116T083000
DTSTAMP:20260423T050443
CREATED:20230113T215134Z
LAST-MODIFIED:20230301T200834Z
UID:23346-1673856000-1673857800@vaccinechoicecanada.com
SUMMARY:Join Us For Morning Meditation
DESCRIPTION:We take 25 minutes each day\, Monday to Friday\, to sit in silence and stillness. \nRegister
URL:https://vaccinechoicecanada.com/event/join-us-for-morning-meditation-21/
CATEGORIES:Other Events
ORGANIZER;CN="Vaccine Choice Canada":MAILTO:info@vaccinechoicecanada.com
END:VEVENT
BEGIN:VEVENT
DTSTART;TZID=America/Vancouver:20230116T080000
DTEND;TZID=America/Vancouver:20230116T083000
DTSTAMP:20260423T050443
CREATED:20230113T215134Z
LAST-MODIFIED:20230301T200834Z
UID:23346-1673856000-1673857800@vaccinechoicecanada.com
SUMMARY:Join Us For Morning Meditation
DESCRIPTION:We take 25 minutes each day\, Monday to Friday\, to sit in silence and stillness. \nRegister
URL:https://vaccinechoicecanada.com/event/join-us-for-morning-meditation-21/
CATEGORIES:Other Events
ORGANIZER;CN="Vaccine Choice Canada":MAILTO:info@vaccinechoicecanada.com
END:VEVENT
BEGIN:VEVENT
DTSTART;TZID=America/Vancouver:20230116T080000
DTEND;TZID=America/Vancouver:20230116T083000
DTSTAMP:20260423T050443
CREATED:20230113T215134Z
LAST-MODIFIED:20230301T200834Z
UID:23346-1673856000-1673857800@vaccinechoicecanada.com
SUMMARY:Join Us For Morning Meditation
DESCRIPTION:We take 25 minutes each day\, Monday to Friday\, to sit in silence and stillness. \nRegister
URL:https://vaccinechoicecanada.com/event/join-us-for-morning-meditation-21/
CATEGORIES:Other Events
ORGANIZER;CN="Vaccine Choice Canada":MAILTO:info@vaccinechoicecanada.com
END:VEVENT
BEGIN:VEVENT
DTSTART;TZID=America/Vancouver:20230116T080000
DTEND;TZID=America/Vancouver:20230116T083000
DTSTAMP:20260423T050443
CREATED:20230113T215134Z
LAST-MODIFIED:20230301T200834Z
UID:23346-1673856000-1673857800@vaccinechoicecanada.com
SUMMARY:Join Us For Morning Meditation
DESCRIPTION:We take 25 minutes each day\, Monday to Friday\, to sit in silence and stillness. \nRegister
URL:https://vaccinechoicecanada.com/event/join-us-for-morning-meditation-21/
CATEGORIES:Other Events
ORGANIZER;CN="Vaccine Choice Canada":MAILTO:info@vaccinechoicecanada.com
END:VEVENT
BEGIN:VEVENT
DTSTART;TZID=America/Vancouver:20230116T080000
DTEND;TZID=America/Vancouver:20230116T083000
DTSTAMP:20260423T050443
CREATED:20230113T215134Z
LAST-MODIFIED:20230301T200834Z
UID:23346-1673856000-1673857800@vaccinechoicecanada.com
SUMMARY:Join Us For Morning Meditation
DESCRIPTION:We take 25 minutes each day\, Monday to Friday\, to sit in silence and stillness. \nRegister
URL:https://vaccinechoicecanada.com/event/join-us-for-morning-meditation-21/
CATEGORIES:Other Events
ORGANIZER;CN="Vaccine Choice Canada":MAILTO:info@vaccinechoicecanada.com
END:VEVENT
BEGIN:VEVENT
DTSTART;TZID=America/Vancouver:20230116T080000
DTEND;TZID=America/Vancouver:20230116T083000
DTSTAMP:20260423T050443
CREATED:20230113T215134Z
LAST-MODIFIED:20230301T200834Z
UID:23346-1673856000-1673857800@vaccinechoicecanada.com
SUMMARY:Join Us For Morning Meditation
DESCRIPTION:We take 25 minutes each day\, Monday to Friday\, to sit in silence and stillness. \nRegister
URL:https://vaccinechoicecanada.com/event/join-us-for-morning-meditation-21/
CATEGORIES:Other Events
ORGANIZER;CN="Vaccine Choice Canada":MAILTO:info@vaccinechoicecanada.com
END:VEVENT
BEGIN:VEVENT
DTSTART;TZID=America/Vancouver:20230116T080000
DTEND;TZID=America/Vancouver:20230116T083000
DTSTAMP:20260423T050443
CREATED:20230113T215134Z
LAST-MODIFIED:20230301T200834Z
UID:23346-1673856000-1673857800@vaccinechoicecanada.com
SUMMARY:Join Us For Morning Meditation
DESCRIPTION:We take 25 minutes each day\, Monday to Friday\, to sit in silence and stillness. \nRegister
URL:https://vaccinechoicecanada.com/event/join-us-for-morning-meditation-21/
CATEGORIES:Other Events
ORGANIZER;CN="Vaccine Choice Canada":MAILTO:info@vaccinechoicecanada.com
END:VEVENT
END:VCALENDAR