BEGIN:VCALENDAR
VERSION:2.0
PRODID:-//Vaccine Choice Canada - ECPv6.12.0.1//NONSGML v1.0//EN
CALSCALE:GREGORIAN
METHOD:PUBLISH
X-ORIGINAL-URL:https://vaccinechoicecanada.com
X-WR-CALDESC:Events for Vaccine Choice Canada
REFRESH-INTERVAL;VALUE=DURATION:PT1H
X-Robots-Tag:noindex
X-PUBLISHED-TTL:PT1H
BEGIN:VTIMEZONE
TZID:America/Vancouver
BEGIN:DAYLIGHT
TZOFFSETFROM:-0800
TZOFFSETTO:-0700
TZNAME:PDT
DTSTART:20220313T100000
END:DAYLIGHT
BEGIN:STANDARD
TZOFFSETFROM:-0700
TZOFFSETTO:-0800
TZNAME:PST
DTSTART:20221106T090000
END:STANDARD
BEGIN:DAYLIGHT
TZOFFSETFROM:-0800
TZOFFSETTO:-0700
TZNAME:PDT
DTSTART:20230312T100000
END:DAYLIGHT
BEGIN:STANDARD
TZOFFSETFROM:-0700
TZOFFSETTO:-0800
TZNAME:PST
DTSTART:20231105T090000
END:STANDARD
END:VTIMEZONE
BEGIN:VTIMEZONE
TZID:America/Toronto
BEGIN:DAYLIGHT
TZOFFSETFROM:-0500
TZOFFSETTO:-0400
TZNAME:EDT
DTSTART:20220313T070000
END:DAYLIGHT
BEGIN:STANDARD
TZOFFSETFROM:-0400
TZOFFSETTO:-0500
TZNAME:EST
DTSTART:20221106T060000
END:STANDARD
BEGIN:DAYLIGHT
TZOFFSETFROM:-0500
TZOFFSETTO:-0400
TZNAME:EDT
DTSTART:20230312T070000
END:DAYLIGHT
BEGIN:STANDARD
TZOFFSETFROM:-0400
TZOFFSETTO:-0500
TZNAME:EST
DTSTART:20231105T060000
END:STANDARD
END:VTIMEZONE
BEGIN:VEVENT
DTSTART;TZID=America/Vancouver:20230131T190000
DTEND;TZID=America/Vancouver:20230131T200000
DTSTAMP:20260419T134135
CREATED:20230113T212229Z
LAST-MODIFIED:20230301T194607Z
UID:23340-1675191600-1675195200@vaccinechoicecanada.com
SUMMARY:VCC Live Tue - Open Discussion
DESCRIPTION:Join us to catch up with each other and share stories of action and encouragement. Our Tuesday Open Discussion takes place weekly. \nRegister
URL:https://vaccinechoicecanada.com/event/vcc-live-tue-open-discussion-7/
CATEGORIES:Open Discussions
ORGANIZER;CN="Vaccine Choice Canada":MAILTO:info@vaccinechoicecanada.com
END:VEVENT
BEGIN:VEVENT
DTSTART;TZID=America/Vancouver:20230131T190000
DTEND;TZID=America/Vancouver:20230131T200000
DTSTAMP:20260419T134135
CREATED:20230113T212229Z
LAST-MODIFIED:20230301T194607Z
UID:23340-1675191600-1675195200@vaccinechoicecanada.com
SUMMARY:VCC Live Tue - Open Discussion
DESCRIPTION:Join us to catch up with each other and share stories of action and encouragement. Our Tuesday Open Discussion takes place weekly. \nRegister
URL:https://vaccinechoicecanada.com/event/vcc-live-tue-open-discussion-7/
CATEGORIES:Open Discussions
ORGANIZER;CN="Vaccine Choice Canada":MAILTO:info@vaccinechoicecanada.com
END:VEVENT
BEGIN:VEVENT
DTSTART;TZID=America/Toronto:20230223T190000
DTEND;TZID=America/Toronto:20230223T200000
DTSTAMP:20260419T134135
CREATED:20230202T124019Z
LAST-MODIFIED:20230208T224258Z
UID:25450-1677178800-1677182400@vaccinechoicecanada.com
SUMMARY:VCC Live Thu - Special Returning Guest: Pamela Richardson
DESCRIPTION:Part 2: Options For Covid-19 Injection Detoxification\n \nPamela Richardson will be offering a unique and broad perspective on detoxification from the COVID-19 injections\, including bioenergetics\, nutrition\, energy medicine and spirituality. Pamela’s background includes neurophysiology research\, public health\, risk management\, and health care administration\, primarily for the government in Canada and Australia. She founded and directs a spirituality group for members of Vaccine Choice Canada and other health and freedom groups.\nHer research is available at: pamelarichardson.substack.com \nRegister
URL:https://vaccinechoicecanada.com/event/vcc-live-thu-open-discussion-6/
CATEGORIES:Open Discussions
ORGANIZER;CN="Vaccine Choice Canada":MAILTO:info@vaccinechoicecanada.com
END:VEVENT
BEGIN:VEVENT
DTSTART;TZID=America/Vancouver:20230131T190000
DTEND;TZID=America/Vancouver:20230131T200000
DTSTAMP:20260419T134135
CREATED:20230113T212229Z
LAST-MODIFIED:20230301T194607Z
UID:23340-1675191600-1675195200@vaccinechoicecanada.com
SUMMARY:VCC Live Tue - Open Discussion
DESCRIPTION:Join us to catch up with each other and share stories of action and encouragement. Our Tuesday Open Discussion takes place weekly. \nRegister
URL:https://vaccinechoicecanada.com/event/vcc-live-tue-open-discussion-7/
CATEGORIES:Open Discussions
ORGANIZER;CN="Vaccine Choice Canada":MAILTO:info@vaccinechoicecanada.com
END:VEVENT
BEGIN:VEVENT
DTSTART;TZID=America/Vancouver:20230131T190000
DTEND;TZID=America/Vancouver:20230131T200000
DTSTAMP:20260419T134135
CREATED:20230113T212229Z
LAST-MODIFIED:20230301T194607Z
UID:23340-1675191600-1675195200@vaccinechoicecanada.com
SUMMARY:VCC Live Tue - Open Discussion
DESCRIPTION:Join us to catch up with each other and share stories of action and encouragement. Our Tuesday Open Discussion takes place weekly. \nRegister
URL:https://vaccinechoicecanada.com/event/vcc-live-tue-open-discussion-7/
CATEGORIES:Open Discussions
ORGANIZER;CN="Vaccine Choice Canada":MAILTO:info@vaccinechoicecanada.com
END:VEVENT
BEGIN:VEVENT
DTSTART;TZID=America/Toronto:20230209T190000
DTEND;TZID=America/Toronto:20230209T200000
DTSTAMP:20260419T134135
CREATED:20230202T123754Z
LAST-MODIFIED:20230202T123836Z
UID:25447-1675969200-1675972800@vaccinechoicecanada.com
SUMMARY:VCC Live Thu - Open Discussion
DESCRIPTION:Join us to catch up with each other and share stories of action and encouragement. Our Thursday Open Discussion takes place the second and fourth Thursday of every month. \nRegister
URL:https://vaccinechoicecanada.com/event/vcc-live-thu-open-discussion-5/
CATEGORIES:Open Discussions
ORGANIZER;CN="Vaccine Choice Canada":MAILTO:info@vaccinechoicecanada.com
END:VEVENT
BEGIN:VEVENT
DTSTART;TZID=America/Vancouver:20230131T190000
DTEND;TZID=America/Vancouver:20230131T200000
DTSTAMP:20260419T134135
CREATED:20230113T212229Z
LAST-MODIFIED:20230301T194607Z
UID:23340-1675191600-1675195200@vaccinechoicecanada.com
SUMMARY:VCC Live Tue - Open Discussion
DESCRIPTION:Join us to catch up with each other and share stories of action and encouragement. Our Tuesday Open Discussion takes place weekly. \nRegister
URL:https://vaccinechoicecanada.com/event/vcc-live-tue-open-discussion-7/
CATEGORIES:Open Discussions
ORGANIZER;CN="Vaccine Choice Canada":MAILTO:info@vaccinechoicecanada.com
END:VEVENT
BEGIN:VEVENT
DTSTART;TZID=America/Vancouver:20230131T190000
DTEND;TZID=America/Vancouver:20230131T200000
DTSTAMP:20260419T134135
CREATED:20230113T212229Z
LAST-MODIFIED:20230301T194607Z
UID:23340-1675191600-1675195200@vaccinechoicecanada.com
SUMMARY:VCC Live Tue - Open Discussion
DESCRIPTION:Join us to catch up with each other and share stories of action and encouragement. Our Tuesday Open Discussion takes place weekly. \nRegister
URL:https://vaccinechoicecanada.com/event/vcc-live-tue-open-discussion-7/
CATEGORIES:Open Discussions
ORGANIZER;CN="Vaccine Choice Canada":MAILTO:info@vaccinechoicecanada.com
END:VEVENT
BEGIN:VEVENT
DTSTART;TZID=America/Toronto:20230126T190000
DTEND;TZID=America/Toronto:20230126T200000
DTSTAMP:20260419T134135
CREATED:20230113T210624Z
LAST-MODIFIED:20230113T210954Z
UID:23334-1674759600-1674763200@vaccinechoicecanada.com
SUMMARY:VCC Live Thu - Open Discussion
DESCRIPTION:Join us to catch up with each other and share stories of action and encouragement.  Our Thursday Open Discussion takes place the second and fourth Thursday of every month. \nRegister
URL:https://vaccinechoicecanada.com/event/vcc-live-thu-open-discussion-4/
CATEGORIES:Open Discussions
ORGANIZER;CN="Vaccine Choice Canada":MAILTO:info@vaccinechoicecanada.com
END:VEVENT
BEGIN:VEVENT
DTSTART;TZID=America/Vancouver:20230124T190000
DTEND;TZID=America/Vancouver:20230124T200000
DTSTAMP:20260419T134135
CREATED:20230113T211733Z
LAST-MODIFIED:20230113T211733Z
UID:23338-1674586800-1674590400@vaccinechoicecanada.com
SUMMARY:VCC Live Tue - Open Discussion
DESCRIPTION:Join us to catch up with each other and share stories of action and encouragement. Our Tuesday Open Discussion takes place weekly.\nRegister\nRegister
URL:https://vaccinechoicecanada.com/event/vcc-live-tue-open-discussion-6/
CATEGORIES:Open Discussions
ORGANIZER;CN="Vaccine Choice Canada":MAILTO:info@vaccinechoicecanada.com
END:VEVENT
BEGIN:VEVENT
DTSTART;TZID=America/Vancouver:20230117T190000
DTEND;TZID=America/Vancouver:20230117T200000
DTSTAMP:20260419T134135
CREATED:20230113T204929Z
LAST-MODIFIED:20230113T204929Z
UID:23331-1673982000-1673985600@vaccinechoicecanada.com
SUMMARY:VCC Live Tue - Open Discussion
DESCRIPTION:Join us to catch up with each other and share stories of action and encouragement. Our Open Discussion on Tuesday takes place weekly. \nRegister
URL:https://vaccinechoicecanada.com/event/vcc-live-tue-open-discussion-6-2/
CATEGORIES:Open Discussions
ORGANIZER;CN="Vaccine Choice Canada":MAILTO:info@vaccinechoicecanada.com
END:VEVENT
BEGIN:VEVENT
DTSTART;TZID=America/Toronto:20230112T190000
DTEND;TZID=America/Toronto:20230112T200000
DTSTAMP:20260419T134135
CREATED:20221228T010615Z
LAST-MODIFIED:20221228T010615Z
UID:23260-1673550000-1673553600@vaccinechoicecanada.com
SUMMARY:VCC Live Thu - Open Discussion
DESCRIPTION:Join us to catch up with each other and share stories of action and encouragement. Our Thursday Open Discussion takes place the second and fourth Thursday of every month.\nRegister
URL:https://vaccinechoicecanada.com/event/vcc-live-thu-open-discussion-3/
CATEGORIES:Open Discussions
ORGANIZER;CN="Vaccine Choice Canada":MAILTO:info@vaccinechoicecanada.com
END:VEVENT
BEGIN:VEVENT
DTSTART;TZID=America/Vancouver:20230110T190000
DTEND;TZID=America/Vancouver:20230110T200000
DTSTAMP:20260419T134135
CREATED:20230107T070108Z
LAST-MODIFIED:20230107T070236Z
UID:23299-1673377200-1673380800@vaccinechoicecanada.com
SUMMARY:VCC Live Tuesday: Open Discussion
DESCRIPTION:Join us to catch up with each other and share stories of action and encouragement. Our Tuesday Open Discussion takes place weekly. \nRegister
URL:https://vaccinechoicecanada.com/event/vcc-live-tuesday-open-discussion-2/
CATEGORIES:Open Discussions
ORGANIZER;CN="Vaccine Choice Canada":MAILTO:info@vaccinechoicecanada.com
END:VEVENT
BEGIN:VEVENT
DTSTART;TZID=America/Toronto:20221220T190000
DTEND;TZID=America/Toronto:20221220T200000
DTSTAMP:20260419T134135
CREATED:20221130T075344Z
LAST-MODIFIED:20221130T075544Z
UID:22781-1671562800-1671566400@vaccinechoicecanada.com
SUMMARY:VCC Live Tue - Open Discussion
DESCRIPTION:Join us to catch up with each other and share stories of action and encouragement. Our Open Discussion Tuesday and Thursday meetings take place weekly.  \nRegister
URL:https://vaccinechoicecanada.com/event/vcc-live-tue-open-discussion-4/
CATEGORIES:Open Discussions
ORGANIZER;CN="Vaccine Choice Canada":MAILTO:info@vaccinechoicecanada.com
END:VEVENT
BEGIN:VEVENT
DTSTART;TZID=America/Vancouver:20221213T190000
DTEND;TZID=America/Vancouver:20221213T200000
DTSTAMP:20260419T134135
CREATED:20221130T094708Z
LAST-MODIFIED:20221215T072355Z
UID:22789-1670958000-1670961600@vaccinechoicecanada.com
SUMMARY:VCC Live Tue - Open Discussion
DESCRIPTION:Join us to catch up with each other and share stories of action and encouragement. Our Open Discussion Tuesday and Thursday meetings take place weekly. \nEvent Over
URL:https://vaccinechoicecanada.com/event/vcc-live-tue-open-discussion-5/
CATEGORIES:Open Discussions
ORGANIZER;CN="Vaccine Choice Canada":MAILTO:info@vaccinechoicecanada.com
END:VEVENT
BEGIN:VEVENT
DTSTART;TZID=America/Vancouver:20221206T190000
DTEND;TZID=America/Vancouver:20221206T200000
DTSTAMP:20260419T134135
CREATED:20221130T073946Z
LAST-MODIFIED:20221215T070520Z
UID:22774-1670353200-1670356800@vaccinechoicecanada.com
SUMMARY:VCC Live Tue - Open Discussion
DESCRIPTION:Join us to catch up with each other and share stories of action and encouragement. Our Open Discussion Tuesday and Thursday meetings take place weekly. \nEvent Over
URL:https://vaccinechoicecanada.com/event/vcc-live-tue-open-discussion-3/
CATEGORIES:Open Discussions
ORGANIZER;CN="Vaccine Choice Canada":MAILTO:info@vaccinechoicecanada.com
END:VEVENT
BEGIN:VEVENT
DTSTART;TZID=America/Vancouver:20221129T200000
DTEND;TZID=America/Vancouver:20221129T210000
DTSTAMP:20260419T134135
CREATED:20221123T102800Z
LAST-MODIFIED:20221206T073549Z
UID:22654-1669752000-1669755600@vaccinechoicecanada.com
SUMMARY:VCC Live Tue - Open Discussion
DESCRIPTION:Join us to catch up with each other and share stories of action and encouragement. Our Open Discussion Tuesday and Thursday meetings take place weekly. \nEvent Over
URL:https://vaccinechoicecanada.com/event/vcc-live-tue-open-discussion-2/
CATEGORIES:Open Discussions
ORGANIZER;CN="Vaccine Choice Canada":MAILTO:info@vaccinechoicecanada.com
END:VEVENT
BEGIN:VEVENT
DTSTART;TZID=America/Vancouver:20221122T200000
DTEND;TZID=America/Vancouver:20221122T210000
DTSTAMP:20260419T134135
CREATED:20221116T112852Z
LAST-MODIFIED:20221206T055741Z
UID:22585-1669147200-1669150800@vaccinechoicecanada.com
SUMMARY:VCC Live Tue - Open Discussion
DESCRIPTION:Join us to catch up with each other and share stories of action and encouragement. Our Open Discussion Tuesday and Thursday meetings take place weekly. \nEvent Over
URL:https://vaccinechoicecanada.com/event/vcc-live-tue-open-discussion/
CATEGORIES:Open Discussions
ORGANIZER;CN="Vaccine Choice Canada":MAILTO:info@vaccinechoicecanada.com
END:VEVENT
BEGIN:VEVENT
DTSTART;TZID=America/Toronto:20221117T190000
DTEND;TZID=America/Toronto:20221117T200000
DTSTAMP:20260419T134135
CREATED:20221109T134205Z
LAST-MODIFIED:20221206T055604Z
UID:22524-1668711600-1668715200@vaccinechoicecanada.com
SUMMARY:VCC Live Thu - Open Discussion
DESCRIPTION:Join us to catch up with each other and share stories of action and encouragement. Our Open Discussion Tuesday and Thursday meetings take place weekly. \nEvent Over
URL:https://vaccinechoicecanada.com/event/vcc-live-tuesday-open-discussion/
CATEGORIES:Open Discussions
ORGANIZER;CN="Vaccine Choice Canada":MAILTO:info@vaccinechoicecanada.com
END:VEVENT
BEGIN:VEVENT
DTSTART;TZID=America/Vancouver:20221115T200000
DTEND;TZID=America/Vancouver:20221115T210000
DTSTAMP:20260419T134135
CREATED:20221109T131340Z
LAST-MODIFIED:20221206T054922Z
UID:22517-1668542400-1668546000@vaccinechoicecanada.com
SUMMARY:VCC Live Tue - Open Discussion
DESCRIPTION:Join us to catch up with each other and share stories of action and encouragement. Our Open Discussion Tuesday and Thursday meetings take place weekly. Hosted by Ted. \nEvent Over
URL:https://vaccinechoicecanada.com/event/open-discussion-3/
CATEGORIES:Open Discussions
ORGANIZER;CN="Vaccine Choice Canada":MAILTO:info@vaccinechoicecanada.com
END:VEVENT
BEGIN:VEVENT
DTSTART;TZID=America/Toronto:20221110T190000
DTEND;TZID=America/Toronto:20221110T200000
DTSTAMP:20260419T134135
CREATED:20221027T110848Z
LAST-MODIFIED:20221206T054743Z
UID:22325-1668106800-1668110400@vaccinechoicecanada.com
SUMMARY:VCC Live Thu - Open Discussion
DESCRIPTION:Join us to catch up with each other and share stories of action and encouragement. Our Open Discussion Tuesday and Thursday meetings take place weekly. \nEvent Over
URL:https://vaccinechoicecanada.com/event/open-discussion-2/
CATEGORIES:Open Discussions
ORGANIZER;CN="Vaccine Choice Canada":MAILTO:info@vaccinechoicecanada.com
END:VEVENT
BEGIN:VEVENT
DTSTART;TZID=America/Vancouver:20221108T200000
DTEND;TZID=America/Vancouver:20221108T210000
DTSTAMP:20260419T134135
CREATED:20221108T085433Z
LAST-MODIFIED:20221206T051936Z
UID:22484-1667937600-1667941200@vaccinechoicecanada.com
SUMMARY:VCC Live Tue - Open Discussion
DESCRIPTION:Join us to catch up with each other and share stories of action and encouragement. Our Open Discussion Tuesday and Thursday meetings take place weekly. \nEvent Over
URL:https://vaccinechoicecanada.com/event/open-discussion-tue/
CATEGORIES:Open Discussions
ORGANIZER;CN="Vaccine Choice Canada":MAILTO:info@vaccinechoicecanada.com
END:VEVENT
END:VCALENDAR