BEGIN:VCALENDAR
VERSION:2.0
PRODID:-//Vaccine Choice Canada - ECPv6.12.0.1//NONSGML v1.0//EN
CALSCALE:GREGORIAN
METHOD:PUBLISH
X-WR-CALNAME:Vaccine Choice Canada
X-ORIGINAL-URL:https://vaccinechoicecanada.com
X-WR-CALDESC:Events for Vaccine Choice Canada
REFRESH-INTERVAL;VALUE=DURATION:PT1H
X-Robots-Tag:noindex
X-PUBLISHED-TTL:PT1H
BEGIN:VTIMEZONE
TZID:America/Toronto
BEGIN:DAYLIGHT
TZOFFSETFROM:-0500
TZOFFSETTO:-0400
TZNAME:EDT
DTSTART:20230312T070000
END:DAYLIGHT
BEGIN:STANDARD
TZOFFSETFROM:-0400
TZOFFSETTO:-0500
TZNAME:EST
DTSTART:20231105T060000
END:STANDARD
END:VTIMEZONE
BEGIN:VTIMEZONE
TZID:America/Vancouver
BEGIN:DAYLIGHT
TZOFFSETFROM:-0800
TZOFFSETTO:-0700
TZNAME:PDT
DTSTART:20230312T100000
END:DAYLIGHT
BEGIN:STANDARD
TZOFFSETFROM:-0700
TZOFFSETTO:-0800
TZNAME:PST
DTSTART:20231105T090000
END:STANDARD
END:VTIMEZONE
BEGIN:VTIMEZONE
TZID:Pacific/Honolulu
BEGIN:STANDARD
TZOFFSETFROM:-1000
TZOFFSETTO:-1000
TZNAME:HST
DTSTART:20230101T000000
END:STANDARD
END:VTIMEZONE
BEGIN:VEVENT
DTSTART;TZID=America/Toronto:20230713T190000
DTEND;TZID=America/Toronto:20230713T200000
DTSTAMP:20260419T104754
CREATED:20230626T185006Z
LAST-MODIFIED:20230705T190211Z
UID:32431-1689274800-1689278400@vaccinechoicecanada.com
SUMMARY:VCC Live Thursday - Guest: Glen Jung of Bright Light News
DESCRIPTION:Updates on the Latest Attacks on Our Freedoms\n \nJoin VCC with guest Glen Jung of Bright Light News for an update on the censorship Bill C-18\, officially known as the Online News Act\, passed by the Canadian Senate last month. What responses are we already seeing from social media giants Google and Meta (Facebook & Instagram)\, from mainstream media outlets and from our favorite\, trusted alternative news sources?  Where do we go from here? \nGlen will also provide an update on Bill C-47\, recently enacted into law in Canada. Sections 500 – 504 of this Bill will severely limit access to Natural Health Products in Canada and are the latest attack on our freedoms. \nThese are fascinating\, developing stories to watch in real time.  Please join us\, invite your friends\, and learn how you can help.\nBright Light News Website \nRegister
URL:https://vaccinechoicecanada.com/event/vcc-live-thursday-open-discussion-4/
CATEGORIES:Open Discussions
ORGANIZER;CN="Vaccine Choice Canada":MAILTO:info@vaccinechoicecanada.com
END:VEVENT
BEGIN:VEVENT
DTSTART;TZID=America/Vancouver:20230704T190000
DTEND;TZID=America/Vancouver:20230704T200000
DTSTAMP:20260419T104754
CREATED:20230626T183241Z
LAST-MODIFIED:20230627T210309Z
UID:32420-1688497200-1688500800@vaccinechoicecanada.com
SUMMARY:VCC Live Tuesday - Open Discussion
DESCRIPTION:Join us to catch up with each other and share stories of action and encouragement. Our Tuesday Open Discussion takes place weekly. \nRegister
URL:https://vaccinechoicecanada.com/event/vcc-live-tuesday-open-discussion-3/
CATEGORIES:Open Discussions
ORGANIZER;CN="Vaccine Choice Canada":MAILTO:info@vaccinechoicecanada.com
END:VEVENT
BEGIN:VEVENT
DTSTART;TZID=America/Vancouver:20230704T190000
DTEND;TZID=America/Vancouver:20230704T200000
DTSTAMP:20260419T104754
CREATED:20230626T183241Z
LAST-MODIFIED:20230627T210309Z
UID:32420-1688497200-1688500800@vaccinechoicecanada.com
SUMMARY:VCC Live Tuesday - Open Discussion
DESCRIPTION:Join us to catch up with each other and share stories of action and encouragement. Our Tuesday Open Discussion takes place weekly. \nRegister
URL:https://vaccinechoicecanada.com/event/vcc-live-tuesday-open-discussion-3/
CATEGORIES:Open Discussions
ORGANIZER;CN="Vaccine Choice Canada":MAILTO:info@vaccinechoicecanada.com
END:VEVENT
BEGIN:VEVENT
DTSTART;TZID=America/Vancouver:20230131T190000
DTEND;TZID=America/Vancouver:20230131T200000
DTSTAMP:20260419T104754
CREATED:20230113T212229Z
LAST-MODIFIED:20230301T194607Z
UID:23340-1675191600-1675195200@vaccinechoicecanada.com
SUMMARY:VCC Live Tue - Open Discussion
DESCRIPTION:Join us to catch up with each other and share stories of action and encouragement. Our Tuesday Open Discussion takes place weekly. \nRegister
URL:https://vaccinechoicecanada.com/event/vcc-live-tue-open-discussion-7/
CATEGORIES:Open Discussions
ORGANIZER;CN="Vaccine Choice Canada":MAILTO:info@vaccinechoicecanada.com
END:VEVENT
BEGIN:VEVENT
DTSTART;TZID=America/Vancouver:20230131T190000
DTEND;TZID=America/Vancouver:20230131T200000
DTSTAMP:20260419T104754
CREATED:20230113T212229Z
LAST-MODIFIED:20230301T194607Z
UID:23340-1675191600-1675195200@vaccinechoicecanada.com
SUMMARY:VCC Live Tue - Open Discussion
DESCRIPTION:Join us to catch up with each other and share stories of action and encouragement. Our Tuesday Open Discussion takes place weekly. \nRegister
URL:https://vaccinechoicecanada.com/event/vcc-live-tue-open-discussion-7/
CATEGORIES:Open Discussions
ORGANIZER;CN="Vaccine Choice Canada":MAILTO:info@vaccinechoicecanada.com
END:VEVENT
BEGIN:VEVENT
DTSTART;TZID=America/Vancouver:20230131T190000
DTEND;TZID=America/Vancouver:20230131T200000
DTSTAMP:20260419T104754
CREATED:20230113T212229Z
LAST-MODIFIED:20230301T194607Z
UID:23340-1675191600-1675195200@vaccinechoicecanada.com
SUMMARY:VCC Live Tue - Open Discussion
DESCRIPTION:Join us to catch up with each other and share stories of action and encouragement. Our Tuesday Open Discussion takes place weekly. \nRegister
URL:https://vaccinechoicecanada.com/event/vcc-live-tue-open-discussion-7/
CATEGORIES:Open Discussions
ORGANIZER;CN="Vaccine Choice Canada":MAILTO:info@vaccinechoicecanada.com
END:VEVENT
BEGIN:VEVENT
DTSTART;TZID=America/Vancouver:20230131T190000
DTEND;TZID=America/Vancouver:20230131T200000
DTSTAMP:20260419T104754
CREATED:20230113T212229Z
LAST-MODIFIED:20230301T194607Z
UID:23340-1675191600-1675195200@vaccinechoicecanada.com
SUMMARY:VCC Live Tue - Open Discussion
DESCRIPTION:Join us to catch up with each other and share stories of action and encouragement. Our Tuesday Open Discussion takes place weekly. \nRegister
URL:https://vaccinechoicecanada.com/event/vcc-live-tue-open-discussion-7/
CATEGORIES:Open Discussions
ORGANIZER;CN="Vaccine Choice Canada":MAILTO:info@vaccinechoicecanada.com
END:VEVENT
BEGIN:VEVENT
DTSTART;TZID=America/Vancouver:20230131T190000
DTEND;TZID=America/Vancouver:20230131T200000
DTSTAMP:20260419T104754
CREATED:20230113T212229Z
LAST-MODIFIED:20230301T194607Z
UID:23340-1675191600-1675195200@vaccinechoicecanada.com
SUMMARY:VCC Live Tue - Open Discussion
DESCRIPTION:Join us to catch up with each other and share stories of action and encouragement. Our Tuesday Open Discussion takes place weekly. \nRegister
URL:https://vaccinechoicecanada.com/event/vcc-live-tue-open-discussion-7/
CATEGORIES:Open Discussions
ORGANIZER;CN="Vaccine Choice Canada":MAILTO:info@vaccinechoicecanada.com
END:VEVENT
BEGIN:VEVENT
DTSTART;TZID=America/Toronto:20230525T190000
DTEND;TZID=America/Toronto:20230525T190000
DTSTAMP:20260419T104754
CREATED:20230501T182109Z
LAST-MODIFIED:20230609T153942Z
UID:31068-1685041200-1685041200@vaccinechoicecanada.com
SUMMARY:VCC Live Thursday - Open Discussion
DESCRIPTION:Join us to catch up with each other and share stories of action and encouragement. Our Thursday Open Discussion takes place the second and fourth Thursday of every month. \nRegister
URL:https://vaccinechoicecanada.com/event/vcc-live-thursday-open-discussion-2/
CATEGORIES:Open Discussions
ORGANIZER;CN="Vaccine Choice Canada":MAILTO:info@vaccinechoicecanada.com
END:VEVENT
BEGIN:VEVENT
DTSTART;TZID=America/Vancouver:20230131T190000
DTEND;TZID=America/Vancouver:20230131T200000
DTSTAMP:20260419T104754
CREATED:20230113T212229Z
LAST-MODIFIED:20230301T194607Z
UID:23340-1675191600-1675195200@vaccinechoicecanada.com
SUMMARY:VCC Live Tue - Open Discussion
DESCRIPTION:Join us to catch up with each other and share stories of action and encouragement. Our Tuesday Open Discussion takes place weekly. \nRegister
URL:https://vaccinechoicecanada.com/event/vcc-live-tue-open-discussion-7/
CATEGORIES:Open Discussions
ORGANIZER;CN="Vaccine Choice Canada":MAILTO:info@vaccinechoicecanada.com
END:VEVENT
BEGIN:VEVENT
DTSTART;TZID=America/Vancouver:20230131T190000
DTEND;TZID=America/Vancouver:20230131T200000
DTSTAMP:20260419T104754
CREATED:20230113T212229Z
LAST-MODIFIED:20230301T194607Z
UID:23340-1675191600-1675195200@vaccinechoicecanada.com
SUMMARY:VCC Live Tue - Open Discussion
DESCRIPTION:Join us to catch up with each other and share stories of action and encouragement. Our Tuesday Open Discussion takes place weekly. \nRegister
URL:https://vaccinechoicecanada.com/event/vcc-live-tue-open-discussion-7/
CATEGORIES:Open Discussions
ORGANIZER;CN="Vaccine Choice Canada":MAILTO:info@vaccinechoicecanada.com
END:VEVENT
BEGIN:VEVENT
DTSTART;TZID=America/Vancouver:20230131T190000
DTEND;TZID=America/Vancouver:20230131T200000
DTSTAMP:20260419T104754
CREATED:20230113T212229Z
LAST-MODIFIED:20230301T194607Z
UID:23340-1675191600-1675195200@vaccinechoicecanada.com
SUMMARY:VCC Live Tue - Open Discussion
DESCRIPTION:Join us to catch up with each other and share stories of action and encouragement. Our Tuesday Open Discussion takes place weekly. \nRegister
URL:https://vaccinechoicecanada.com/event/vcc-live-tue-open-discussion-7/
CATEGORIES:Open Discussions
ORGANIZER;CN="Vaccine Choice Canada":MAILTO:info@vaccinechoicecanada.com
END:VEVENT
BEGIN:VEVENT
DTSTART;TZID=America/Vancouver:20230131T190000
DTEND;TZID=America/Vancouver:20230131T200000
DTSTAMP:20260419T104754
CREATED:20230113T212229Z
LAST-MODIFIED:20230301T194607Z
UID:23340-1675191600-1675195200@vaccinechoicecanada.com
SUMMARY:VCC Live Tue - Open Discussion
DESCRIPTION:Join us to catch up with each other and share stories of action and encouragement. Our Tuesday Open Discussion takes place weekly. \nRegister
URL:https://vaccinechoicecanada.com/event/vcc-live-tue-open-discussion-7/
CATEGORIES:Open Discussions
ORGANIZER;CN="Vaccine Choice Canada":MAILTO:info@vaccinechoicecanada.com
END:VEVENT
BEGIN:VEVENT
DTSTART;TZID=America/Toronto:20230427T190000
DTEND;TZID=America/Toronto:20230427T200000
DTSTAMP:20260419T104754
CREATED:20230328T193819Z
LAST-MODIFIED:20230609T153947Z
UID:30082-1682622000-1682625600@vaccinechoicecanada.com
SUMMARY:VCC Live Thu - Open Discussion
DESCRIPTION:Join us to catch up with each other and share stories of action and encouragement. Open Discussions take place the second and fourth Thursday of every month. \nRegister
URL:https://vaccinechoicecanada.com/event/vcc-live-thu-open-discussion-10/
CATEGORIES:Open Discussions
ORGANIZER;CN="Vaccine Choice Canada":MAILTO:info@vaccinechoicecanada.com
END:VEVENT
BEGIN:VEVENT
DTSTART;TZID=America/Vancouver:20230131T190000
DTEND;TZID=America/Vancouver:20230131T200000
DTSTAMP:20260419T104754
CREATED:20230113T212229Z
LAST-MODIFIED:20230301T194607Z
UID:23340-1675191600-1675195200@vaccinechoicecanada.com
SUMMARY:VCC Live Tue - Open Discussion
DESCRIPTION:Join us to catch up with each other and share stories of action and encouragement. Our Tuesday Open Discussion takes place weekly. \nRegister
URL:https://vaccinechoicecanada.com/event/vcc-live-tue-open-discussion-7/
CATEGORIES:Open Discussions
ORGANIZER;CN="Vaccine Choice Canada":MAILTO:info@vaccinechoicecanada.com
END:VEVENT
BEGIN:VEVENT
DTSTART;TZID=America/Vancouver:20230131T190000
DTEND;TZID=America/Vancouver:20230131T200000
DTSTAMP:20260419T104754
CREATED:20230113T212229Z
LAST-MODIFIED:20230301T194607Z
UID:23340-1675191600-1675195200@vaccinechoicecanada.com
SUMMARY:VCC Live Tue - Open Discussion
DESCRIPTION:Join us to catch up with each other and share stories of action and encouragement. Our Tuesday Open Discussion takes place weekly. \nRegister
URL:https://vaccinechoicecanada.com/event/vcc-live-tue-open-discussion-7/
CATEGORIES:Open Discussions
ORGANIZER;CN="Vaccine Choice Canada":MAILTO:info@vaccinechoicecanada.com
END:VEVENT
BEGIN:VEVENT
DTSTART;TZID=America/Toronto:20230413T190000
DTEND;TZID=America/Toronto:20230413T200000
DTSTAMP:20260419T104754
CREATED:20230328T193358Z
LAST-MODIFIED:20230609T153949Z
UID:30079-1681412400-1681416000@vaccinechoicecanada.com
SUMMARY:VCC Live Thu - Open Discussion
DESCRIPTION:Join us to catch up with each other and share stories of action and encouragement.  Open Discussions take place the second and fourth Thursday of every month. \nRegister
URL:https://vaccinechoicecanada.com/event/vcc-live-thu-open-discussion-9/
CATEGORIES:Open Discussions
ORGANIZER;CN="Vaccine Choice Canada":MAILTO:info@vaccinechoicecanada.com
END:VEVENT
BEGIN:VEVENT
DTSTART;TZID=America/Vancouver:20230131T190000
DTEND;TZID=America/Vancouver:20230131T200000
DTSTAMP:20260419T104754
CREATED:20230113T212229Z
LAST-MODIFIED:20230301T194607Z
UID:23340-1675191600-1675195200@vaccinechoicecanada.com
SUMMARY:VCC Live Tue - Open Discussion
DESCRIPTION:Join us to catch up with each other and share stories of action and encouragement. Our Tuesday Open Discussion takes place weekly. \nRegister
URL:https://vaccinechoicecanada.com/event/vcc-live-tue-open-discussion-7/
CATEGORIES:Open Discussions
ORGANIZER;CN="Vaccine Choice Canada":MAILTO:info@vaccinechoicecanada.com
END:VEVENT
BEGIN:VEVENT
DTSTART;TZID=America/Vancouver:20230131T190000
DTEND;TZID=America/Vancouver:20230131T200000
DTSTAMP:20260419T104754
CREATED:20230113T212229Z
LAST-MODIFIED:20230301T194607Z
UID:23340-1675191600-1675195200@vaccinechoicecanada.com
SUMMARY:VCC Live Tue - Open Discussion
DESCRIPTION:Join us to catch up with each other and share stories of action and encouragement. Our Tuesday Open Discussion takes place weekly. \nRegister
URL:https://vaccinechoicecanada.com/event/vcc-live-tue-open-discussion-7/
CATEGORIES:Open Discussions
ORGANIZER;CN="Vaccine Choice Canada":MAILTO:info@vaccinechoicecanada.com
END:VEVENT
BEGIN:VEVENT
DTSTART;TZID=America/Vancouver:20230131T190000
DTEND;TZID=America/Vancouver:20230131T200000
DTSTAMP:20260419T104754
CREATED:20230113T212229Z
LAST-MODIFIED:20230301T194607Z
UID:23340-1675191600-1675195200@vaccinechoicecanada.com
SUMMARY:VCC Live Tue - Open Discussion
DESCRIPTION:Join us to catch up with each other and share stories of action and encouragement. Our Tuesday Open Discussion takes place weekly. \nRegister
URL:https://vaccinechoicecanada.com/event/vcc-live-tue-open-discussion-7/
CATEGORIES:Open Discussions
ORGANIZER;CN="Vaccine Choice Canada":MAILTO:info@vaccinechoicecanada.com
END:VEVENT
BEGIN:VEVENT
DTSTART;TZID=America/Toronto:20230323T190000
DTEND;TZID=America/Toronto:20230323T200000
DTSTAMP:20260419T104754
CREATED:20230301T200500Z
LAST-MODIFIED:20230301T200518Z
UID:28182-1679598000-1679601600@vaccinechoicecanada.com
SUMMARY:VCC Live Thu - Open Discussion
DESCRIPTION:Join us to catch up with each other and share stories of action and encouragement.  Our Thursday Open Discussion takes place the second and fourth Thursday of every month.   \nRegister
URL:https://vaccinechoicecanada.com/event/vcc-live-thu-open-discussion-8/
CATEGORIES:Open Discussions
ORGANIZER;CN="Vaccine Choice Canada":MAILTO:info@vaccinechoicecanada.com
END:VEVENT
BEGIN:VEVENT
DTSTART;TZID=America/Vancouver:20230131T190000
DTEND;TZID=America/Vancouver:20230131T200000
DTSTAMP:20260419T104754
CREATED:20230113T212229Z
LAST-MODIFIED:20230301T194607Z
UID:23340-1675191600-1675195200@vaccinechoicecanada.com
SUMMARY:VCC Live Tue - Open Discussion
DESCRIPTION:Join us to catch up with each other and share stories of action and encouragement. Our Tuesday Open Discussion takes place weekly. \nRegister
URL:https://vaccinechoicecanada.com/event/vcc-live-tue-open-discussion-7/
CATEGORIES:Open Discussions
ORGANIZER;CN="Vaccine Choice Canada":MAILTO:info@vaccinechoicecanada.com
END:VEVENT
BEGIN:VEVENT
DTSTART;TZID=America/Vancouver:20230131T190000
DTEND;TZID=America/Vancouver:20230131T200000
DTSTAMP:20260419T104754
CREATED:20230113T212229Z
LAST-MODIFIED:20230301T194607Z
UID:23340-1675191600-1675195200@vaccinechoicecanada.com
SUMMARY:VCC Live Tue - Open Discussion
DESCRIPTION:Join us to catch up with each other and share stories of action and encouragement. Our Tuesday Open Discussion takes place weekly. \nRegister
URL:https://vaccinechoicecanada.com/event/vcc-live-tue-open-discussion-7/
CATEGORIES:Open Discussions
ORGANIZER;CN="Vaccine Choice Canada":MAILTO:info@vaccinechoicecanada.com
END:VEVENT
BEGIN:VEVENT
DTSTART;TZID=Pacific/Honolulu:20230309T190000
DTEND;TZID=Pacific/Honolulu:20230309T200000
DTSTAMP:20260419T104754
CREATED:20230301T193732Z
LAST-MODIFIED:20230301T194349Z
UID:28171-1678388400-1678392000@vaccinechoicecanada.com
SUMMARY:VCC Live Thu - Open Discussion
DESCRIPTION:Join us to catch up with each other and share stories of action and encouragement. Open Discussions take place the second and fourth Thursday of every month. \nRegister
URL:https://vaccinechoicecanada.com/event/vcc-live-thu-open-discussion-7/
CATEGORIES:Open Discussions
ORGANIZER;CN="Vaccine Choice Canada":MAILTO:info@vaccinechoicecanada.com
END:VEVENT
BEGIN:VEVENT
DTSTART;TZID=America/Vancouver:20230131T190000
DTEND;TZID=America/Vancouver:20230131T200000
DTSTAMP:20260419T104754
CREATED:20230113T212229Z
LAST-MODIFIED:20230301T194607Z
UID:23340-1675191600-1675195200@vaccinechoicecanada.com
SUMMARY:VCC Live Tue - Open Discussion
DESCRIPTION:Join us to catch up with each other and share stories of action and encouragement. Our Tuesday Open Discussion takes place weekly. \nRegister
URL:https://vaccinechoicecanada.com/event/vcc-live-tue-open-discussion-7/
CATEGORIES:Open Discussions
ORGANIZER;CN="Vaccine Choice Canada":MAILTO:info@vaccinechoicecanada.com
END:VEVENT
BEGIN:VEVENT
DTSTART;TZID=America/Vancouver:20230131T190000
DTEND;TZID=America/Vancouver:20230131T200000
DTSTAMP:20260419T104754
CREATED:20230113T212229Z
LAST-MODIFIED:20230301T194607Z
UID:23340-1675191600-1675195200@vaccinechoicecanada.com
SUMMARY:VCC Live Tue - Open Discussion
DESCRIPTION:Join us to catch up with each other and share stories of action and encouragement. Our Tuesday Open Discussion takes place weekly. \nRegister
URL:https://vaccinechoicecanada.com/event/vcc-live-tue-open-discussion-7/
CATEGORIES:Open Discussions
ORGANIZER;CN="Vaccine Choice Canada":MAILTO:info@vaccinechoicecanada.com
END:VEVENT
BEGIN:VEVENT
DTSTART;TZID=America/Toronto:20230223T190000
DTEND;TZID=America/Toronto:20230223T200000
DTSTAMP:20260419T104754
CREATED:20230202T124019Z
LAST-MODIFIED:20230208T224258Z
UID:25450-1677178800-1677182400@vaccinechoicecanada.com
SUMMARY:VCC Live Thu - Special Returning Guest: Pamela Richardson
DESCRIPTION:Part 2: Options For Covid-19 Injection Detoxification\n \nPamela Richardson will be offering a unique and broad perspective on detoxification from the COVID-19 injections\, including bioenergetics\, nutrition\, energy medicine and spirituality. Pamela’s background includes neurophysiology research\, public health\, risk management\, and health care administration\, primarily for the government in Canada and Australia. She founded and directs a spirituality group for members of Vaccine Choice Canada and other health and freedom groups.\nHer research is available at: pamelarichardson.substack.com \nRegister
URL:https://vaccinechoicecanada.com/event/vcc-live-thu-open-discussion-6/
CATEGORIES:Open Discussions
ORGANIZER;CN="Vaccine Choice Canada":MAILTO:info@vaccinechoicecanada.com
END:VEVENT
BEGIN:VEVENT
DTSTART;TZID=America/Vancouver:20230131T190000
DTEND;TZID=America/Vancouver:20230131T200000
DTSTAMP:20260419T104754
CREATED:20230113T212229Z
LAST-MODIFIED:20230301T194607Z
UID:23340-1675191600-1675195200@vaccinechoicecanada.com
SUMMARY:VCC Live Tue - Open Discussion
DESCRIPTION:Join us to catch up with each other and share stories of action and encouragement. Our Tuesday Open Discussion takes place weekly. \nRegister
URL:https://vaccinechoicecanada.com/event/vcc-live-tue-open-discussion-7/
CATEGORIES:Open Discussions
ORGANIZER;CN="Vaccine Choice Canada":MAILTO:info@vaccinechoicecanada.com
END:VEVENT
BEGIN:VEVENT
DTSTART;TZID=America/Vancouver:20230131T190000
DTEND;TZID=America/Vancouver:20230131T200000
DTSTAMP:20260419T104754
CREATED:20230113T212229Z
LAST-MODIFIED:20230301T194607Z
UID:23340-1675191600-1675195200@vaccinechoicecanada.com
SUMMARY:VCC Live Tue - Open Discussion
DESCRIPTION:Join us to catch up with each other and share stories of action and encouragement. Our Tuesday Open Discussion takes place weekly. \nRegister
URL:https://vaccinechoicecanada.com/event/vcc-live-tue-open-discussion-7/
CATEGORIES:Open Discussions
ORGANIZER;CN="Vaccine Choice Canada":MAILTO:info@vaccinechoicecanada.com
END:VEVENT
BEGIN:VEVENT
DTSTART;TZID=America/Toronto:20230209T190000
DTEND;TZID=America/Toronto:20230209T200000
DTSTAMP:20260419T104754
CREATED:20230202T123754Z
LAST-MODIFIED:20230202T123836Z
UID:25447-1675969200-1675972800@vaccinechoicecanada.com
SUMMARY:VCC Live Thu - Open Discussion
DESCRIPTION:Join us to catch up with each other and share stories of action and encouragement. Our Thursday Open Discussion takes place the second and fourth Thursday of every month. \nRegister
URL:https://vaccinechoicecanada.com/event/vcc-live-thu-open-discussion-5/
CATEGORIES:Open Discussions
ORGANIZER;CN="Vaccine Choice Canada":MAILTO:info@vaccinechoicecanada.com
END:VEVENT
END:VCALENDAR