BEGIN:VCALENDAR
VERSION:2.0
PRODID:-//Vaccine Choice Canada - ECPv6.12.0.1//NONSGML v1.0//EN
CALSCALE:GREGORIAN
METHOD:PUBLISH
X-WR-CALNAME:Vaccine Choice Canada
X-ORIGINAL-URL:https://vaccinechoicecanada.com
X-WR-CALDESC:Events for Vaccine Choice Canada
REFRESH-INTERVAL;VALUE=DURATION:PT1H
X-Robots-Tag:noindex
X-PUBLISHED-TTL:PT1H
BEGIN:VTIMEZONE
TZID:America/Vancouver
BEGIN:DAYLIGHT
TZOFFSETFROM:-0800
TZOFFSETTO:-0700
TZNAME:PDT
DTSTART:20250309T100000
END:DAYLIGHT
BEGIN:STANDARD
TZOFFSETFROM:-0700
TZOFFSETTO:-0800
TZNAME:PST
DTSTART:20251102T090000
END:STANDARD
END:VTIMEZONE
BEGIN:VTIMEZONE
TZID:America/Toronto
BEGIN:DAYLIGHT
TZOFFSETFROM:-0500
TZOFFSETTO:-0400
TZNAME:EDT
DTSTART:20250309T070000
END:DAYLIGHT
BEGIN:STANDARD
TZOFFSETFROM:-0400
TZOFFSETTO:-0500
TZNAME:EST
DTSTART:20251102T060000
END:STANDARD
END:VTIMEZONE
BEGIN:VEVENT
DTSTART;TZID=America/Vancouver:20250206T190000
DTEND;TZID=America/Vancouver:20250206T200000
DTSTAMP:20260420T023027
CREATED:20250117T113508Z
LAST-MODIFIED:20250117T115809Z
UID:41705-1738868400-1738872000@vaccinechoicecanada.com
SUMMARY:VCC Live Thu - Open Discussion Meeting (Pacific Time)
DESCRIPTION:Open Discussion Meeting\nOur Open Discussion Meetings are held every second Thursday and now alternate between Eastern and Pacific Time. This way we can connect at a time that works best for the VCC family across the country. Of course all are welcome at both meetings. We look forward to spending time with you every second week. \nRegister
URL:https://vaccinechoicecanada.com/event/vcc-live-thu-open-discussion-meeting-pacific-time/
CATEGORIES:Open Discussions
ORGANIZER;CN="Vaccine Choice Canada":MAILTO:info@vaccinechoicecanada.com
END:VEVENT
BEGIN:VEVENT
DTSTART;TZID=America/Toronto:20250218T200000
DTEND;TZID=America/Toronto:20250218T210000
DTSTAMP:20260420T023027
CREATED:20250205T125153Z
LAST-MODIFIED:20250205T125935Z
UID:41999-1739908800-1739912400@vaccinechoicecanada.com
SUMMARY:VCC-CHA Live Tue - Guest: Dr. Jennifer Hibberd
DESCRIPTION:The Dental Connection to Your Health:\nDebunking Common Dental Misconceptions\n \nJoin us as we discuss controversies about oral health with Dr. Jennifer Hibberd\, Dental Surgeon. She is a co-founder of the Canadian Covid Care Alliance (CCCA) and co-founder of the World Council for Health (WCH). She is the vice-president of the Canada Health Alliance and vice-president of the World Freedom Alliance. She is the Canadian Ambassador for People’s Health Alliance and on the scientific committees for the Medicos Pela Vida (MPV- Doctors for Life) and the South African Vaccine Injured Medico-legal Study group(SAVIMS). She is a Senior Fellow of the IMA (renamed from the FLCCC). \nDon’t miss the important presentation from this expert in the field of Dentistry. \nRegister
URL:https://vaccinechoicecanada.com/event/vcc-cha-live-tue-guest-dr-jennifer-hibberd/
CATEGORIES:Open Discussions
ORGANIZER;CN="Vaccine Choice Canada":MAILTO:info@vaccinechoicecanada.com
END:VEVENT
BEGIN:VEVENT
DTSTART;TZID=America/Toronto:20250220T190000
DTEND;TZID=America/Toronto:20250220T200000
DTSTAMP:20260420T023027
CREATED:20250117T115316Z
LAST-MODIFIED:20250117T115633Z
UID:41712-1740078000-1740081600@vaccinechoicecanada.com
SUMMARY:VCC Live Thu - Open Discussion Meeting (Eastern Time)
DESCRIPTION:Open Discussion Meeting\nOur Open Discussion Meetings are held every second Thursday and now alternate between Eastern and Pacific Time. This way we can connect at a time that works best for the VCC family across the country. Of course all are welcome at both meetings. We look forward to spending time with you every second week.  \nRegister
URL:https://vaccinechoicecanada.com/event/vcc-live-thu-open-discussion-meeting-eastern-time-2/
CATEGORIES:Open Discussions
ORGANIZER;CN="Vaccine Choice Canada":MAILTO:info@vaccinechoicecanada.com
END:VEVENT
END:VCALENDAR