BEGIN:VCALENDAR
VERSION:2.0
PRODID:-//Vaccine Choice Canada - ECPv6.12.0.1//NONSGML v1.0//EN
CALSCALE:GREGORIAN
METHOD:PUBLISH
X-ORIGINAL-URL:https://vaccinechoicecanada.com
X-WR-CALDESC:Events for Vaccine Choice Canada
REFRESH-INTERVAL;VALUE=DURATION:PT1H
X-Robots-Tag:noindex
X-PUBLISHED-TTL:PT1H
BEGIN:VTIMEZONE
TZID:America/Vancouver
BEGIN:DAYLIGHT
TZOFFSETFROM:-0800
TZOFFSETTO:-0700
TZNAME:PDT
DTSTART:20240310T100000
END:DAYLIGHT
BEGIN:STANDARD
TZOFFSETFROM:-0700
TZOFFSETTO:-0800
TZNAME:PST
DTSTART:20241103T090000
END:STANDARD
END:VTIMEZONE
BEGIN:VTIMEZONE
TZID:America/Toronto
BEGIN:DAYLIGHT
TZOFFSETFROM:-0500
TZOFFSETTO:-0400
TZNAME:EDT
DTSTART:20240310T070000
END:DAYLIGHT
BEGIN:STANDARD
TZOFFSETFROM:-0400
TZOFFSETTO:-0500
TZNAME:EST
DTSTART:20241103T060000
END:STANDARD
END:VTIMEZONE
BEGIN:VEVENT
DTSTART;TZID=America/Vancouver:20241107T190000
DTEND;TZID=America/Vancouver:20241107T200000
DTSTAMP:20260420T070502
CREATED:20241009T021428Z
LAST-MODIFIED:20241009T023252Z
UID:41250-1731006000-1731009600@vaccinechoicecanada.com
SUMMARY:Open Discussion Meeting (Pacific Time)
DESCRIPTION:Open Discussion Meeting\nWe have restarted VCC Open meetings again. The meetings are being held every second Thursday with the first one having started on October 24th at 7:00 PM ET. We now alternate between east and west with the first week having been at 7:00 PM ET\, and this meeting\, on November 7th\, at 7:00 PM PT. This way we can connect at a time that works for the VCC family across the country. Of course all are welcome at both meetings. We are looking forward to having this time with you all again. \nRegister
URL:https://vaccinechoicecanada.com/event/open-discussion-meeting-pacific-time/
CATEGORIES:Open Discussions
ORGANIZER;CN="Vaccine Choice Canada":MAILTO:info@vaccinechoicecanada.com
END:VEVENT
BEGIN:VEVENT
DTSTART;TZID=America/Toronto:20241121T190000
DTEND;TZID=America/Toronto:20241121T200000
DTSTAMP:20260420T070502
CREATED:20241022T182316Z
LAST-MODIFIED:20241022T183611Z
UID:41285-1732215600-1732219200@vaccinechoicecanada.com
SUMMARY:Open Discussion Meeting (Eastern Time)
DESCRIPTION:Open Discussion\nWe have restarted VCC Open Discussion meetings again. The meetings are being held every second Thursday and now alternate between Eastern and Pacific Time. This way we can connect at a time that works for the VCC family across the country. Of course all are welcome at both meetings. We are looking forward to having this time with you all again. \nRegister
URL:https://vaccinechoicecanada.com/event/open-discussion-meeting-eastern-time/
CATEGORIES:Open Discussions
END:VEVENT
END:VCALENDAR