BEGIN:VCALENDAR
VERSION:2.0
PRODID:-//Vaccine Choice Canada - ECPv6.12.0.1//NONSGML v1.0//EN
CALSCALE:GREGORIAN
METHOD:PUBLISH
X-WR-CALNAME:Vaccine Choice Canada
X-ORIGINAL-URL:https://vaccinechoicecanada.com
X-WR-CALDESC:Events for Vaccine Choice Canada
REFRESH-INTERVAL;VALUE=DURATION:PT1H
X-Robots-Tag:noindex
X-PUBLISHED-TTL:PT1H
BEGIN:VTIMEZONE
TZID:America/Toronto
BEGIN:DAYLIGHT
TZOFFSETFROM:-0500
TZOFFSETTO:-0400
TZNAME:EDT
DTSTART:20240310T070000
END:DAYLIGHT
BEGIN:STANDARD
TZOFFSETFROM:-0400
TZOFFSETTO:-0500
TZNAME:EST
DTSTART:20241103T060000
END:STANDARD
END:VTIMEZONE
BEGIN:VEVENT
DTSTART;TZID=America/Toronto:20241015T200000
DTEND;TZID=America/Toronto:20241015T210000
DTSTAMP:20260420T054443
CREATED:20240925T012223Z
LAST-MODIFIED:20241028T203418Z
UID:41089-1729022400-1729026000@vaccinechoicecanada.com
SUMMARY:VCC-CHA Live Tue - Guest: John Graff
DESCRIPTION:Is our food contaminated with mRNA technology?\n \nJohn Graff is the Chairman of Living Streams Institute Inc.\, an influential\, freedom oriented think tank. He serves as a board director of the National Citizen’s Inquiry\, is a former college professor\, and is currently a consultant to clinics\, international governments\, and drug companies. With extensive experience and training\, John addresses the pressing issues we face today. He is a nutritionist\, chemist\, process engineer\, agribusiness executive\, Bible teacher\, farmer\, husband\, and father. His Crossroads Weekend Seminars explore in-depth information and actions to address challenges associated with genetic therapy\, digital currency\, food systems\, alternative energy\, and the accompanying spiritual battles. \nFor more information on these courses\, contact: livingstreamsinstitute@protonmail.com  \nRegister
URL:https://vaccinechoicecanada.com/event/vcc-cha-live-tue-guest-john-graff/
CATEGORIES:Live Guests
ORGANIZER;CN="Vaccine Choice Canada":MAILTO:info@vaccinechoicecanada.com
END:VEVENT
END:VCALENDAR