BEGIN:VCALENDAR
VERSION:2.0
PRODID:-//Vaccine Choice Canada - ECPv6.12.0.1//NONSGML v1.0//EN
CALSCALE:GREGORIAN
METHOD:PUBLISH
X-ORIGINAL-URL:https://vaccinechoicecanada.com
X-WR-CALDESC:Events for Vaccine Choice Canada
REFRESH-INTERVAL;VALUE=DURATION:PT1H
X-Robots-Tag:noindex
X-PUBLISHED-TTL:PT1H
BEGIN:VTIMEZONE
TZID:America/Toronto
BEGIN:DAYLIGHT
TZOFFSETFROM:-0500
TZOFFSETTO:-0400
TZNAME:EDT
DTSTART:20240310T070000
END:DAYLIGHT
BEGIN:STANDARD
TZOFFSETFROM:-0400
TZOFFSETTO:-0500
TZNAME:EST
DTSTART:20241103T060000
END:STANDARD
END:VTIMEZONE
BEGIN:VEVENT
DTSTART;TZID=America/Toronto:20240528T200000
DTEND;TZID=America/Toronto:20240528T210000
DTSTAMP:20260420T114609
CREATED:20240515T005800Z
LAST-MODIFIED:20240515T130900Z
UID:39751-1716926400-1716930000@vaccinechoicecanada.com
SUMMARY:VCC-CHA Live Tuesday Guest: Dr. Michelle Perro
DESCRIPTION:In Conversation with Dr. Michelle Perro\n \nTake charge of your family’s health care with pediatrician Michelle Perro\, MD\, DHOM. Drawing on four decades of experience in acute and integrative medicine\, Dr. Perro educates and empowers parents to take the lead in raising healthy children. She is Executive Director of GMO Science and has lectured widely on environmental health and justice issues focused on children. She co-authored the book What’s Making our Children Sick?\, and plans to release her latest book\, Making Our Children Well\, in 2024. \nRegister
URL:https://vaccinechoicecanada.com/event/vcc-cha-live-tuesday-guest-dr-michelle-perro/
CATEGORIES:Live Guests
ORGANIZER;CN="Vaccine Choice Canada":MAILTO:info@vaccinechoicecanada.com
END:VEVENT
END:VCALENDAR