BEGIN:VCALENDAR
VERSION:2.0
PRODID:-//Vaccine Choice Canada - ECPv6.12.0.1//NONSGML v1.0//EN
CALSCALE:GREGORIAN
METHOD:PUBLISH
X-WR-CALNAME:Vaccine Choice Canada
X-ORIGINAL-URL:https://vaccinechoicecanada.com
X-WR-CALDESC:Events for Vaccine Choice Canada
REFRESH-INTERVAL;VALUE=DURATION:PT1H
X-Robots-Tag:noindex
X-PUBLISHED-TTL:PT1H
BEGIN:VTIMEZONE
TZID:America/Toronto
BEGIN:DAYLIGHT
TZOFFSETFROM:-0500
TZOFFSETTO:-0400
TZNAME:EDT
DTSTART:20240310T070000
END:DAYLIGHT
BEGIN:STANDARD
TZOFFSETFROM:-0400
TZOFFSETTO:-0500
TZNAME:EST
DTSTART:20241103T060000
END:STANDARD
END:VTIMEZONE
BEGIN:VEVENT
DTSTART;TZID=America/Toronto:20240313T190000
DTEND;TZID=America/Toronto:20240313T200000
DTSTAMP:20260420T164851
CREATED:20240305T210617Z
LAST-MODIFIED:20240305T213147Z
UID:38272-1710356400-1710360000@vaccinechoicecanada.com
SUMMARY:VCC-CHA Live Wednesday - Guests: David Stephan & Todd Harris
DESCRIPTION:The People vs David and Collet Stephan with David Stephan and Todd Harris\n \nOn Wednesday\, March 13th we are joined by David Stephan\, VP Truehope Nutritional Support and filmmaker Todd Harris of Matador Films to discuss Todd’s new film\, The People vs David and Collet Stephan. It tells the story of the Stephan family\, who suffered the tragedy of losing their toddler son Ezekiel\, and being blamed for his death. They were hounded by the media\, endured years of legal battles and spent hundreds of thousands of dollars to defend themselves. The crown tried to use the death of Ezekiel to create case law that would criminalize parents who don’t vaccinate their children. This spring\, David and Todd will begin a cross-country tour to screen The People vs David and Collet Stephan in movie theatres across Canada.\nWebsite:  https://www.bigpicturemovie.com/ \nFilm Trailer:   https://vimeo.com/913105859?share=copy \nRegister
URL:https://vaccinechoicecanada.com/event/vcc-cha-live-wednesday-guests-david-stephan-todd-harris/
CATEGORIES:Live Guests
ORGANIZER;CN="Vaccine Choice Canada":MAILTO:info@vaccinechoicecanada.com
END:VEVENT
END:VCALENDAR