BEGIN:VCALENDAR
VERSION:2.0
PRODID:-//Vaccine Choice Canada - ECPv6.12.0.1//NONSGML v1.0//EN
CALSCALE:GREGORIAN
METHOD:PUBLISH
X-WR-CALNAME:Vaccine Choice Canada
X-ORIGINAL-URL:https://vaccinechoicecanada.com
X-WR-CALDESC:Events for Vaccine Choice Canada
REFRESH-INTERVAL;VALUE=DURATION:PT1H
X-Robots-Tag:noindex
X-PUBLISHED-TTL:PT1H
BEGIN:VTIMEZONE
TZID:America/Toronto
BEGIN:DAYLIGHT
TZOFFSETFROM:-0500
TZOFFSETTO:-0400
TZNAME:EDT
DTSTART:20240310T070000
END:DAYLIGHT
BEGIN:STANDARD
TZOFFSETFROM:-0400
TZOFFSETTO:-0500
TZNAME:EST
DTSTART:20241103T060000
END:STANDARD
END:VTIMEZONE
BEGIN:VEVENT
DTSTART;TZID=America/Toronto:20240306T190000
DTEND;TZID=America/Toronto:20240306T200000
DTSTAMP:20260420T164729
CREATED:20240304T153840Z
LAST-MODIFIED:20240304T155018Z
UID:38070-1709751600-1709755200@vaccinechoicecanada.com
SUMMARY:VCC - CHA Live Wed - Guests: Mark Trozzi & Constitutional Lawyer\, Michael Alexander
DESCRIPTION:A Discussion on Their Filing of the Notice of Appeal\nDr. Mark Trozzi and Constitutional Lawyer\, Michael Alexander\, will join us to discuss the filing of their notice of appeal to the divisional court of Ontario regarding the CPSO tribunal’s recent decision to revoke Dr. Trozzi’s Ontario license. This is a moment of truth for Ontario; all similar prior COVID issues in Ontario’s courts have been dealt with on the standard of “reasonableness”\, but this must be on a standard of “correctness”. That is why Dr. Trozzi walked through the abusive gauntlet of the CPSO’s kangaroo tribunal; so that they would be judged by this standard of “correctness” in court. \nDr. Trozzi has rare hands that are 100% clean of blood through the covid operation; while the CPSO is guilty of negligent mass assault and homicide. \nTheir goal in filing this notice of appeal is to restore all the fine doctors and nurses who did the right things through covid; and to ensure they are in place to serve and protect Canadians moving forward. Without these rare nurses and doctors who will not be muzzled or coerced into violating their patients\, Canadians are sitting ducks. This appeal will tell us if we have functional courts in Ontario that are willing to do the right thing; or if we need to acknowledge the death of the system. \nWe need to raise awareness and funds for this current front line in the fight for health\, human rights\, and rule of law in Ontario and across Canada. \nZoom Link: Join Us
URL:https://vaccinechoicecanada.com/event/vcc-cha-live-wed-guests-mark-trozzi-constitutional-lawyer-michael-alexander/
CATEGORIES:Live Guests
ORGANIZER;CN="Vaccine Choice Canada":MAILTO:info@vaccinechoicecanada.com
END:VEVENT
END:VCALENDAR