BEGIN:VCALENDAR
VERSION:2.0
PRODID:-//Vaccine Choice Canada - ECPv6.12.0.1//NONSGML v1.0//EN
CALSCALE:GREGORIAN
METHOD:PUBLISH
X-ORIGINAL-URL:https://vaccinechoicecanada.com
X-WR-CALDESC:Events for Vaccine Choice Canada
REFRESH-INTERVAL;VALUE=DURATION:PT1H
X-Robots-Tag:noindex
X-PUBLISHED-TTL:PT1H
BEGIN:VTIMEZONE
TZID:America/Toronto
BEGIN:DAYLIGHT
TZOFFSETFROM:-0500
TZOFFSETTO:-0400
TZNAME:EDT
DTSTART:20240310T070000
END:DAYLIGHT
BEGIN:STANDARD
TZOFFSETFROM:-0400
TZOFFSETTO:-0500
TZNAME:EST
DTSTART:20241103T060000
END:STANDARD
END:VTIMEZONE
BEGIN:VEVENT
DTSTART;TZID=America/Toronto:20240228T190000
DTEND;TZID=America/Toronto:20240228T200000
DTSTAMP:20260420T165002
CREATED:20240226T034224Z
LAST-MODIFIED:20240305T213743Z
UID:37851-1709146800-1709150400@vaccinechoicecanada.com
SUMMARY:VCC - CHA Live Wednesday - Guest: Dr. Byram Bridle
DESCRIPTION:VCC is pleased to announce an in depth conversation with Dr. Byram Bridle.\nDr. Byram Bridle is an Associate Professor of Viral Immunology in the Department of Pathobiology at the University of Guelph.\nHe is also the Chief Operating Officer with Immunoceutica\, whose vision is to: Educate\, empower and equip the global community to achieve health and well-being more naturally. \nWebsite:  https://immunoceutica.ca/ \nIn our conversation we explore his journey from being an internationally respected vaccine developer to being censored for questioning the COVID vaccine narrative\, and his new research into supporting health and well-being naturally. \nZoom Link: Join Us
URL:https://vaccinechoicecanada.com/event/vcc-cha-live-wednesday-guest-dr-byram-bridle/
CATEGORIES:Live Guests
ORGANIZER;CN="Vaccine Choice Canada":MAILTO:info@vaccinechoicecanada.com
END:VEVENT
END:VCALENDAR