BEGIN:VCALENDAR
VERSION:2.0
PRODID:-//Vaccine Choice Canada - ECPv6.12.0.1//NONSGML v1.0//EN
CALSCALE:GREGORIAN
METHOD:PUBLISH
X-ORIGINAL-URL:https://vaccinechoicecanada.com
X-WR-CALDESC:Events for Vaccine Choice Canada
REFRESH-INTERVAL;VALUE=DURATION:PT1H
X-Robots-Tag:noindex
X-PUBLISHED-TTL:PT1H
BEGIN:VTIMEZONE
TZID:America/Toronto
BEGIN:DAYLIGHT
TZOFFSETFROM:-0500
TZOFFSETTO:-0400
TZNAME:EDT
DTSTART:20230312T070000
END:DAYLIGHT
BEGIN:STANDARD
TZOFFSETFROM:-0400
TZOFFSETTO:-0500
TZNAME:EST
DTSTART:20231105T060000
END:STANDARD
END:VTIMEZONE
BEGIN:VEVENT
DTSTART;TZID=America/Toronto:20231101T190000
DTEND;TZID=America/Toronto:20231101T200000
DTSTAMP:20260420T232601
CREATED:20231010T192828Z
LAST-MODIFIED:20231018T182044Z
UID:35382-1698865200-1698868800@vaccinechoicecanada.com
SUMMARY:VCC - CHA Live Wednesday - Guests: Deanna McLeod & Mary Sharpe
DESCRIPTION:Protect Pregnancy and Breastfeeding Campaign\n   \nA collaboration by the Canadian Covid Care Alliance and the Mama Bears Project has brought together an international panel of experts to launch this campaign\, creating a resource guide on COVID-19\, mRNA vaccines and the safety and ethics of their use by pregnant and breastfeeding women. The campaign seeks to educate and empower women to make informed choices for themselves and their babies. Deanna McLeod HBSc and Mary Sharpe RM\, PhD will join us to talk about the campaign.\n  \nDeanna is an expert in evidence-based data analysis and medical publications peer review. She is chair of the strategic advisory committee at the Canadian Covid Care Alliance. Mary is a registered midwife and associate professor in the Midwifery Education Program at Toronto Metropolitan University. She supports undisturbed pregnancy\, birth\, and lactation and is an advocate for informed choice and the precautionary principle.\n  \n\nWebsites: \nhttps://www.canadiancovidcarealliance.org/all/protect-pregnancy/ \nhttps://mamabearsproject.com/protect-pregnancy-campaign/ \n\nRegister
URL:https://vaccinechoicecanada.com/event/vcc-cha-live-wednesday-guest-deanna-mcleod-mary-sharpe/
CATEGORIES:Live Guests
ORGANIZER;CN="Vaccine Choice Canada":MAILTO:info@vaccinechoicecanada.com
END:VEVENT
END:VCALENDAR