BEGIN:VCALENDAR
VERSION:2.0
PRODID:-//Vaccine Choice Canada - ECPv6.12.0.1//NONSGML v1.0//EN
CALSCALE:GREGORIAN
METHOD:PUBLISH
X-WR-CALNAME:Vaccine Choice Canada
X-ORIGINAL-URL:https://vaccinechoicecanada.com
X-WR-CALDESC:Events for Vaccine Choice Canada
REFRESH-INTERVAL;VALUE=DURATION:PT1H
X-Robots-Tag:noindex
X-PUBLISHED-TTL:PT1H
BEGIN:VTIMEZONE
TZID:America/Toronto
BEGIN:DAYLIGHT
TZOFFSETFROM:-0500
TZOFFSETTO:-0400
TZNAME:EDT
DTSTART:20230312T070000
END:DAYLIGHT
BEGIN:STANDARD
TZOFFSETFROM:-0400
TZOFFSETTO:-0500
TZNAME:EST
DTSTART:20231105T060000
END:STANDARD
END:VTIMEZONE
BEGIN:VEVENT
DTSTART;TZID=America/Toronto:20231025T190000
DTEND;TZID=America/Toronto:20231025T200000
DTSTAMP:20260421T010846
CREATED:20231010T183551Z
LAST-MODIFIED:20231019T143928Z
UID:35372-1698260400-1698264000@vaccinechoicecanada.com
SUMMARY:VCC - CHA Live Wednesday - Guest: Todd Harris
DESCRIPTION:New series “The Big Picture”\n.   \nTodd Michael Harris will join us to discuss his most ambitious project to date\, a six episode docuseries titled The Big Picture\, Life Inside The Control Grid. A joint production between Matador Films and Children’s Health Defense Canada\, it will premiere on November 5th 2023. \nTodd has worked as a Director/Cinematographer and Editor in both film and television. He founded Matador Films to focus on documentary film-making. His recent films include Ayahuasca & the Path of the Shaman (2020)\, Love in the Time of Covid – Part 1 & 2 (2021) and Uninformed Consent (2022). \nWebsite:\nhttps://matadorfilms.ca \nFilm Trailer:\nThe Big Picture \nRegister
URL:https://vaccinechoicecanada.com/event/vcc-cha-live-wednesday-guest-todd-harris/
CATEGORIES:Live Guests,Open Discussions
ORGANIZER;CN="Vaccine Choice Canada":MAILTO:info@vaccinechoicecanada.com
END:VEVENT
END:VCALENDAR