BEGIN:VCALENDAR
VERSION:2.0
PRODID:-//Vaccine Choice Canada - ECPv6.12.0.1//NONSGML v1.0//EN
CALSCALE:GREGORIAN
METHOD:PUBLISH
X-WR-CALNAME:Vaccine Choice Canada
X-ORIGINAL-URL:https://vaccinechoicecanada.com
X-WR-CALDESC:Events for Vaccine Choice Canada
REFRESH-INTERVAL;VALUE=DURATION:PT1H
X-Robots-Tag:noindex
X-PUBLISHED-TTL:PT1H
BEGIN:VTIMEZONE
TZID:America/Toronto
BEGIN:DAYLIGHT
TZOFFSETFROM:-0500
TZOFFSETTO:-0400
TZNAME:EDT
DTSTART:20230312T070000
END:DAYLIGHT
BEGIN:STANDARD
TZOFFSETFROM:-0400
TZOFFSETTO:-0500
TZNAME:EST
DTSTART:20231105T060000
END:STANDARD
END:VTIMEZONE
BEGIN:VEVENT
DTSTART;TZID=America/Toronto:20230727T190000
DTEND;TZID=America/Toronto:20230727T200000
DTSTAMP:20260423T045429
CREATED:20230626T185438Z
LAST-MODIFIED:20230725T181420Z
UID:32435-1690484400-1690488000@vaccinechoicecanada.com
SUMMARY:VCC Live Thursday - Open Discussion (Canceled)
DESCRIPTION:This Thursday’s Open Discussion is canceled. Please join us for our next meeting\, Thursday\, August 24th. In September the Thursday Open Discussion will continue the second and fourth Thursday of each month. \nRegister
URL:https://vaccinechoicecanada.com/event/vcc-live-thursday-open-discussion-5/
CATEGORIES:Open Discussions
ORGANIZER;CN="Vaccine Choice Canada":MAILTO:info@vaccinechoicecanada.com
END:VEVENT
END:VCALENDAR