BEGIN:VCALENDAR
VERSION:2.0
PRODID:-//Vaccine Choice Canada - ECPv6.12.0.1//NONSGML v1.0//EN
CALSCALE:GREGORIAN
METHOD:PUBLISH
X-ORIGINAL-URL:https://vaccinechoicecanada.com
X-WR-CALDESC:Events for Vaccine Choice Canada
REFRESH-INTERVAL;VALUE=DURATION:PT1H
X-Robots-Tag:noindex
X-PUBLISHED-TTL:PT1H
BEGIN:VTIMEZONE
TZID:America/Toronto
BEGIN:DAYLIGHT
TZOFFSETFROM:-0500
TZOFFSETTO:-0400
TZNAME:EDT
DTSTART:20230312T070000
END:DAYLIGHT
BEGIN:STANDARD
TZOFFSETFROM:-0400
TZOFFSETTO:-0500
TZNAME:EST
DTSTART:20231105T060000
END:STANDARD
END:VTIMEZONE
BEGIN:VEVENT
DTSTART;TZID=America/Toronto:20230726T190000
DTEND;TZID=America/Toronto:20230726T200000
DTSTAMP:20260423T050409
CREATED:20230711T211026Z
LAST-MODIFIED:20230714T155824Z
UID:32925-1690398000-1690401600@vaccinechoicecanada.com
SUMMARY:VCC-CHA Live Wednesday - Guest: Roman Bystrianyk
DESCRIPTION:Dissolving the Vaccine Illusion Film With Roman Bystrianyk\n \nRoman Bystrianyk has been highlighting the history of vaccines\, and the diseases they are said to prevent\, for more than 25 years. In 2013\, he co-authored the ground-breaking vaccine risk awareness book\, Dissolving Illusions: Disease\, Vaccines\, and The Forgotten History\, with Dr. Suzanne Humphries. Drawing on his background in nutrition\, engineering and computer science\, he continues to alert the public to the truth about all vaccines through his substack and website. His newest effort is the documentary\, Dissolving the Vaccine Illusion\, which aired for the first time during The End of COVID event\, that opened on July 11th. Check it out below. \nThe End of Covid\nRoman Bystrianyk Substack\nDissolving Illusions Film Website \nRegister
URL:https://vaccinechoicecanada.com/event/vcc-cha-live-wednesday-guest-roman-bystrianyk/
CATEGORIES:Live Guests
ORGANIZER;CN="Vaccine Choice Canada":MAILTO:info@vaccinechoicecanada.com
END:VEVENT
END:VCALENDAR