BEGIN:VCALENDAR
VERSION:2.0
PRODID:-//Vaccine Choice Canada - ECPv6.12.0.1//NONSGML v1.0//EN
CALSCALE:GREGORIAN
METHOD:PUBLISH
X-ORIGINAL-URL:https://vaccinechoicecanada.com
X-WR-CALDESC:Events for Vaccine Choice Canada
REFRESH-INTERVAL;VALUE=DURATION:PT1H
X-Robots-Tag:noindex
X-PUBLISHED-TTL:PT1H
BEGIN:VTIMEZONE
TZID:America/Toronto
BEGIN:DAYLIGHT
TZOFFSETFROM:-0500
TZOFFSETTO:-0400
TZNAME:EDT
DTSTART:20230312T070000
END:DAYLIGHT
BEGIN:STANDARD
TZOFFSETFROM:-0400
TZOFFSETTO:-0500
TZNAME:EST
DTSTART:20231105T060000
END:STANDARD
END:VTIMEZONE
BEGIN:VEVENT
DTSTART;TZID=America/Toronto:20230712T190000
DTEND;TZID=America/Toronto:20230712T200000
DTSTAMP:20260423T050409
CREATED:20230704T205133Z
LAST-MODIFIED:20230711T210244Z
UID:32656-1689188400-1689192000@vaccinechoicecanada.com
SUMMARY:VCC-CHA Live Wednesday - Guest: Billie Harrigan
DESCRIPTION:Speaking to the Unnecessary Trauma of Childbirth\n \nBillie Harrigan has almost 40 years experience as a Traditional Birth Companion and is the author of the world’s first certification course in trauma-informed care specific to perinatal mothers and babies. As a world-authority she has taught the skills of physiological birth in 125 countries and is the Founder & Director of Birth Trauma Ontario. \nVaccinations for babies within the first few minutes of life are just one danger babies face in the technocratic birth services industry and we will be discussing the shockingly high rates of unnecessary interventions\, risky inductions\, life-altering surgeries\, and an astounding rate of trauma and PTSD. We will then be talking about the better options and how they are statistically safer. \nRegister
URL:https://vaccinechoicecanada.com/event/vcc-cha-live-wednesday-guest-billie-harrigan/
CATEGORIES:Live Guests
ORGANIZER;CN="Vaccine Choice Canada":MAILTO:info@vaccinechoicecanada.com
END:VEVENT
END:VCALENDAR