BEGIN:VCALENDAR
VERSION:2.0
PRODID:-//Vaccine Choice Canada - ECPv6.12.0.1//NONSGML v1.0//EN
CALSCALE:GREGORIAN
METHOD:PUBLISH
X-ORIGINAL-URL:https://vaccinechoicecanada.com
X-WR-CALDESC:Events for Vaccine Choice Canada
REFRESH-INTERVAL;VALUE=DURATION:PT1H
X-Robots-Tag:noindex
X-PUBLISHED-TTL:PT1H
BEGIN:VTIMEZONE
TZID:America/Toronto
BEGIN:DAYLIGHT
TZOFFSETFROM:-0500
TZOFFSETTO:-0400
TZNAME:EDT
DTSTART:20230312T070000
END:DAYLIGHT
BEGIN:STANDARD
TZOFFSETFROM:-0400
TZOFFSETTO:-0500
TZNAME:EST
DTSTART:20231105T060000
END:STANDARD
END:VTIMEZONE
BEGIN:VEVENT
DTSTART;TZID=America/Toronto:20230622T190000
DTEND;TZID=America/Toronto:20230622T200000
DTSTAMP:20260423T062443
CREATED:20230525T190317Z
LAST-MODIFIED:20230613T202916Z
UID:31642-1687460400-1687464000@vaccinechoicecanada.com
SUMMARY:VCC Live Thursday - Shawn Buckley
DESCRIPTION:Natural Health Industry Under Attack\n \nAll the things that we didn’t want to have happen to the natural health product industry are now happening—all at once. If Canadians allow these changes to occur\, it will be the end of the natural health product industry as we know it. Educate yourself about what Health Canada has set into motion in 2023 by downloading and reading the Discussion Paper. Then join Shawn Buckley on a call to explain it all. Read the Discussion Paper Here \nRegister
URL:https://vaccinechoicecanada.com/event/vcc-live-thursday-open-discussion-3/
CATEGORIES:Live Guests
ORGANIZER;CN="Vaccine Choice Canada":MAILTO:info@vaccinechoicecanada.com
END:VEVENT
END:VCALENDAR