BEGIN:VCALENDAR
VERSION:2.0
PRODID:-//Vaccine Choice Canada - ECPv6.12.0.1//NONSGML v1.0//EN
CALSCALE:GREGORIAN
METHOD:PUBLISH
X-ORIGINAL-URL:https://vaccinechoicecanada.com
X-WR-CALDESC:Events for Vaccine Choice Canada
REFRESH-INTERVAL;VALUE=DURATION:PT1H
X-Robots-Tag:noindex
X-PUBLISHED-TTL:PT1H
BEGIN:VTIMEZONE
TZID:America/Toronto
BEGIN:DAYLIGHT
TZOFFSETFROM:-0500
TZOFFSETTO:-0400
TZNAME:EDT
DTSTART:20230312T070000
END:DAYLIGHT
BEGIN:STANDARD
TZOFFSETFROM:-0400
TZOFFSETTO:-0500
TZNAME:EST
DTSTART:20231105T060000
END:STANDARD
END:VTIMEZONE
BEGIN:VEVENT
DTSTART;TZID=America/Toronto:20230614T190000
DTEND;TZID=America/Toronto:20230614T200000
DTSTAMP:20260423T062955
CREATED:20230606T192403Z
LAST-MODIFIED:20230613T221324Z
UID:32136-1686769200-1686772800@vaccinechoicecanada.com
SUMMARY:VCC-CHA Live Wednesday - Guest: Shawna Sundal
DESCRIPTION:Parental Rights\, MAID and Your Kids\n. \nShawna is the Executive Director of TIPP who are focused on protecting and promoting parental rights at this time when parental rights have been so systematically eroded and marginalized across Canada. The TIPPING point for this and which is now Shawna’s main focus is how MAID is being tailored for teens and children to the point where a government decision can authorize the euthanasia of our teens and children with little regard for parental rights or objections. In our LIVE call with Shawna on Wednesday June 14 we will be talking about the shocking encroachment of MAID and how parents are being relegated to little more than guardians who are under government authority and jurisdiction. \nWebsite:  https://www.theirreplaceableparentproject.ca/\n \nRegister
URL:https://vaccinechoicecanada.com/event/vcc-cha-live-wednesday-guest-shawna-sundal/
CATEGORIES:Live Guests
ORGANIZER;CN="Vaccine Choice Canada":MAILTO:info@vaccinechoicecanada.com
END:VEVENT
END:VCALENDAR