BEGIN:VCALENDAR
VERSION:2.0
PRODID:-//Vaccine Choice Canada - ECPv6.12.0.1//NONSGML v1.0//EN
CALSCALE:GREGORIAN
METHOD:PUBLISH
X-ORIGINAL-URL:https://vaccinechoicecanada.com
X-WR-CALDESC:Events for Vaccine Choice Canada
REFRESH-INTERVAL;VALUE=DURATION:PT1H
X-Robots-Tag:noindex
X-PUBLISHED-TTL:PT1H
BEGIN:VTIMEZONE
TZID:America/Toronto
BEGIN:DAYLIGHT
TZOFFSETFROM:-0500
TZOFFSETTO:-0400
TZNAME:EDT
DTSTART:20230312T070000
END:DAYLIGHT
BEGIN:STANDARD
TZOFFSETFROM:-0400
TZOFFSETTO:-0500
TZNAME:EST
DTSTART:20231105T060000
END:STANDARD
END:VTIMEZONE
BEGIN:VEVENT
DTSTART;TZID=America/Toronto:20230608T190000
DTEND;TZID=America/Toronto:20230608T200000
DTSTAMP:20260423T062336
CREATED:20230525T185225Z
LAST-MODIFIED:20230609T153938Z
UID:31636-1686250800-1686254400@vaccinechoicecanada.com
SUMMARY:VCC Live Thursday - Special Guest: Anna Cairns
DESCRIPTION:Introducing Electroculture as a Gardening Method\n \nAnna Cairns\, a VCC member and avid gardener\, was recently retained to edit a book on electroculture. Electroculture is a gardening method that uses electricity to promote healthy plant growth. As Anna learns\, she is eager to share about this technique. How effective is it\, what science supports it\, how long has it been in use\, can we use it easily and inexpensively at home\, what results can we realistically expect\, and more. She will answer questions and share resources just in time for you to experiment on your garden this Spring. \nRegister
URL:https://vaccinechoicecanada.com/event/vcc-live-thursday-special-guest-anna-cairns/
CATEGORIES:Live Guests
ORGANIZER;CN="Vaccine Choice Canada":MAILTO:info@vaccinechoicecanada.com
END:VEVENT
END:VCALENDAR