BEGIN:VCALENDAR
VERSION:2.0
PRODID:-//Vaccine Choice Canada - ECPv6.12.0.1//NONSGML v1.0//EN
CALSCALE:GREGORIAN
METHOD:PUBLISH
X-WR-CALNAME:Vaccine Choice Canada
X-ORIGINAL-URL:https://vaccinechoicecanada.com
X-WR-CALDESC:Events for Vaccine Choice Canada
REFRESH-INTERVAL;VALUE=DURATION:PT1H
X-Robots-Tag:noindex
X-PUBLISHED-TTL:PT1H
BEGIN:VTIMEZONE
TZID:America/Toronto
BEGIN:DAYLIGHT
TZOFFSETFROM:-0500
TZOFFSETTO:-0400
TZNAME:EDT
DTSTART:20230312T070000
END:DAYLIGHT
BEGIN:STANDARD
TZOFFSETFROM:-0400
TZOFFSETTO:-0500
TZNAME:EST
DTSTART:20231105T060000
END:STANDARD
END:VTIMEZONE
BEGIN:VEVENT
DTSTART;TZID=America/Toronto:20230607T190000
DTEND;TZID=America/Toronto:20230607T200000
DTSTAMP:20260423T062149
CREATED:20230530T192030Z
LAST-MODIFIED:20230609T170947Z
UID:31873-1686164400-1686168000@vaccinechoicecanada.com
SUMMARY:VCC-CHA Live Wednesday
DESCRIPTION:Invisible Fences: A New Documentary\n.  \nInvisible Fences is a documentary in production which shines a light on the people impacted by covid vaccine injury. It begins with the story of Kristin Ditzel\, a doctor of Chinese Medicine in Nelson\, BC\, who was severely injured by her first covid vaccine. She continues to suffer debilitating symptoms to this day. Her best friend\, Jaimie Killen\, began documenting Kristen’s journey and her quest for help. They teamed up with Nathan Beninger and are raising funds to travel and interview vaccine injured people around the world in order to share their stories through the power of film. \nFilm Trailer: Invisible Fences Documentary\nWebsite: https://www.invisiblefencesfilm.com/  \nRegister
URL:https://vaccinechoicecanada.com/event/vcc-cha-live-wednesday/
CATEGORIES:Live Guests
ORGANIZER;CN="Vaccine Choice Canada":MAILTO:info@vaccinechoicecanada.com
END:VEVENT
END:VCALENDAR