BEGIN:VCALENDAR
VERSION:2.0
PRODID:-//Vaccine Choice Canada - ECPv6.12.0.1//NONSGML v1.0//EN
CALSCALE:GREGORIAN
METHOD:PUBLISH
X-ORIGINAL-URL:https://vaccinechoicecanada.com
X-WR-CALDESC:Events for Vaccine Choice Canada
REFRESH-INTERVAL;VALUE=DURATION:PT1H
X-Robots-Tag:noindex
X-PUBLISHED-TTL:PT1H
BEGIN:VTIMEZONE
TZID:America/Toronto
BEGIN:DAYLIGHT
TZOFFSETFROM:-0500
TZOFFSETTO:-0400
TZNAME:EDT
DTSTART:20230312T070000
END:DAYLIGHT
BEGIN:STANDARD
TZOFFSETFROM:-0400
TZOFFSETTO:-0500
TZNAME:EST
DTSTART:20231105T060000
END:STANDARD
END:VTIMEZONE
BEGIN:VEVENT
DTSTART;TZID=America/Toronto:20230503T190000
DTEND;TZID=America/Toronto:20230503T200000
DTSTAMP:20260423T080321
CREATED:20230425T174731Z
LAST-MODIFIED:20230609T153947Z
UID:30803-1683140400-1683144000@vaccinechoicecanada.com
SUMMARY:VCC-CHA Live Wed - Guest: Maryann Pousette Gebauer
DESCRIPTION:Investment Strategies Update\nMaryann Gebauer\, BSc. MBA is back to share her investment strategies and answer your questions. Maryann was formerly an investment advisor with Nesbitt Burns and Scotia McLeod. She transitioned to business consulting and has worked across various sectors and countries. Her work has encompassed economics\, finance\, stock markets and the real estate market. \nMaryann has thoroughly studied the World Economic Forum\, the Great Reset agenda and globalist’s activities. She also relies on a large roster of international economists\, historians\, investment and technocracy experts to guide her. Investment principles she once relied on are important as she formulates strategies to face these extraordinary times. \nRegister
URL:https://vaccinechoicecanada.com/event/vcc-cha-live-wed-guest-maryann-pousette-gebauer/
CATEGORIES:Live Guests
ORGANIZER;CN="Vaccine Choice Canada":MAILTO:info@vaccinechoicecanada.com
END:VEVENT
END:VCALENDAR