BEGIN:VCALENDAR
VERSION:2.0
PRODID:-//Vaccine Choice Canada - ECPv6.12.0.1//NONSGML v1.0//EN
CALSCALE:GREGORIAN
METHOD:PUBLISH
X-ORIGINAL-URL:https://vaccinechoicecanada.com
X-WR-CALDESC:Events for Vaccine Choice Canada
REFRESH-INTERVAL;VALUE=DURATION:PT1H
X-Robots-Tag:noindex
X-PUBLISHED-TTL:PT1H
BEGIN:VTIMEZONE
TZID:America/Toronto
BEGIN:DAYLIGHT
TZOFFSETFROM:-0500
TZOFFSETTO:-0400
TZNAME:EDT
DTSTART:20230312T070000
END:DAYLIGHT
BEGIN:STANDARD
TZOFFSETFROM:-0400
TZOFFSETTO:-0500
TZNAME:EST
DTSTART:20231105T060000
END:STANDARD
END:VTIMEZONE
BEGIN:VEVENT
DTSTART;TZID=America/Toronto:20230426T190000
DTEND;TZID=America/Toronto:20230426T200000
DTSTAMP:20260423T092823
CREATED:20230418T154007Z
LAST-MODIFIED:20230609T153948Z
UID:30438-1682535600-1682539200@vaccinechoicecanada.com
SUMMARY:VCC-CHA Live Wed - Guest: David Hilderman
DESCRIPTION:The Facts About CO2 and Climate Change\nDavid Hilderman obtained a Bachelor of Applied Science from the University of Regina in 1988 and has worked in the electronics industry ever since. \nIn 2022\, he was honoured to become a member of the CO2 Coalition\, a group comprised largely of PhD scientists from the world’s top universities\, who are dedicated to sharing the truth about the vital role carbon dioxide plays in our environment. \nDavid lives in Central Saanich on Vancouver Island\, where he and his wife raised their 2 children. \nCO2 Coalition Website: https://co2coalition.org \nRegister
URL:https://vaccinechoicecanada.com/event/vcc-cha-live-wed-guest-david-hilderman/
CATEGORIES:Live Guests
ORGANIZER;CN="Vaccine Choice Canada":MAILTO:info@vaccinechoicecanada.com
END:VEVENT
END:VCALENDAR