BEGIN:VCALENDAR
VERSION:2.0
PRODID:-//Vaccine Choice Canada - ECPv6.12.0.1//NONSGML v1.0//EN
CALSCALE:GREGORIAN
METHOD:PUBLISH
X-ORIGINAL-URL:https://vaccinechoicecanada.com
X-WR-CALDESC:Events for Vaccine Choice Canada
REFRESH-INTERVAL;VALUE=DURATION:PT1H
X-Robots-Tag:noindex
X-PUBLISHED-TTL:PT1H
BEGIN:VTIMEZONE
TZID:Pacific/Honolulu
BEGIN:STANDARD
TZOFFSETFROM:-1000
TZOFFSETTO:-1000
TZNAME:HST
DTSTART:20230101T000000
END:STANDARD
END:VTIMEZONE
BEGIN:VEVENT
DTSTART;TZID=Pacific/Honolulu:20230419T190000
DTEND;TZID=Pacific/Honolulu:20230419T200000
DTSTAMP:20260423T093323
CREATED:20230413T145520Z
LAST-MODIFIED:20230609T153949Z
UID:30200-1681930800-1681934400@vaccinechoicecanada.com
SUMMARY:VCC-CHA Live Wed - Guest: Denis G. Rancourt
DESCRIPTION:What the Latest Research on Covid Vaccines Reveals\nDenis G. Rancourt PhD is a Scientist\, Social & Political Theorist\, and a Researcher at the Ontario Civil Liberties Association. He is an outspoken media commentator who has published widely in the fields of medicine\, geopolitics and social theory. In his 2020 interview with VCC\, Dr Rancourt shared the research showing that masks don’t work. \nHis latest research reveals that the vaccine-dose fatality rate from Covid vaccines increases exponentially with age and is close to 1%. This suggests that the elderly should never have been prioritized to receive these vaccines. The study authors estimate a global total of approximately 13 million deaths from COVID-19 vaccines. \nResearch article: Age-stratified COVID-19 vaccine-dose fatality rate for Israel and Australia \nWebsite: denisrancourt.ca \nFollow Denis on Twitter: twitter.com/denisrancourt \nDownload Mask Report: Masks Don’t Work \nRegister
URL:https://vaccinechoicecanada.com/event/vcc-cha-live-wed-guest-denis-g-rancourt/
CATEGORIES:Live Guests
ORGANIZER;CN="Vaccine Choice Canada":MAILTO:info@vaccinechoicecanada.com
END:VEVENT
END:VCALENDAR