BEGIN:VCALENDAR
VERSION:2.0
PRODID:-//Vaccine Choice Canada - ECPv6.12.0.1//NONSGML v1.0//EN
CALSCALE:GREGORIAN
METHOD:PUBLISH
X-WR-CALNAME:Vaccine Choice Canada
X-ORIGINAL-URL:https://vaccinechoicecanada.com
X-WR-CALDESC:Events for Vaccine Choice Canada
REFRESH-INTERVAL;VALUE=DURATION:PT1H
X-Robots-Tag:noindex
X-PUBLISHED-TTL:PT1H
BEGIN:VTIMEZONE
TZID:America/Toronto
BEGIN:DAYLIGHT
TZOFFSETFROM:-0500
TZOFFSETTO:-0400
TZNAME:EDT
DTSTART:20230312T070000
END:DAYLIGHT
BEGIN:STANDARD
TZOFFSETFROM:-0400
TZOFFSETTO:-0500
TZNAME:EST
DTSTART:20231105T060000
END:STANDARD
END:VTIMEZONE
BEGIN:VEVENT
DTSTART;TZID=America/Toronto:20230405T190000
DTEND;TZID=America/Toronto:20230405T200000
DTSTAMP:20260423T092024
CREATED:20230328T192020Z
LAST-MODIFIED:20230609T153951Z
UID:30069-1680721200-1680724800@vaccinechoicecanada.com
SUMMARY:VCC-CHA Live Wed - Guest: Tracy Slepcevic
DESCRIPTION:Warrior Mom: A Mother’s Journey in Healing Her Son with Autism\n \nTracy Slepcevic is a Bestselling Author\, Certified Integrative Health Coach\, Speaker\, Air Force Veteran\, and the founder of Pur Health\, LLC. She is educated in the field of Complementary and Alternative Medicine and has dedicated over 14 years to researching treatments and therapies for individuals with Autism Spectrum Disorder. Over the years\, she has worked with various doctors\, scientists\, advocates\, and researchers\, and she has made it her mission to educate families on the importance of living a healthy lifestyle.\nHer website is: https://warriormom.org/ \nTracy’s Book is: Warrior Mom: A Mother’s Journey in Healing Her Son with Autism\n“An inspiring testimony to the miraculous power of maternal love.” Robert F Kennedy \nYou can purchase it on Amazon.ca HERE \nRegister
URL:https://vaccinechoicecanada.com/event/vcc-cha-live-wednesday-guest-tracy-slepcevic/
CATEGORIES:Live Guests
ORGANIZER;CN="Vaccine Choice Canada":MAILTO:info@vaccinechoicecanada.com
END:VEVENT
END:VCALENDAR