BEGIN:VCALENDAR
VERSION:2.0
PRODID:-//Vaccine Choice Canada - ECPv6.12.0.1//NONSGML v1.0//EN
CALSCALE:GREGORIAN
METHOD:PUBLISH
X-WR-CALNAME:Vaccine Choice Canada
X-ORIGINAL-URL:https://vaccinechoicecanada.com
X-WR-CALDESC:Events for Vaccine Choice Canada
REFRESH-INTERVAL;VALUE=DURATION:PT1H
X-Robots-Tag:noindex
X-PUBLISHED-TTL:PT1H
BEGIN:VTIMEZONE
TZID:UTC
BEGIN:STANDARD
TZOFFSETFROM:+0000
TZOFFSETTO:+0000
TZNAME:UTC
DTSTART:20230101T000000
END:STANDARD
END:VTIMEZONE
BEGIN:VEVENT
DTSTART;TZID=UTC:20230113T080000
DTEND;TZID=UTC:20230113T083000
DTSTAMP:20260423T110421
CREATED:20221228T004711Z
LAST-MODIFIED:20221228T004711Z
UID:23246-1673596800-1673598600@vaccinechoicecanada.com
SUMMARY:Join Us For Morning Meditation
DESCRIPTION:We take 25 minutes each day\, Monday to Friday\, to sit in silence and stillness.\nRegister
URL:https://vaccinechoicecanada.com/event/join-us-for-morning-meditation-20/
CATEGORIES:Other Events
ORGANIZER;CN="Vaccine Choice Canada":MAILTO:info@vaccinechoicecanada.com
END:VEVENT
END:VCALENDAR