BEGIN:VCALENDAR
VERSION:2.0
PRODID:-//Vaccine Choice Canada - ECPv6.12.0.1//NONSGML v1.0//EN
CALSCALE:GREGORIAN
METHOD:PUBLISH
X-WR-CALNAME:Vaccine Choice Canada
X-ORIGINAL-URL:https://vaccinechoicecanada.com
X-WR-CALDESC:Events for Vaccine Choice Canada
REFRESH-INTERVAL;VALUE=DURATION:PT1H
X-Robots-Tag:noindex
X-PUBLISHED-TTL:PT1H
BEGIN:VTIMEZONE
TZID:America/Toronto
BEGIN:DAYLIGHT
TZOFFSETFROM:-0500
TZOFFSETTO:-0400
TZNAME:EDT
DTSTART:20220313T070000
END:DAYLIGHT
BEGIN:STANDARD
TZOFFSETFROM:-0400
TZOFFSETTO:-0500
TZNAME:EST
DTSTART:20221106T060000
END:STANDARD
END:VTIMEZONE
BEGIN:VEVENT
DTSTART;TZID=America/Toronto:20221123T203000
DTEND;TZID=America/Toronto:20221123T213000
DTSTAMP:20260423T141530
CREATED:20221116T113301Z
LAST-MODIFIED:20221218T231253Z
UID:22587-1669235400-1669239000@vaccinechoicecanada.com
SUMMARY:VCC-CHA-CHDC Live Wed - Guest: Sasha Latypova
DESCRIPTION:It’s Not A Vaccine\nSherry Strong of CHDC interviewed Sasha Latypova\, a whistleblower\, entrepreneur\, artist\, and most relevant\, an authority on the scientific research process and manufacturing supply chain of pharmaceutical products. Sasha sheds light on the fraudulent practices along the entire supply chain and manufacturing of the Covid injections as well as other breaking news.
URL:https://vaccinechoicecanada.com/event/vcc-chdc-live-wed-guest-sasha-latypova/
CATEGORIES:Live Guests
ORGANIZER;CN="Vaccine Choice Canada":MAILTO:info@vaccinechoicecanada.com
END:VEVENT
END:VCALENDAR