BEGIN:VCALENDAR
VERSION:2.0
PRODID:-//Vaccine Choice Canada - ECPv6.12.0.1//NONSGML v1.0//EN
CALSCALE:GREGORIAN
METHOD:PUBLISH
X-WR-CALNAME:Vaccine Choice Canada
X-ORIGINAL-URL:https://vaccinechoicecanada.com
X-WR-CALDESC:Events for Vaccine Choice Canada
REFRESH-INTERVAL;VALUE=DURATION:PT1H
X-Robots-Tag:noindex
X-PUBLISHED-TTL:PT1H
BEGIN:VTIMEZONE
TZID:America/Vancouver
BEGIN:DAYLIGHT
TZOFFSETFROM:-0800
TZOFFSETTO:-0700
TZNAME:PDT
DTSTART:20220313T100000
END:DAYLIGHT
BEGIN:STANDARD
TZOFFSETFROM:-0700
TZOFFSETTO:-0800
TZNAME:PST
DTSTART:20221106T090000
END:STANDARD
END:VTIMEZONE
BEGIN:VEVENT
DTSTART;TZID=America/Vancouver:20221115T200000
DTEND;TZID=America/Vancouver:20221115T210000
DTSTAMP:20260423T141540
CREATED:20221109T131340Z
LAST-MODIFIED:20221206T054922Z
UID:22517-1668542400-1668546000@vaccinechoicecanada.com
SUMMARY:VCC Live Tue - Open Discussion
DESCRIPTION:Join us to catch up with each other and share stories of action and encouragement. Our Open Discussion Tuesday and Thursday meetings take place weekly. Hosted by Ted. \nEvent Over
URL:https://vaccinechoicecanada.com/event/open-discussion-3/
CATEGORIES:Open Discussions
ORGANIZER;CN="Vaccine Choice Canada":MAILTO:info@vaccinechoicecanada.com
END:VEVENT
END:VCALENDAR