BEGIN:VCALENDAR
VERSION:2.0
PRODID:-//Vaccine Choice Canada - ECPv6.12.0.1//NONSGML v1.0//EN
CALSCALE:GREGORIAN
METHOD:PUBLISH
X-WR-CALNAME:Vaccine Choice Canada
X-ORIGINAL-URL:https://vaccinechoicecanada.com
X-WR-CALDESC:Events for Vaccine Choice Canada
REFRESH-INTERVAL;VALUE=DURATION:PT1H
X-Robots-Tag:noindex
X-PUBLISHED-TTL:PT1H
BEGIN:VTIMEZONE
TZID:America/Toronto
BEGIN:DAYLIGHT
TZOFFSETFROM:-0500
TZOFFSETTO:-0400
TZNAME:EDT
DTSTART:20230312T070000
END:DAYLIGHT
BEGIN:STANDARD
TZOFFSETFROM:-0400
TZOFFSETTO:-0500
TZNAME:EST
DTSTART:20231105T060000
END:STANDARD
END:VTIMEZONE
BEGIN:VTIMEZONE
TZID:America/Vancouver
BEGIN:DAYLIGHT
TZOFFSETFROM:-0800
TZOFFSETTO:-0700
TZNAME:PDT
DTSTART:20230312T100000
END:DAYLIGHT
BEGIN:STANDARD
TZOFFSETFROM:-0700
TZOFFSETTO:-0800
TZNAME:PST
DTSTART:20231105T090000
END:STANDARD
END:VTIMEZONE
BEGIN:VEVENT
DTSTART;TZID=America/Toronto:20231117T120000
DTEND;TZID=America/Toronto:20231117T140000
DTSTAMP:20260420T201932
CREATED:20231117T144215Z
LAST-MODIFIED:20231208T193648Z
UID:35699-1700222400-1700229600@vaccinechoicecanada.com
SUMMARY:Freedom Rising
DESCRIPTION:Friday Weekly Meeting\nFreedom Rising is a collaboration of leaders from across Canada and beyond who are dedicated to restoring our rights and freedoms. We meet every Friday at 9:00 – 11:00 AM PST / 12:00 – 2:00 PM EST. Our goal is to build alliances\, amplify initiatives\, avoid duplication and be supported and inspired. You can use the zoom link below to join us each week. Invite Link \nFurther information on Freedom Rising is available at: https://freedomrising.info/
URL:https://vaccinechoicecanada.com/event/freedom-rising-friday-weekly-meeting/
CATEGORIES:Other Events
ORGANIZER;CN="Vaccine Choice Canada":MAILTO:info@vaccinechoicecanada.com
END:VEVENT
BEGIN:VEVENT
DTSTART;TZID=America/Vancouver:20231205T190000
DTEND;TZID=America/Vancouver:20231205T200000
DTSTAMP:20260420T201932
CREATED:20231128T180703Z
LAST-MODIFIED:20231202T224013Z
UID:36326-1701802800-1701806400@vaccinechoicecanada.com
SUMMARY:VCC Live Tuesday - Open Discussion
DESCRIPTION:Join us to catch up with each other and share stories of action and encouragement.  Our Tuesday Open Discussion takes place weekly. For the Christmas season\, there will be no meeting on December 26th. \nRegister
URL:https://vaccinechoicecanada.com/event/vcc-live-tuesday-open-discussion-9/
CATEGORIES:Open Discussions
ORGANIZER;CN="Vaccine Choice Canada":MAILTO:info@vaccinechoicecanada.com
END:VEVENT
BEGIN:VEVENT
DTSTART;TZID=America/Toronto:20231117T120000
DTEND;TZID=America/Toronto:20231117T140000
DTSTAMP:20260420T201932
CREATED:20231117T144215Z
LAST-MODIFIED:20231208T193648Z
UID:35699-1700222400-1700229600@vaccinechoicecanada.com
SUMMARY:Freedom Rising
DESCRIPTION:Friday Weekly Meeting\nFreedom Rising is a collaboration of leaders from across Canada and beyond who are dedicated to restoring our rights and freedoms. We meet every Friday at 9:00 – 11:00 AM PST / 12:00 – 2:00 PM EST. Our goal is to build alliances\, amplify initiatives\, avoid duplication and be supported and inspired. You can use the zoom link below to join us each week. Invite Link \nFurther information on Freedom Rising is available at: https://freedomrising.info/
URL:https://vaccinechoicecanada.com/event/freedom-rising-friday-weekly-meeting/
CATEGORIES:Other Events
ORGANIZER;CN="Vaccine Choice Canada":MAILTO:info@vaccinechoicecanada.com
END:VEVENT
BEGIN:VEVENT
DTSTART;TZID=America/Vancouver:20231205T190000
DTEND;TZID=America/Vancouver:20231205T200000
DTSTAMP:20260420T201932
CREATED:20231128T180703Z
LAST-MODIFIED:20231202T224013Z
UID:36326-1701802800-1701806400@vaccinechoicecanada.com
SUMMARY:VCC Live Tuesday - Open Discussion
DESCRIPTION:Join us to catch up with each other and share stories of action and encouragement.  Our Tuesday Open Discussion takes place weekly. For the Christmas season\, there will be no meeting on December 26th. \nRegister
URL:https://vaccinechoicecanada.com/event/vcc-live-tuesday-open-discussion-9/
CATEGORIES:Open Discussions
ORGANIZER;CN="Vaccine Choice Canada":MAILTO:info@vaccinechoicecanada.com
END:VEVENT
BEGIN:VEVENT
DTSTART;TZID=America/Toronto:20231214T190000
DTEND;TZID=America/Toronto:20231214T200000
DTSTAMP:20260420T201932
CREATED:20231128T181440Z
LAST-MODIFIED:20231205T142453Z
UID:36331-1702580400-1702584000@vaccinechoicecanada.com
SUMMARY:VCC Live Thursday - Open Discussion
DESCRIPTION:Join us to catch up with each other and share stories of action and encouragement.  Our Thursday Open Discussion takes place the second and fourth Thursday of every month.   \nRegister
URL:https://vaccinechoicecanada.com/event/vcc-live-thursday-open-discussion-11/
CATEGORIES:Open Discussions
ORGANIZER;CN="Vaccine Choice Canada":MAILTO:info@vaccinechoicecanada.com
END:VEVENT
BEGIN:VEVENT
DTSTART;TZID=America/Toronto:20231117T120000
DTEND;TZID=America/Toronto:20231117T140000
DTSTAMP:20260420T201932
CREATED:20231117T144215Z
LAST-MODIFIED:20231208T193648Z
UID:35699-1700222400-1700229600@vaccinechoicecanada.com
SUMMARY:Freedom Rising
DESCRIPTION:Friday Weekly Meeting\nFreedom Rising is a collaboration of leaders from across Canada and beyond who are dedicated to restoring our rights and freedoms. We meet every Friday at 9:00 – 11:00 AM PST / 12:00 – 2:00 PM EST. Our goal is to build alliances\, amplify initiatives\, avoid duplication and be supported and inspired. You can use the zoom link below to join us each week. Invite Link \nFurther information on Freedom Rising is available at: https://freedomrising.info/
URL:https://vaccinechoicecanada.com/event/freedom-rising-friday-weekly-meeting/
CATEGORIES:Other Events
ORGANIZER;CN="Vaccine Choice Canada":MAILTO:info@vaccinechoicecanada.com
END:VEVENT
BEGIN:VEVENT
DTSTART;TZID=America/Vancouver:20231205T190000
DTEND;TZID=America/Vancouver:20231205T200000
DTSTAMP:20260420T201932
CREATED:20231128T180703Z
LAST-MODIFIED:20231202T224013Z
UID:36326-1701802800-1701806400@vaccinechoicecanada.com
SUMMARY:VCC Live Tuesday - Open Discussion
DESCRIPTION:Join us to catch up with each other and share stories of action and encouragement.  Our Tuesday Open Discussion takes place weekly. For the Christmas season\, there will be no meeting on December 26th. \nRegister
URL:https://vaccinechoicecanada.com/event/vcc-live-tuesday-open-discussion-9/
CATEGORIES:Open Discussions
ORGANIZER;CN="Vaccine Choice Canada":MAILTO:info@vaccinechoicecanada.com
END:VEVENT
BEGIN:VEVENT
DTSTART;TZID=America/Toronto:20231220T190000
DTEND;TZID=America/Toronto:20231220T200000
DTSTAMP:20260420T201932
CREATED:20231128T182304Z
LAST-MODIFIED:20231212T194731Z
UID:36333-1703098800-1703102400@vaccinechoicecanada.com
SUMMARY:VCC-CHA Live Wednesday - Guest: Vera Sharav
DESCRIPTION:Vera Sharav: Never Again is Now Global\n \n Vera Sharav joins us to discuss her most recent accomplishment\, the release of a five-part docuseries\, Never Again is Now Global\, which she directed. It was produced by the organization she leads\, the Alliance for Human Research Protection\, (AHRP)  \nBeing a child survivor of the holocaust\, Vera recognized the similarities between government responses to covid and the nazi regime she experienced. In 2020\, she courageously spoke out\, raising the alarm on what she saw happening across the globe. Through her tireless efforts\, she reminds us all to resist the fear and propaganda that our government uses to manipulate us and to trust our intuition.   \nWatch the docuseries at Never Again Is Now Global.  \nRegister
URL:https://vaccinechoicecanada.com/event/vcc-cha-live-wednesday-guest-vera-sharav/
CATEGORIES:Live Guests
ORGANIZER;CN="Vaccine Choice Canada":MAILTO:info@vaccinechoicecanada.com
END:VEVENT
BEGIN:VEVENT
DTSTART;TZID=America/Toronto:20231117T120000
DTEND;TZID=America/Toronto:20231117T140000
DTSTAMP:20260420T201932
CREATED:20231117T144215Z
LAST-MODIFIED:20231208T193648Z
UID:35699-1700222400-1700229600@vaccinechoicecanada.com
SUMMARY:Freedom Rising
DESCRIPTION:Friday Weekly Meeting\nFreedom Rising is a collaboration of leaders from across Canada and beyond who are dedicated to restoring our rights and freedoms. We meet every Friday at 9:00 – 11:00 AM PST / 12:00 – 2:00 PM EST. Our goal is to build alliances\, amplify initiatives\, avoid duplication and be supported and inspired. You can use the zoom link below to join us each week. Invite Link \nFurther information on Freedom Rising is available at: https://freedomrising.info/
URL:https://vaccinechoicecanada.com/event/freedom-rising-friday-weekly-meeting/
CATEGORIES:Other Events
ORGANIZER;CN="Vaccine Choice Canada":MAILTO:info@vaccinechoicecanada.com
END:VEVENT
BEGIN:VEVENT
DTSTART;TZID=America/Toronto:20231117T120000
DTEND;TZID=America/Toronto:20231117T140000
DTSTAMP:20260420T201932
CREATED:20231117T144215Z
LAST-MODIFIED:20231208T193648Z
UID:35699-1700222400-1700229600@vaccinechoicecanada.com
SUMMARY:Freedom Rising
DESCRIPTION:Friday Weekly Meeting\nFreedom Rising is a collaboration of leaders from across Canada and beyond who are dedicated to restoring our rights and freedoms. We meet every Friday at 9:00 – 11:00 AM PST / 12:00 – 2:00 PM EST. Our goal is to build alliances\, amplify initiatives\, avoid duplication and be supported and inspired. You can use the zoom link below to join us each week. Invite Link \nFurther information on Freedom Rising is available at: https://freedomrising.info/
URL:https://vaccinechoicecanada.com/event/freedom-rising-friday-weekly-meeting/
CATEGORIES:Other Events
ORGANIZER;CN="Vaccine Choice Canada":MAILTO:info@vaccinechoicecanada.com
END:VEVENT
END:VCALENDAR