BEGIN:VCALENDAR
VERSION:2.0
PRODID:-//Vaccine Choice Canada - ECPv6.12.0.1//NONSGML v1.0//EN
CALSCALE:GREGORIAN
METHOD:PUBLISH
X-ORIGINAL-URL:https://vaccinechoicecanada.com
X-WR-CALDESC:Events for Vaccine Choice Canada
REFRESH-INTERVAL;VALUE=DURATION:PT1H
X-Robots-Tag:noindex
X-PUBLISHED-TTL:PT1H
BEGIN:VTIMEZONE
TZID:America/Vancouver
BEGIN:DAYLIGHT
TZOFFSETFROM:-0800
TZOFFSETTO:-0700
TZNAME:PDT
DTSTART:20230312T100000
END:DAYLIGHT
BEGIN:STANDARD
TZOFFSETFROM:-0700
TZOFFSETTO:-0800
TZNAME:PST
DTSTART:20231105T090000
END:STANDARD
END:VTIMEZONE
BEGIN:VTIMEZONE
TZID:America/Toronto
BEGIN:DAYLIGHT
TZOFFSETFROM:-0500
TZOFFSETTO:-0400
TZNAME:EDT
DTSTART:20230312T070000
END:DAYLIGHT
BEGIN:STANDARD
TZOFFSETFROM:-0400
TZOFFSETTO:-0500
TZNAME:EST
DTSTART:20231105T060000
END:STANDARD
END:VTIMEZONE
BEGIN:VTIMEZONE
TZID:Pacific/Honolulu
BEGIN:STANDARD
TZOFFSETFROM:-1000
TZOFFSETTO:-1000
TZNAME:HST
DTSTART:20230101T000000
END:STANDARD
END:VTIMEZONE
BEGIN:VEVENT
DTSTART;TZID=America/Vancouver:20231003T190000
DTEND;TZID=America/Vancouver:20231003T200000
DTSTAMP:20260420T232441
CREATED:20230926T183113Z
LAST-MODIFIED:20230926T183219Z
UID:35277-1696359600-1696363200@vaccinechoicecanada.com
SUMMARY:VCC Live Tuesday - Open Discussion
DESCRIPTION:Join us to catch up with each other and share stories of action and encouragement. Our Tuesday Open Discussion takes place weekly. Please note that the registration link week to week is the same for the current month. \nRegister
URL:https://vaccinechoicecanada.com/event/vcc-live-tuesday-open-discussion-7/
CATEGORIES:Open Discussions
ORGANIZER;CN="Vaccine Choice Canada":MAILTO:info@vaccinechoicecanada.com
END:VEVENT
BEGIN:VEVENT
DTSTART;TZID=America/Toronto:20231004T190000
DTEND;TZID=America/Toronto:20231004T200000
DTSTAMP:20260420T232441
CREATED:20230925T141531Z
LAST-MODIFIED:20231008T020443Z
UID:35244-1696446000-1696449600@vaccinechoicecanada.com
SUMMARY:VCC-CHA Live Wednesday - Guest: Dr. Brian Hooker
DESCRIPTION:Vax-Unvax: Let the Science Speak\n \nBrian S. Hooker\, PhD\, is the Senior Director of Science and Research at Children’s Health Defense\, an organization committed to the best health for children in the U.S. and worldwide. He is also former Professor of Biology at Simpson University in Redding California where he specialized in microbiology and biotechnology. Dr. Hooker coauthored\, with Robert F. Kennedy Jr\, the New York Times best-selling book Vax-Unvax: Let the Science Speak. \nIn 1985\, Dr. Hooker earned his Bachelor of Science degree in chemical engineering\, from California State Polytechnic University\, Pomona\, California. He earned his Masters of Science degree in 1988 and his doctorate in 1990\, both in biochemical engineering\, from Washington State University\, in Pullman\, Washington. \n  \nBrian Hooker has many accomplishments to his credit including: co-inventor for five patents\, recipient of the Battelle Entrepreneurial Award in 2001\, and a Federal Laboratory Consortium Recognition Award in 1999\, for his work on “Reactive Transport in 3-Dimensions.” The breadth of Hooker’s over 70 science and engineering papers have been published in internationally recognized\, peer reviewed journals. \n  \nDr. Hooker has been active in vaccine safety since 2001 and has a 25-year-old son with autism. In 2013 and 2014\, Dr. Hooker worked with the CDC Whistleblower\, Dr. William Thompson\, to expose fraud and corruption within vaccine safety research in the CDC which led to the release of over 10\,000 pages of documents. \nhttps://childrenshealthdefense.org/authors/brian-hooker-ph-d/ \nRegister
URL:https://vaccinechoicecanada.com/event/vcc-cha-live-wednesday-guest-dr-brian-hooker/
CATEGORIES:Live Guests
ORGANIZER;CN="Vaccine Choice Canada":MAILTO:info@vaccinechoicecanada.com
END:VEVENT
BEGIN:VEVENT
DTSTART;TZID=America/Vancouver:20231003T190000
DTEND;TZID=America/Vancouver:20231003T200000
DTSTAMP:20260420T232441
CREATED:20230926T183113Z
LAST-MODIFIED:20230926T183219Z
UID:35277-1696359600-1696363200@vaccinechoicecanada.com
SUMMARY:VCC Live Tuesday - Open Discussion
DESCRIPTION:Join us to catch up with each other and share stories of action and encouragement. Our Tuesday Open Discussion takes place weekly. Please note that the registration link week to week is the same for the current month. \nRegister
URL:https://vaccinechoicecanada.com/event/vcc-live-tuesday-open-discussion-7/
CATEGORIES:Open Discussions
ORGANIZER;CN="Vaccine Choice Canada":MAILTO:info@vaccinechoicecanada.com
END:VEVENT
BEGIN:VEVENT
DTSTART;TZID=America/Toronto:20231011T190000
DTEND;TZID=America/Toronto:20231011T200000
DTSTAMP:20260420T232441
CREATED:20231008T020517Z
LAST-MODIFIED:20231008T022145Z
UID:35311-1697050800-1697054400@vaccinechoicecanada.com
SUMMARY:VCC-CHA Live Wednesday - the 5G EMF Threat
DESCRIPTION:The 5G / EMF Threat & What We Can Do About It\n \nJoin this very important discussion with our panel of experts who will update us on the 5G / EMF threat and how it is increasing\, the growing health risks\, and how we can protect ourselves. \nThe panel includes Canadian EMF expert Paul Pasternak\, Dr. Stephen Malthouse\, who has been working on stopping ‘the march of the towers’\, Dr. Bill Code\, and Dr. Barry Breger. The panel discussion will be followed by a live audience Q&A\, so bring your comments and questions. \nRegister
URL:https://vaccinechoicecanada.com/event/vcc-cha-live-wednesday-5g-emf-threat/
CATEGORIES:Live Guests
ORGANIZER;CN="Vaccine Choice Canada":MAILTO:info@vaccinechoicecanada.com
END:VEVENT
BEGIN:VEVENT
DTSTART;TZID=Pacific/Honolulu:20231012T190000
DTEND;TZID=Pacific/Honolulu:20231012T200000
DTSTAMP:20260420T232441
CREATED:20230926T184030Z
LAST-MODIFIED:20230928T191252Z
UID:35280-1697137200-1697140800@vaccinechoicecanada.com
SUMMARY:VCC Live Thursday - Special Guest: Steve Merrill
DESCRIPTION:Investing in Precious Metals\nSteve Merrill\, of Sun City Silver in Kelowna\, will be joining us to discuss diversifying your assets with precious metals.\nFor more information as well as the Special Offer that is available for VCC members\, please read more on our Website. \nRegister
URL:https://vaccinechoicecanada.com/event/vcc-live-thursday-special-guest-steve-merrill/
CATEGORIES:Live Guests
ORGANIZER;CN="Vaccine Choice Canada":MAILTO:info@vaccinechoicecanada.com
END:VEVENT
BEGIN:VEVENT
DTSTART;TZID=America/Vancouver:20231003T190000
DTEND;TZID=America/Vancouver:20231003T200000
DTSTAMP:20260420T232441
CREATED:20230926T183113Z
LAST-MODIFIED:20230926T183219Z
UID:35277-1696359600-1696363200@vaccinechoicecanada.com
SUMMARY:VCC Live Tuesday - Open Discussion
DESCRIPTION:Join us to catch up with each other and share stories of action and encouragement. Our Tuesday Open Discussion takes place weekly. Please note that the registration link week to week is the same for the current month. \nRegister
URL:https://vaccinechoicecanada.com/event/vcc-live-tuesday-open-discussion-7/
CATEGORIES:Open Discussions
ORGANIZER;CN="Vaccine Choice Canada":MAILTO:info@vaccinechoicecanada.com
END:VEVENT
BEGIN:VEVENT
DTSTART;TZID=America/Vancouver:20231003T190000
DTEND;TZID=America/Vancouver:20231003T200000
DTSTAMP:20260420T232441
CREATED:20230926T183113Z
LAST-MODIFIED:20230926T183219Z
UID:35277-1696359600-1696363200@vaccinechoicecanada.com
SUMMARY:VCC Live Tuesday - Open Discussion
DESCRIPTION:Join us to catch up with each other and share stories of action and encouragement. Our Tuesday Open Discussion takes place weekly. Please note that the registration link week to week is the same for the current month. \nRegister
URL:https://vaccinechoicecanada.com/event/vcc-live-tuesday-open-discussion-7/
CATEGORIES:Open Discussions
ORGANIZER;CN="Vaccine Choice Canada":MAILTO:info@vaccinechoicecanada.com
END:VEVENT
BEGIN:VEVENT
DTSTART;TZID=America/Toronto:20231025T190000
DTEND;TZID=America/Toronto:20231025T200000
DTSTAMP:20260420T232441
CREATED:20231010T183551Z
LAST-MODIFIED:20231019T143928Z
UID:35372-1698260400-1698264000@vaccinechoicecanada.com
SUMMARY:VCC - CHA Live Wednesday - Guest: Todd Harris
DESCRIPTION:New series “The Big Picture”\n.   \nTodd Michael Harris will join us to discuss his most ambitious project to date\, a six episode docuseries titled The Big Picture\, Life Inside The Control Grid. A joint production between Matador Films and Children’s Health Defense Canada\, it will premiere on November 5th 2023. \nTodd has worked as a Director/Cinematographer and Editor in both film and television. He founded Matador Films to focus on documentary film-making. His recent films include Ayahuasca & the Path of the Shaman (2020)\, Love in the Time of Covid – Part 1 & 2 (2021) and Uninformed Consent (2022). \nWebsite:\nhttps://matadorfilms.ca \nFilm Trailer:\nThe Big Picture \nRegister
URL:https://vaccinechoicecanada.com/event/vcc-cha-live-wednesday-guest-todd-harris/
CATEGORIES:Live Guests,Open Discussions
ORGANIZER;CN="Vaccine Choice Canada":MAILTO:info@vaccinechoicecanada.com
END:VEVENT
BEGIN:VEVENT
DTSTART;TZID=America/Toronto:20231026T190000
DTEND;TZID=America/Toronto:20231026T200000
DTSTAMP:20260420T232441
CREATED:20230918T175429Z
LAST-MODIFIED:20230918T180730Z
UID:35141-1698346800-1698350400@vaccinechoicecanada.com
SUMMARY:VCC Live Thursday - Guest: James Lunney
DESCRIPTION:Digging Into the Benefits of Vitamin D\n \nJames Lunney is a retired chiropractor and five term Federal MP for Nanaimo-Alberni ( 2000-2015). As a life-long student of human physiology\, James has long acknowledged the benefit of Vitamin D to our health. With the advent of Covid-19\, the role of Vitamin D has been a subject of increased interest since all over the world research has revealed that severe infections\, hospitalizations and deaths were directly (inversely) related to the serum levels of Vitamin D. Let’s dig in to learn about how Vitamin D was designed to work synergistically with other nutrients to bolster our immune system and how best to incorporate it into our supplements regime.
URL:https://vaccinechoicecanada.com/event/vcc-live-thursday-guest-james-lunney/
CATEGORIES:Live Guests
ORGANIZER;CN="Vaccine Choice Canada":MAILTO:info@vaccinechoicecanada.com
END:VEVENT
BEGIN:VEVENT
DTSTART;TZID=America/Vancouver:20231003T190000
DTEND;TZID=America/Vancouver:20231003T200000
DTSTAMP:20260420T232441
CREATED:20230926T183113Z
LAST-MODIFIED:20230926T183219Z
UID:35277-1696359600-1696363200@vaccinechoicecanada.com
SUMMARY:VCC Live Tuesday - Open Discussion
DESCRIPTION:Join us to catch up with each other and share stories of action and encouragement. Our Tuesday Open Discussion takes place weekly. Please note that the registration link week to week is the same for the current month. \nRegister
URL:https://vaccinechoicecanada.com/event/vcc-live-tuesday-open-discussion-7/
CATEGORIES:Open Discussions
ORGANIZER;CN="Vaccine Choice Canada":MAILTO:info@vaccinechoicecanada.com
END:VEVENT
END:VCALENDAR