BEGIN:VCALENDAR
VERSION:2.0
PRODID:-//Vaccine Choice Canada - ECPv6.12.0.1//NONSGML v1.0//EN
CALSCALE:GREGORIAN
METHOD:PUBLISH
X-WR-CALNAME:Vaccine Choice Canada
X-ORIGINAL-URL:https://vaccinechoicecanada.com
X-WR-CALDESC:Events for Vaccine Choice Canada
REFRESH-INTERVAL;VALUE=DURATION:PT1H
X-Robots-Tag:noindex
X-PUBLISHED-TTL:PT1H
BEGIN:VTIMEZONE
TZID:America/Toronto
BEGIN:DAYLIGHT
TZOFFSETFROM:-0500
TZOFFSETTO:-0400
TZNAME:EDT
DTSTART:20230312T070000
END:DAYLIGHT
BEGIN:STANDARD
TZOFFSETFROM:-0400
TZOFFSETTO:-0500
TZNAME:EST
DTSTART:20231105T060000
END:STANDARD
END:VTIMEZONE
BEGIN:VEVENT
DTSTART;TZID=America/Toronto:20230824T190000
DTEND;TZID=America/Toronto:20230824T200000
DTSTAMP:20260423T015307
CREATED:20230725T184605Z
LAST-MODIFIED:20230817T185728Z
UID:33540-1692903600-1692907200@vaccinechoicecanada.com
SUMMARY:VCC Live Thursday - Open Discussion (This meeting has been canceled)
DESCRIPTION:Join us to catch up with each other and share stories of action and encouragement. Our Thursday Open Discussion takes place this month only on the fourth Thursday and will resume the second and fourth Thursday of the month in September. \nRegister
URL:https://vaccinechoicecanada.com/event/vcc-live-thursday-open-discussion-6/
CATEGORIES:Open Discussions
ORGANIZER;CN="Vaccine Choice Canada":MAILTO:info@vaccinechoicecanada.com
END:VEVENT
BEGIN:VEVENT
DTSTART;TZID=America/Toronto:20230830T190000
DTEND;TZID=America/Toronto:20230830T200000
DTSTAMP:20260423T015307
CREATED:20230727T213834Z
LAST-MODIFIED:20230727T215846Z
UID:33592-1693422000-1693425600@vaccinechoicecanada.com
SUMMARY:VCC-CHA Live Wednesday - Guest: Meredith Miller
DESCRIPTION:Addressing Our Trauma with Meredith Miller\n \nMeredith Miller is a holistic coach\, author\, and speaker who helps people self-heal after narcissistic abuse and other toxic relationships. Her mission is to bridge the gap between trauma and purpose. She teaches mindsets and tactical tools to help with recovery.\nIn 2020\, Meredith began speaking out about the psychological abuse patterns—from the micro to the macro—she was observing in the New Normal world. Her holistic perspective on the global events underway can help people understand the baffling behavior of others while offering inner solutions for addressing our collective and individual trauma.\nhttps://www.innerintegration.com/ \nRegister
URL:https://vaccinechoicecanada.com/event/vcc-cha-live-wednesday-guest-meredith-miller/
CATEGORIES:Live Guests
ORGANIZER;CN="Vaccine Choice Canada":MAILTO:info@vaccinechoicecanada.com
END:VEVENT
END:VCALENDAR