BEGIN:VCALENDAR
VERSION:2.0
PRODID:-//Vaccine Choice Canada - ECPv6.12.0.1//NONSGML v1.0//EN
CALSCALE:GREGORIAN
METHOD:PUBLISH
X-ORIGINAL-URL:https://vaccinechoicecanada.com
X-WR-CALDESC:Events for Vaccine Choice Canada
REFRESH-INTERVAL;VALUE=DURATION:PT1H
X-Robots-Tag:noindex
X-PUBLISHED-TTL:PT1H
BEGIN:VTIMEZONE
TZID:America/Vancouver
BEGIN:DAYLIGHT
TZOFFSETFROM:-0800
TZOFFSETTO:-0700
TZNAME:PDT
DTSTART:20230312T100000
END:DAYLIGHT
BEGIN:STANDARD
TZOFFSETFROM:-0700
TZOFFSETTO:-0800
TZNAME:PST
DTSTART:20231105T090000
END:STANDARD
END:VTIMEZONE
BEGIN:VTIMEZONE
TZID:America/Toronto
BEGIN:DAYLIGHT
TZOFFSETFROM:-0500
TZOFFSETTO:-0400
TZNAME:EDT
DTSTART:20230312T070000
END:DAYLIGHT
BEGIN:STANDARD
TZOFFSETFROM:-0400
TZOFFSETTO:-0500
TZNAME:EST
DTSTART:20231105T060000
END:STANDARD
END:VTIMEZONE
BEGIN:VEVENT
DTSTART;TZID=America/Vancouver:20230131T190000
DTEND;TZID=America/Vancouver:20230131T200000
DTSTAMP:20260423T062259
CREATED:20230113T212229Z
LAST-MODIFIED:20230301T194607Z
UID:23340-1675191600-1675195200@vaccinechoicecanada.com
SUMMARY:VCC Live Tue - Open Discussion
DESCRIPTION:Join us to catch up with each other and share stories of action and encouragement. Our Tuesday Open Discussion takes place weekly. \nRegister
URL:https://vaccinechoicecanada.com/event/vcc-live-tue-open-discussion-7/
CATEGORIES:Open Discussions
ORGANIZER;CN="Vaccine Choice Canada":MAILTO:info@vaccinechoicecanada.com
END:VEVENT
BEGIN:VEVENT
DTSTART;TZID=America/Toronto:20230503T190000
DTEND;TZID=America/Toronto:20230503T200000
DTSTAMP:20260423T062259
CREATED:20230425T174731Z
LAST-MODIFIED:20230609T153947Z
UID:30803-1683140400-1683144000@vaccinechoicecanada.com
SUMMARY:VCC-CHA Live Wed - Guest: Maryann Pousette Gebauer
DESCRIPTION:Investment Strategies Update\nMaryann Gebauer\, BSc. MBA is back to share her investment strategies and answer your questions. Maryann was formerly an investment advisor with Nesbitt Burns and Scotia McLeod. She transitioned to business consulting and has worked across various sectors and countries. Her work has encompassed economics\, finance\, stock markets and the real estate market. \nMaryann has thoroughly studied the World Economic Forum\, the Great Reset agenda and globalist’s activities. She also relies on a large roster of international economists\, historians\, investment and technocracy experts to guide her. Investment principles she once relied on are important as she formulates strategies to face these extraordinary times. \nRegister
URL:https://vaccinechoicecanada.com/event/vcc-cha-live-wed-guest-maryann-pousette-gebauer/
CATEGORIES:Live Guests
ORGANIZER;CN="Vaccine Choice Canada":MAILTO:info@vaccinechoicecanada.com
END:VEVENT
BEGIN:VEVENT
DTSTART;TZID=America/Vancouver:20230131T190000
DTEND;TZID=America/Vancouver:20230131T200000
DTSTAMP:20260423T062259
CREATED:20230113T212229Z
LAST-MODIFIED:20230301T194607Z
UID:23340-1675191600-1675195200@vaccinechoicecanada.com
SUMMARY:VCC Live Tue - Open Discussion
DESCRIPTION:Join us to catch up with each other and share stories of action and encouragement. Our Tuesday Open Discussion takes place weekly. \nRegister
URL:https://vaccinechoicecanada.com/event/vcc-live-tue-open-discussion-7/
CATEGORIES:Open Discussions
ORGANIZER;CN="Vaccine Choice Canada":MAILTO:info@vaccinechoicecanada.com
END:VEVENT
BEGIN:VEVENT
DTSTART;TZID=America/Toronto:20230510T190000
DTEND;TZID=America/Toronto:20230510T200000
DTSTAMP:20260423T062259
CREATED:20230501T182848Z
LAST-MODIFIED:20230609T153946Z
UID:31071-1683745200-1683748800@vaccinechoicecanada.com
SUMMARY:VCC - CHA Live Wednesday - Guest: Rocco Galati
DESCRIPTION:In Conversation With Rocco Galati\n \nRegister
URL:https://vaccinechoicecanada.com/event/vcc-cha-live-wednesday-guest-rocco-galati/
CATEGORIES:Live Guests
END:VEVENT
BEGIN:VEVENT
DTSTART;TZID=America/Vancouver:20230131T190000
DTEND;TZID=America/Vancouver:20230131T200000
DTSTAMP:20260423T062259
CREATED:20230113T212229Z
LAST-MODIFIED:20230301T194607Z
UID:23340-1675191600-1675195200@vaccinechoicecanada.com
SUMMARY:VCC Live Tue - Open Discussion
DESCRIPTION:Join us to catch up with each other and share stories of action and encouragement. Our Tuesday Open Discussion takes place weekly. \nRegister
URL:https://vaccinechoicecanada.com/event/vcc-live-tue-open-discussion-7/
CATEGORIES:Open Discussions
ORGANIZER;CN="Vaccine Choice Canada":MAILTO:info@vaccinechoicecanada.com
END:VEVENT
BEGIN:VEVENT
DTSTART;TZID=America/Toronto:20230517T190000
DTEND;TZID=America/Toronto:20230517T200000
DTSTAMP:20260423T062259
CREATED:20230501T183554Z
LAST-MODIFIED:20230609T153944Z
UID:31078-1684350000-1684353600@vaccinechoicecanada.com
SUMMARY:VCC-CHA Live Wednesday - Guest: Tish Conlin
DESCRIPTION:How to Thrive With Author\, THRIVE Coach & 15-minute City Expert\n \nTish Conlin\, who is a Registered Holistic Nutritionist\, Black Belt Martial Artist and Certified Emotional Intelligence Trainer has just published her next book\, ‘The THRIVE Protocol.’ It is a sort of Hitchhiker’s Guide to the Galaxy that lays the foundations for a respect and responsibility oriented society. She will be giving us an interactive workshop on how we can each THRIVE through this chaos. When you register please download the worksheet and be ready to take notes! Tish will teach us how to go from Surviving to Thriving and how to enrich our lives and relationships by overcoming fears and moving into courage and love. Please download Tish’s PDF WORKSHEET to use during her presentation. \nRegister
URL:https://vaccinechoicecanada.com/event/vcc-cha-live-wednesday-guest-tish-conlin/
CATEGORIES:Live Guests
ORGANIZER;CN="Vaccine Choice Canada":MAILTO:info@vaccinechoicecanada.com
END:VEVENT
BEGIN:VEVENT
DTSTART;TZID=America/Vancouver:20230131T190000
DTEND;TZID=America/Vancouver:20230131T200000
DTSTAMP:20260423T062259
CREATED:20230113T212229Z
LAST-MODIFIED:20230301T194607Z
UID:23340-1675191600-1675195200@vaccinechoicecanada.com
SUMMARY:VCC Live Tue - Open Discussion
DESCRIPTION:Join us to catch up with each other and share stories of action and encouragement. Our Tuesday Open Discussion takes place weekly. \nRegister
URL:https://vaccinechoicecanada.com/event/vcc-live-tue-open-discussion-7/
CATEGORIES:Open Discussions
ORGANIZER;CN="Vaccine Choice Canada":MAILTO:info@vaccinechoicecanada.com
END:VEVENT
BEGIN:VEVENT
DTSTART;TZID=America/Toronto:20230524T190000
DTEND;TZID=America/Toronto:20230524T200000
DTSTAMP:20260423T062259
CREATED:20230518T181428Z
LAST-MODIFIED:20230609T153943Z
UID:31561-1684954800-1684958400@vaccinechoicecanada.com
SUMMARY:VCC-CHA Live Wednesday - Guest: Dr Shuli Krakauer
DESCRIPTION:Homeopathy for Pets and the Whole Family\n \nDr. Shuli Krakauer knew since childhood that she would pursue a career in veterinary medicine. She graduated from the Ontario Veterinary College in 1997 and practiced first in a rural setting and later in a busy Vancouver emergency clinic. Seeing the limitations of conventional veterinary medicine led Dr. Krakauer to explore acupuncture and homeopathy. \nShe completed a four year homeopathy program in 2000 and opened the Roving Veterinary Housecall Service. “Homeopathy has enriched my life beyond what I would have imagined\, and has given me tools that have confirmed my belief that deep healing is always possible.” Dr Krakauer recently re-located to Slocan BC. \nRegister
URL:https://vaccinechoicecanada.com/event/vcc-cha-live-wednesday-guest-dr-shuli-krakauer/
CATEGORIES:Live Guests
ORGANIZER;CN="Vaccine Choice Canada":MAILTO:info@vaccinechoicecanada.com
END:VEVENT
BEGIN:VEVENT
DTSTART;TZID=America/Toronto:20230525T190000
DTEND;TZID=America/Toronto:20230525T190000
DTSTAMP:20260423T062259
CREATED:20230501T182109Z
LAST-MODIFIED:20230609T153942Z
UID:31068-1685041200-1685041200@vaccinechoicecanada.com
SUMMARY:VCC Live Thursday - Open Discussion
DESCRIPTION:Join us to catch up with each other and share stories of action and encouragement. Our Thursday Open Discussion takes place the second and fourth Thursday of every month. \nRegister
URL:https://vaccinechoicecanada.com/event/vcc-live-thursday-open-discussion-2/
CATEGORIES:Open Discussions
ORGANIZER;CN="Vaccine Choice Canada":MAILTO:info@vaccinechoicecanada.com
END:VEVENT
BEGIN:VEVENT
DTSTART;TZID=America/Vancouver:20230131T190000
DTEND;TZID=America/Vancouver:20230131T200000
DTSTAMP:20260423T062259
CREATED:20230113T212229Z
LAST-MODIFIED:20230301T194607Z
UID:23340-1675191600-1675195200@vaccinechoicecanada.com
SUMMARY:VCC Live Tue - Open Discussion
DESCRIPTION:Join us to catch up with each other and share stories of action and encouragement. Our Tuesday Open Discussion takes place weekly. \nRegister
URL:https://vaccinechoicecanada.com/event/vcc-live-tue-open-discussion-7/
CATEGORIES:Open Discussions
ORGANIZER;CN="Vaccine Choice Canada":MAILTO:info@vaccinechoicecanada.com
END:VEVENT
BEGIN:VEVENT
DTSTART;TZID=America/Toronto:20230531T190000
DTEND;TZID=America/Toronto:20230531T200000
DTSTAMP:20260423T062259
CREATED:20230523T193357Z
LAST-MODIFIED:20230609T153940Z
UID:31618-1685559600-1685563200@vaccinechoicecanada.com
SUMMARY:VCC-CHA Live Wednesday - Guest: Dr. James Lyons-Weiler\, PhD
DESCRIPTION:New Study Confirms Unvaccinated Children Healthier Than Vaccinated\n \nDr. James Lyons-Weiler\, PhD is a research scientist\, author and educator. He is the founder of IPAK\, Institute for Pure and Applied Knowledge and IPAK-EDU which offers courses on-line in the belief that “our collective future depends on educated\, informed and active citizens.” As an advocate for public trust in science\, Dr Lyons-Weiler has been vocal in his criticism of public health policies\, especially regarding vaccination. His newly published research supports the conclusion of the 2020 study by Dr Paul Thomas showing that unvaccinated children are healthier than vaccinated children. \nhttps://jameslyonsweiler.com/\nhttps://popularrationalism.substack.com/\nhttps://ipak-edu.org/\nhttps://ipaknowledge.org/ \nRegister
URL:https://vaccinechoicecanada.com/event/vcc-cha-live-wednesday-guest-dr-james-lyons-weiler-phd/
CATEGORIES:Live Guests
ORGANIZER;CN="Vaccine Choice Canada":MAILTO:info@vaccinechoicecanada.com
END:VEVENT
END:VCALENDAR