BEGIN:VCALENDAR
VERSION:2.0
PRODID:-//Vaccine Choice Canada - ECPv6.12.0.1//NONSGML v1.0//EN
CALSCALE:GREGORIAN
METHOD:PUBLISH
X-WR-CALNAME:Vaccine Choice Canada
X-ORIGINAL-URL:https://vaccinechoicecanada.com
X-WR-CALDESC:Events for Vaccine Choice Canada
REFRESH-INTERVAL;VALUE=DURATION:PT1H
X-Robots-Tag:noindex
X-PUBLISHED-TTL:PT1H
BEGIN:VTIMEZONE
TZID:America/Toronto
BEGIN:DAYLIGHT
TZOFFSETFROM:-0500
TZOFFSETTO:-0400
TZNAME:EDT
DTSTART:20250309T070000
END:DAYLIGHT
BEGIN:STANDARD
TZOFFSETFROM:-0400
TZOFFSETTO:-0500
TZNAME:EST
DTSTART:20251102T060000
END:STANDARD
END:VTIMEZONE
BEGIN:VEVENT
DTSTART;TZID=America/Toronto:20250923T200000
DTEND;TZID=America/Toronto:20250923T210000
DTSTAMP:20260419T064045
CREATED:20250911T205540Z
LAST-MODIFIED:20250911T211356Z
UID:43672-1758657600-1758661200@vaccinechoicecanada.com
SUMMARY:VCC-CHA Live Tue - Guests: Shawn & Teresa Buckley
DESCRIPTION:The Health Charter Tour and The World’s Greatest Health Show\nWith Guests: Shawn and Teresa Buckley\nIf you want to protect your access to natural health products\, including\, supplements\, herbs and homeopathic medicines\, don’t miss this interview with Shawn and Teresa Buckley. They will be outlining two important Natural Health Product Protection Association initiatives: The Health Charter Tour as it travels to Ottawa and The World’s Greatest Health Show. These will protect our right to choose natural approaches to healthcare and demonstrate their true value to Canadians. Join us to learn about the benefits of the Charter of Health Freedom and how you can get involved. \nWebsite: https://nhppa.org/health-charter-tour/ \nVideo: https://youtu.be/4br411sMHS4 \nDonate: https://nhppa.org/donate/ \nRegister
URL:https://vaccinechoicecanada.com/event/vcc-cha-live-tue-guests-shawn-teresa-buckley/
CATEGORIES:Live Guests
ORGANIZER;CN="Vaccine Choice Canada":MAILTO:info@vaccinechoicecanada.com
END:VEVENT
END:VCALENDAR