BEGIN:VCALENDAR
VERSION:2.0
PRODID:-//Vaccine Choice Canada - ECPv6.12.0.1//NONSGML v1.0//EN
CALSCALE:GREGORIAN
METHOD:PUBLISH
X-WR-CALNAME:Vaccine Choice Canada
X-ORIGINAL-URL:https://vaccinechoicecanada.com
X-WR-CALDESC:Events for Vaccine Choice Canada
REFRESH-INTERVAL;VALUE=DURATION:PT1H
X-Robots-Tag:noindex
X-PUBLISHED-TTL:PT1H
BEGIN:VTIMEZONE
TZID:America/Vancouver
BEGIN:DAYLIGHT
TZOFFSETFROM:-0800
TZOFFSETTO:-0700
TZNAME:PDT
DTSTART:20250309T100000
END:DAYLIGHT
BEGIN:STANDARD
TZOFFSETFROM:-0700
TZOFFSETTO:-0800
TZNAME:PST
DTSTART:20251102T090000
END:STANDARD
END:VTIMEZONE
BEGIN:VEVENT
DTSTART;TZID=America/Vancouver:20250403T190000
DTEND;TZID=America/Vancouver:20250403T200000
DTSTAMP:20260419T133953
CREATED:20250303T151414Z
LAST-MODIFIED:20250321T165949Z
UID:42180-1743706800-1743710400@vaccinechoicecanada.com
SUMMARY:VCC Live Thu - Open Discussions Have Been Halted for Now
DESCRIPTION:Open Discussion Meetings\nDue to the competing demands for time and effort\, we have decided to suspend our Open Discussion meetings being held on Thursday evenings. We encourage you to develop your own in-person open discussion groups. This deepens your knowledge of current situations\, and strengthens your relationships. We will revisit continuing the open meetings in the Fall.
URL:https://vaccinechoicecanada.com/event/vcc-live-thu-open-discussion-meeting-pacific-time-3/
CATEGORIES:Open Discussions
ORGANIZER;CN="Vaccine Choice Canada":MAILTO:info@vaccinechoicecanada.com
END:VEVENT
END:VCALENDAR